{"text_format":"1","workbook":"xlsx","n_sheets":11,"sheets":["データ移動","１００ｍ","80MH","持久走","ボール投げ","走高跳","走幅跳","リレー","ソート作業","成績一覧表","選手一覧表"],"not_rendered":{"charts":0,"images":1,"macros":1,"external_links":1,"defined_names":3,"comments":0,"pivot_tables":0},"unopened":[],"bounds":{"document_bytes":16777216,"sheet_cells":100000,"rows_first":2000,"rows_last":500,"rows_between":2000,"halvings":0,"cell_chars":16384,"cell_head_chars":4096},"cells_cut":0,"cells_raw":0,"read":"whole","date_system":"1900"}

{"sheet":"データ移動","index":0,"n_rows":19,"n_cols":8,"rows_kept":19,"cut":false,"hidden":true,"merged":[[1,2,1,3],[18,7,18,10],[1,5,1,10]]}
[]
[null,"平成",28,null,"年度","鯖江市小学校連合体育大会"]
[]
[false]
[0]
[0]
[0]
[0]
[0]
[0]
[0]
[0]
[0]
[false]
[0]
[0]
[]
[]
[null,null,null,null,null,null,null,"鯖江市小学校連合体育大会事務局"]

{"sheet":"１００ｍ","index":1,"n_rows":62,"n_cols":44,"rows_kept":62,"cut":false,"hidden":false,"merged":[[25,3,25,4],[25,5,25,6],[26,3,26,4],[26,5,26,6],[0,0,0,10],[24,3,24,4],[24,5,24,6],[22,2,22,8],[32,3,32,4],[32,5,32,6],[29,3,29,4],[29,5,29,6],[30,3,30,4],[30,5,30,6],[26,16,26,17],[27,14,27,15],[31,3,31,4],[31,5,31,6],[27,3,27,4],[27,5,27,6],[28,3,28,4],[28,5,28,6],[29,14,29,15],[29,16,29,17],[28,14,28,15],[28,16,28,17],[34,0,34,10],[0,11,0,21],[22,13,22,19],[24,14,24,15],[24,16,24,17],[25,14,25,15],[25,16,25,17],[26,14,26,15],[32,14,32,15],[32,16,32,17],[31,14,31,15],[31,16,31,17],[27,16,27,17],[34,11,34,21],[30,14,30,15],[30,16,30,17],[0,22,0,32],[22,24,22,30],[24,25,24,26],[24,27,24,28],[25,25,25,26],[25,27,25,28],[27,27,27,28],[28,25,28,26],[28,27,28,28],[32,25,32,26],[32,27,32,28],[29,25,29,26],[29,27,29,28],[30,25,30,26],[26,36,26,37],[26,38,26,39],[27,36,27,37],[31,25,31,26],[31,27,31,28],[26,25,26,26],[30,36,30,37],[30,38,30,39],[31,36,31,37],[27,38,27,39],[28,36,28,37],[28,38,28,39],[29,36,29,37],[29,38,29,39],[26,27,26,28],[27,25,27,26],[34,22,34,32],[30,27,30,28],[32,36,32,37],[32,38,32,39],[34,33,34,43],[31,38,31,39],[0,33,0,43],[22,35,22,41],[24,36,24,37],[24,38,24,39],[25,36,25,37],[25,38,25,39]]}
["【５年男子　１００ｍ走】",null,null,null,null,null,null,null,null,null,null,"【５年女子　１００ｍ走】",null,null,null,null,null,null,null,null,null,null,"【６年男子　１００ｍ走】",null,null,null,null,null,null,null,null,null,null,"【６年女子　１００ｍ走】"]
[]
["Ａ","氏　　  名","学　校","記　　録","順位",null,"Ｂ","氏　　  名","学　校","記　　録","順位","Ａ","氏　　  名","学　校","記　　録","順位",null,"Ｂ","氏　　  名","学　校","記　　録","順位","Ａ","氏　　  名","学　校","記　　録","順位",null,"Ｂ","氏　　  名","学　校","記　　録","順位","Ａ","氏　　  名","学　校","記　　録","順位",null,"Ｂ","氏　　  名","学　校","記　　録","順位"]
[1,{"$f":"選手一覧表!E14","v":"山内脩誠"},{"$f":"IF(選手一覧表!E14=0,\"\",選手一覧表!F14)","v":"北中山"},15.91,{"$f":"IF(D4=\"\",\"\",RANK(D4,$D$4:$D$11,1))","v":7},null,1,{"$f":"選手一覧表!H14","v":"福島悠太"},{"$f":"IF(選手一覧表!H14=0,\"\",選手一覧表!I14)","v":"片　上"},16.100000000000001,{"$f":"IF(J4=\"\",\"\",RANK(J4,$J$4:$J$11,1))","v":7},1,{"$f":"選手一覧表!E6","v":"小野夏紀"},{"$f":"IF(選手一覧表!E6=0,\"\",選手一覧表!F6)","v":"中　河"},16.2,{"$f":"IF(O4=\"\",\"\",RANK(O4,$O$4:$O$11,1))","v":5},null,1,{"$f":"選手一覧表!H6","v":"井上祐佳"},{"$f":"IF(選手一覧表!H6=0,\"\",選手一覧表!I6)","v":"河和田"},15.1,{"$f":"IF(U4=\"\",\"\",RANK(U4,$U$4:$U$11,1))","v":1},1,{"$f":"選手一覧表!E30","v":"金粕武尊"},{"$f":"IF(選手一覧表!E30=0,\"\",選手一覧表!F30)","v":"北中山"},14.1,{"$f":"IF(Z4=\"\",\"\",RANK(Z4,$Z$4:$Z$11,1))","v":1},null,1,{"$f":"選手一覧表!H30","v":"片岡勇登"},{"$f":"IF(選手一覧表!H30=0,\"\",選手一覧表!I30)","v":"鳥　羽"},13.6,{"$f":"IF(AF4=\"\",\"\",RANK(AF4,$AF$4:$AF$11,1))","v":1},1,{"$f":"選手一覧表!E22","v":"西村緋那理"},{"$f":"IF(選手一覧表!E22=0,\"\",選手一覧表!F22)","v":"立　待"},15,{"$f":"IF(AK4=\"\",\"\",RANK(AK4,$AK$4:$AK$11,1))","v":1},null,1,{"$f":"選手一覧表!H22","v":"山本素良伽"},{"$f":"IF(選手一覧表!H22=0,\"\",選手一覧表!I22)","v":"惜　陰"},16.5,{"$f":"IF(AQ4=\"\",\"\",RANK(AQ4,$AQ$4:$AQ$11,1))","v":8}]
[2,{"$f":"選手一覧表!E15","v":"上大門良樹"},{"$f":"IF(選手一覧表!E15=0,\"\",選手一覧表!F15)","v":"中　河"},16.3,{"$f":"IF(D5=\"\",\"\",RANK(D5,$D$4:$D$11,1))","v":8},null,2,{"$f":"選手一覧表!H15","v":"田中優斗"},{"$f":"IF(選手一覧表!H15=0,\"\",選手一覧表!I15)","v":"惜　陰"},14.8,{"$f":"IF(J5=\"\",\"\",RANK(J5,$J$4:$J$11,1))","v":2},2,{"$f":"選手一覧表!E7","v":"上田那奈"},{"$f":"IF(選手一覧表!E7=0,\"\",選手一覧表!F7)","v":" 豊 "},16.399999999999999,{"$f":"IF(O5=\"\",\"\",RANK(O5,$O$4:$O$11,1))","v":7},null,2,{"$f":"選手一覧表!H7","v":"林愛莉"},{"$f":"IF(選手一覧表!H7=0,\"\",選手一覧表!I7)","v":"立　待"},16.3,{"$f":"IF(U5=\"\",\"\",RANK(U5,$U$4:$U$11,1))","v":5},2,{"$f":"選手一覧表!E31","v":"田中晴"},{"$f":"IF(選手一覧表!E31=0,\"\",選手一覧表!F31)","v":"片　上"},15.81,{"$f":"IF(Z5=\"\",\"\",RANK(Z5,$Z$4:$Z$11,1))","v":8},null,2,{"$f":"選手一覧表!H31","v":"岩壁優汰"},{"$f":"IF(選手一覧表!H31=0,\"\",選手一覧表!I31)","v":"鯖江東"},15.51,{"$f":"IF(AF5=\"\",\"\",RANK(AF5,$AF$4:$AF$11,1))","v":7},2,{"$f":"選手一覧表!E23","v":"安田奈央"},{"$f":"IF(選手一覧表!E23=0,\"\",選手一覧表!F23)","v":"片　上"},16,{"$f":"IF(AK5=\"\",\"\",RANK(AK5,$AK$4:$AK$11,1))","v":5},null,2,{"$f":"選手一覧表!H23","v":"幸川詩奈"},{"$f":"IF(選手一覧表!H23=0,\"\",選手一覧表!I23)","v":"神　明"},16.2,{"$f":"IF(AQ5=\"\",\"\",RANK(AQ5,$AQ$4:$AQ$11,1))","v":6}]
[3,{"$f":"選手一覧表!E16","v":"齋藤修成"},{"$f":"IF(選手一覧表!E16=0,\"\",選手一覧表!F16)","v":"鯖江東"},14.7,1,null,3,{"$f":"選手一覧表!H16","v":"山崎 敏輝"},{"$f":"IF(選手一覧表!H16=0,\"\",選手一覧表!I16)","v":"吉　川"},15.51,5,3,{"$f":"選手一覧表!E8","v":"吉田帆麻里"},{"$f":"IF(選手一覧表!E8=0,\"\",選手一覧表!F8)","v":"鳥　羽"},14.9,1,null,3,{"$f":"選手一覧表!H8","v":"田代愛莉"},{"$f":"IF(選手一覧表!H8=0,\"\",選手一覧表!I8)","v":"北中山"},16.600000000000001,8,3,{"$f":"選手一覧表!E32","v":"戸谷聡汰"},{"$f":"IF(選手一覧表!E32=0,\"\",選手一覧表!F32)","v":" 豊 "},15.8,7,null,3,{"$f":"選手一覧表!H32","v":"河合　陽一"},{"$f":"IF(選手一覧表!H32=0,\"\",選手一覧表!I32)","v":"進　徳"},14.01,3,3,{"$f":"選手一覧表!E24","v":"清水　舞優"},{"$f":"IF(選手一覧表!E24=0,\"\",選手一覧表!F24)","v":"吉　川"},15.6,2,null,3,{"$f":"選手一覧表!H24","v":"道屋愛菜"},{"$f":"IF(選手一覧表!H24=0,\"\",選手一覧表!I24)","v":"河和田"},15.8,3]
[4,{"$f":"選手一覧表!E17","v":"建石大和"},{"$f":"IF(選手一覧表!E17=0,\"\",選手一覧表!F17)","v":"鳥　羽"},15.31,4,null,4,{"$f":"選手一覧表!H17","v":"平田　海智"},{"$f":"IF(選手一覧表!H17=0,\"\",選手一覧表!I17)","v":"進　徳"},15.3,3,4,{"$f":"選手一覧表!E9","v":"牧野 綺羅"},{"$f":"IF(選手一覧表!E9=0,\"\",選手一覧表!F9)","v":"吉　川"},16.3,6,null,4,{"$f":"選手一覧表!H9","v":"髙橋優香"},{"$f":"IF(選手一覧表!H9=0,\"\",選手一覧表!I9)","v":"惜　陰"},16.100000000000001,4,4,{"$f":"選手一覧表!E33","v":"谷口康介"},{"$f":"IF(選手一覧表!E33=0,\"\",選手一覧表!F33)","v":"河和田"},14.4,2,null,4,{"$f":"選手一覧表!H33","v":"竹嶋樹生"},{"$f":"IF(選手一覧表!H33=0,\"\",選手一覧表!I33)","v":"中　河"},15.9,8,4,{"$f":"選手一覧表!E25","v":"山本晏"},{"$f":"IF(選手一覧表!E25=0,\"\",選手一覧表!F25)","v":"鳥　羽"},15.61,3,null,4,{"$f":"選手一覧表!H25","v":"丸田琴音"},{"$f":"IF(選手一覧表!H25=0,\"\",選手一覧表!I25)","v":"鯖江東"},15.5,2]
[5,{"$f":"選手一覧表!E18","v":"落井優稀"},{"$f":"IF(選手一覧表!E18=0,\"\",選手一覧表!F18)","v":"神　明"},15,3,null,5,{"$f":"選手一覧表!H18","v":"笠島隼矢"},{"$f":"IF(選手一覧表!H18=0,\"\",選手一覧表!I18)","v":"立　待"},15.5,4,5,{"$f":"選手一覧表!E10","v":"田村寧々"},{"$f":"IF(選手一覧表!E10=0,\"\",選手一覧表!F10)","v":"片　上"},17.7,8,null,5,{"$f":"選手一覧表!H10","v":"林ことな"},{"$f":"IF(選手一覧表!H10=0,\"\",選手一覧表!I10)","v":"中　河"},16.5,7,5,{"$f":"選手一覧表!E34","v":"高野真采"},{"$f":"IF(選手一覧表!E34=0,\"\",選手一覧表!F34)","v":"惜　陰"},15.6,6,null,5,{"$f":"選手一覧表!H34","v":"山本虎輝"},{"$f":"IF(選手一覧表!H34=0,\"\",選手一覧表!I34)","v":"神　明"},14,2,5,{"$f":"選手一覧表!E26","v":"原　日鶴"},{"$f":"IF(選手一覧表!E26=0,\"\",選手一覧表!F26)","v":"進　徳"},15.9,4,null,5,{"$f":"選手一覧表!H26","v":"加藤　愛結"},{"$f":"IF(選手一覧表!H26=0,\"\",選手一覧表!I26)","v":"吉　川"},14.8,1]
[6,{"$f":"選手一覧表!E19","v":"山下悠磨"},{"$f":"IF(選手一覧表!E19=0,\"\",選手一覧表!F19)","v":" 豊 "},14.8,2,null,6,{"$f":"選手一覧表!H19","v":"木村 聡寛"},{"$f":"IF(選手一覧表!H19=0,\"\",選手一覧表!I19)","v":"河和田"},16.7,8,6,{"$f":"選手一覧表!E11","v":"山岸あかり"},{"$f":"IF(選手一覧表!E11=0,\"\",選手一覧表!F11)","v":"鯖江東"},15.6,2,null,6,{"$f":"選手一覧表!H11","v":"揚原　桃花"},{"$f":"IF(選手一覧表!H11=0,\"\",選手一覧表!I11)","v":"進　徳"},15.6,2,6,{"$f":"選手一覧表!E35","v":"北道巧真"},{"$f":"IF(選手一覧表!E35=0,\"\",選手一覧表!F35)","v":"立　待"},14.9,4,null,6,{"$f":"選手一覧表!H35","v":"佐々木学道"},{"$f":"IF(選手一覧表!H35=0,\"\",選手一覧表!I35)","v":"河和田"},14.11,5,6,{"$f":"選手一覧表!E27","v":"黒田紅葉"},{"$f":"IF(選手一覧表!E27=0,\"\",選手一覧表!F27)","v":"北中山"},16.309999999999999,7,null,6,{"$f":"選手一覧表!H27","v":"高橋こころ"},{"$f":"IF(選手一覧表!H27=0,\"\",選手一覧表!I27)","v":"北中山"},16,5]
[7,{"$f":"選手一覧表!E20","v":"中村嘉宏"},{"$f":"IF(選手一覧表!E20=0,\"\",選手一覧表!F20)","v":"立　待"},15.9,6,null,7,{"$f":"選手一覧表!H20","v":"中川貴空"},{"$f":"IF(選手一覧表!H20=0,\"\",選手一覧表!I20)","v":"鯖江東"},14.2,1,7,{"$f":"選手一覧表!E12","v":"古谷果音"},{"$f":"IF(選手一覧表!E12=0,\"\",選手一覧表!F12)","v":"神　明"},16.100000000000001,4,null,7,{"$f":"選手一覧表!H12","v":"黒田美優"},{"$f":"IF(選手一覧表!H12=0,\"\",選手一覧表!I12)","v":"神　明"},15.8,3,7,{"$f":"選手一覧表!E36","v":"金平"},{"$f":"IF(選手一覧表!E36=0,\"\",選手一覧表!F36)","v":"神　明"},14.5,3,null,7,{"$f":"選手一覧表!H36","v":"山田広明"},{"$f":"IF(選手一覧表!H36=0,\"\",選手一覧表!I36)","v":"北中山"},14.1,4,7,{"$f":"選手一覧表!E28","v":"黒田百合恵"},{"$f":"IF(選手一覧表!E28=0,\"\",選手一覧表!F28)","v":" 豊 "},16.600000000000001,8,null,7,{"$f":"選手一覧表!H28","v":"瀧波　奈々"},{"$f":"IF(選手一覧表!H28=0,\"\",選手一覧表!I28)","v":"進　徳"},15.9,4]
[8,{"$f":"選手一覧表!E21","v":"多田大志"},{"$f":"IF(選手一覧表!E21=0,\"\",選手一覧表!F21)","v":"河和田"},15.4,5,null,8,{"$f":"選手一覧表!H21","v":"品川次郎"},{"$f":"IF(選手一覧表!H21=0,\"\",選手一覧表!I21)","v":"中　河"},15.7,6,8,{"$f":"選手一覧表!E13","v":"田辺　雪乃"},{"$f":"IF(選手一覧表!E13=0,\"\",選手一覧表!F13)","v":"進　徳"},15.9,3,null,8,{"$f":"選手一覧表!H13","v":"片岡志菜"},{"$f":"IF(選手一覧表!H13=0,\"\",選手一覧表!I13)","v":" 豊 "},16.399999999999999,6,8,{"$f":"選手一覧表!E37","v":"久島　陽"},{"$f":"IF(選手一覧表!E37=0,\"\",選手一覧表!F37)","v":"吉　川"},15.5,5,null,8,{"$f":"選手一覧表!H37","v":"坂下　一斗"},{"$f":"IF(選手一覧表!H37=0,\"\",選手一覧表!I37)","v":"吉　川"},15.5,6,8,{"$f":"選手一覧表!E29","v":"橋本一夏"},{"$f":"IF(選手一覧表!E29=0,\"\",選手一覧表!F29)","v":"中　河"},16.3,6,null,8,{"$f":"選手一覧表!H29","v":"齋藤鈴夏"},{"$f":"IF(選手一覧表!H29=0,\"\",選手一覧表!I29)","v":"中　河"},16.21,7]
[]
["Ｃ","氏　　  名","学　校","記　　録","順位",null,null,"決勝進出抽選","学校",null,null,"Ｃ","氏　　  名","学　校","記　　録","順位",null,null,"決勝進出抽選","学校",null,null,"Ｃ","氏　　  名","学　校","記　　録","順位",null,null,"決勝進出抽選","学校",null,null,"Ｃ","氏　　  名","学　校","記　　録","順位",null,null,"決勝進出抽選","学校"]
[1,{"$f":"選手一覧表!K14","v":"橋本泰平"},{"$f":"IF(選手一覧表!K14=0,\"\",選手一覧表!L14)","v":"神　明"},14.6,{"$f":"IF(D14=\"\",\"\",RANK(D14,$D$14:$D$21,1))","v":1},null,null,"建石大和","鳥羽",null,null,1,{"$f":"選手一覧表!K6","v":"高間穂奈美"},{"$f":"IF(選手一覧表!K6=0,\"\",選手一覧表!L6)","v":"立　待"},17,{"$f":"IF(O14=\"\",\"\",RANK(O14,$O$14:$O$21,1))","v":8},null,null,null,null,null,null,1,{"$f":"選手一覧表!K30","v":"森田結翔"},{"$f":"IF(選手一覧表!K30=0,\"\",選手一覧表!L30)","v":"鯖江東"},14.8,{"$f":"IF(Z14=\"\",\"\",RANK(Z14,$Z$14:$Z$21,1))","v":4},null,null,null,null,null,null,1,{"$f":"選手一覧表!K22","v":"齋藤楓花"},{"$f":"IF(選手一覧表!K22=0,\"\",選手一覧表!L22)","v":"鯖江東"},15.4,{"$f":"IF(AK14=\"\",\"\",RANK(AK14,$AK$14:$AK$21,1))","v":2}]
[2,{"$f":"選手一覧表!K15","v":"黒田劉夷"},{"$f":"IF(選手一覧表!K15=0,\"\",選手一覧表!L15)","v":"片　上"},16.600000000000001,{"$f":"IF(D15=\"\",\"\",RANK(D15,$D$14:$D$21,1))","v":8},null,null,"平田海智","進徳",null,null,2,{"$f":"選手一覧表!K7","v":"内田莉子"},{"$f":"IF(選手一覧表!K7=0,\"\",選手一覧表!L7)","v":"河和田"},16.2,{"$f":"IF(O15=\"\",\"\",RANK(O15,$O$14:$O$21,1))","v":3},null,null,null,null,null,null,2,{"$f":"選手一覧表!K31","v":"川江凜太郎"},{"$f":"IF(選手一覧表!K31=0,\"\",選手一覧表!L31)","v":"鳥　羽"},14.3,{"$f":"IF(Z15=\"\",\"\",RANK(Z15,$Z$14:$Z$21,1))","v":2},null,null,null,null,null,null,2,{"$f":"選手一覧表!K23","v":"助田夕夏"},{"$f":"IF(選手一覧表!K23=0,\"\",選手一覧表!L23)","v":"惜　陰"},16.2,{"$f":"IF(AK15=\"\",\"\",RANK(AK15,$AK$14:$AK$21,1))","v":8}]
[3,{"$f":"選手一覧表!K16","v":"濵野孝教"},{"$f":"IF(選手一覧表!K16=0,\"\",選手一覧表!L16)","v":"惜　陰"},14.8,2,null,null,"福岡匠海","北中山",null,null,3,{"$f":"選手一覧表!K8","v":"杉原歩佳"},{"$f":"IF(選手一覧表!K8=0,\"\",選手一覧表!L8)","v":"片　上"},16.600000000000001,6,null,null,null,null,null,null,3,{"$f":"選手一覧表!K32","v":"山田圭悟"},{"$f":"IF(選手一覧表!K32=0,\"\",選手一覧表!L32)","v":"中　河"},15.6,7,null,null,null,null,null,null,3,{"$f":"選手一覧表!K24","v":"池上亜季"},{"$f":"IF(選手一覧表!K24=0,\"\",選手一覧表!L24)","v":" 豊 "},15.41,3]
[4,{"$f":"選手一覧表!K17","v":"樫原丈太郎"},{"$f":"IF(選手一覧表!K17=0,\"\",選手一覧表!L17)","v":" 豊 "},15.8,5,null,null,null,null,null,null,4,{"$f":"選手一覧表!K9","v":"吉田名瑠"},{"$f":"IF(選手一覧表!K9=0,\"\",選手一覧表!L9)","v":"鯖江東"},15.2,1,null,null,null,null,null,null,4,{"$f":"選手一覧表!K33","v":"富山輝空"},{"$f":"IF(選手一覧表!K33=0,\"\",選手一覧表!L33)","v":"立　待"},14.5,3,null,null,null,null,null,null,4,{"$f":"選手一覧表!K25","v":"内田杏実"},{"$f":"IF(選手一覧表!K25=0,\"\",選手一覧表!L25)","v":"河和田"},16.100000000000001,6]
[5,{"$f":"選手一覧表!K18","v":"福岡匠海"},{"$f":"IF(選手一覧表!K18=0,\"\",選手一覧表!L18)","v":"北中山"},15.31,3,null,null,"敢闘賞　選手","学校",null,null,5,{"$f":"選手一覧表!K10","v":"齋藤可恋"},{"$f":"IF(選手一覧表!K10=0,\"\",選手一覧表!L10)","v":"鳥　羽"},15.7,2,null,null,"敢闘賞　選手","学校",null,null,5,{"$f":"選手一覧表!K34","v":"川上空大"},{"$f":"IF(選手一覧表!K34=0,\"\",選手一覧表!L34)","v":" 豊 "},14,1,null,null,"敢闘賞　選手","学校",null,null,5,{"$f":"選手一覧表!K26","v":"紫阿南"},{"$f":"IF(選手一覧表!K26=0,\"\",選手一覧表!L26)","v":"立　待"},14.6,1,null,null,"敢闘賞　選手","学校"]
[6,{"$f":"選手一覧表!K19","v":"横村晴"},{"$f":"IF(選手一覧表!K19=0,\"\",選手一覧表!L19)","v":"鳥　羽"},16.010000000000002,7,null,null,"建石大和","鳥羽",null,null,6,{"$f":"選手一覧表!K11","v":"元井 深友"},{"$f":"IF(選手一覧表!K11=0,\"\",選手一覧表!L11)","v":"吉　川"},16.309999999999999,5,null,null,null,null,null,null,6,{"$f":"選手一覧表!K35","v":"熊野　月音"},{"$f":"IF(選手一覧表!K35=0,\"\",選手一覧表!L35)","v":"進　徳"},15.4,6,null,null,null,null,null,null,6,{"$f":"選手一覧表!K27","v":"城山心那"},{"$f":"IF(選手一覧表!K27=0,\"\",選手一覧表!L27)","v":"鳥　羽"},15.8,4]
[7,{"$f":"選手一覧表!K20","v":"飯島　大翔"},{"$f":"IF(選手一覧表!K20=0,\"\",選手一覧表!L20)","v":"進　徳"},16,6,null,null,"福岡匠海","北中山",null,null,7,{"$f":"選手一覧表!K12","v":"飯田美樹"},{"$f":"IF(選手一覧表!K12=0,\"\",選手一覧表!L12)","v":"惜　陰"},16.7,7,null,null,null,null,null,null,7,{"$f":"選手一覧表!K36","v":"渡邉健斗"},{"$f":"IF(選手一覧表!K36=0,\"\",選手一覧表!L36)","v":"惜　陰"},14.81,5,null,null,null,null,null,null,7,{"$f":"選手一覧表!K28","v":"吉澤万桜"},{"$f":"IF(選手一覧表!K28=0,\"\",選手一覧表!L28)","v":"神　明"},16.11,7]
[8,{"$f":"選手一覧表!K21","v":"澤野 凌駕"},{"$f":"IF(選手一覧表!K21=0,\"\",選手一覧表!L21)","v":"吉　川"},15.6,4,null,null,null,null,null,null,8,{"$f":"選手一覧表!K13","v":"村岡佑霞"},{"$f":"IF(選手一覧表!K13=0,\"\",選手一覧表!L13)","v":"北中山"},16.3,4,null,null,null,null,null,null,8,{"$f":"選手一覧表!K37","v":"中出颯空"},{"$f":"IF(選手一覧表!K37=0,\"\",選手一覧表!L37)","v":"片　上"},16.100000000000001,8,null,null,null,null,null,null,8,{"$f":"選手一覧表!K29","v":"清水葵生"},{"$f":"IF(選手一覧表!K29=0,\"\",選手一覧表!L29)","v":"片　上"},15.9,5]
[]
[null,null,"≪５年男子１００Ｍ決勝≫",null,null,null,null,null,null,null,null,null,null,"≪５年女子１００Ｍ決勝≫",null,null,null,null,null,null,null,null,null,null,"≪６年男子１００Ｍ決勝≫",null,null,null,null,null,null,null,null,null,null,"≪６年女子１００Ｍ決勝≫"]
[]
[null,null,"レーン","氏　　　　　名",null,"学 校",null,"記　　録","順位",null,null,null,null,"レーン","氏　　　　　名",null,"学 校",null,"記　　録","順位",null,null,null,null,"レーン","氏　　　　　名",null,"学 校",null,"記　　録","順位",null,null,null,null,"レーン","氏　　　　　名",null,"学 校",null,"記　　録","順位"]
[null,7,1,{"$f":"VLOOKUP(B26,$A$39:$D$46,2)","v":"落井優稀"},null,{"$f":"VLOOKUP(B26,$A$39:$D$46,3)","v":"神　明"},null,14.8,{"$f":"IF(H26=\"\",\"\",RANK(H26,$H$26:$H$33,1))","v":7},null,null,null,7,1,{"$f":"VLOOKUP(M26,$L$39:$N$46,2)","v":"黒田美優"},null,{"$f":"VLOOKUP(M26,$L$39:$N$46,3)","v":"神　明"},null,15.6,{"$f":"IF(S26=\"\",\"\",RANK(S26,$S$26:$S$33,1))","v":5},null,null,null,7,1,{"$f":"VLOOKUP(X26,$W$39:$Y$46,2)","v":"佐々木学道"},null,{"$f":"VLOOKUP(X26,$W$39:$Y$46,3)","v":"河和田"},null,14.21,{"$f":"IF(AD26=\"\",\"\",RANK(AD26,$AD$26:$AD$33,1))","v":7},null,null,null,7,1,{"$f":"VLOOKUP(AI26,$AH$39:$AJ$46,2)","v":"清水　舞優"},null,{"$f":"VLOOKUP(AI26,$AH$39:$AJ$46,3)","v":"吉　川"},null,15.3,{"$f":"IF(AO26=\"\",\"\",RANK(AO26,$AO$26:$AO$33,1))","v":7}]
[null,5,2,{"$f":"VLOOKUP(B27,$A$39:$D$46,2)","v":"田中優斗"},null,{"$f":"VLOOKUP(B27,$A$39:$D$46,3)","v":"惜　陰"},null,14.4,{"$f":"IF(H27=\"\",\"\",RANK(H27,$H$26:$H$33,1))","v":5},null,null,null,5,2,{"$f":"VLOOKUP(M27,$L$39:$N$46,2)","v":"揚原　桃花"},null,{"$f":"VLOOKUP(M27,$L$39:$N$46,3)","v":"進　徳"},null,15.5,{"$f":"IF(S27=\"\",\"\",RANK(S27,$S$26:$S$33,1))","v":4},null,null,null,5,2,{"$f":"VLOOKUP(X27,$W$39:$Y$46,2)","v":"山田広明"},null,{"$f":"VLOOKUP(X27,$W$39:$Y$46,3)","v":"北中山"},null,13.8,{"$f":"IF(AD27=\"\",\"\",RANK(AD27,$AD$26:$AD$33,1))","v":3},null,null,null,5,2,{"$f":"VLOOKUP(AI27,$AH$39:$AJ$46,2)","v":"池上亜季"},null,{"$f":"VLOOKUP(AI27,$AH$39:$AJ$46,3)","v":" 豊 "},null,15.1,{"$f":"IF(AO27=\"\",\"\",RANK(AO27,$AO$26:$AO$33,1))","v":5}]
[null,3,3,"齋藤修成",null,"鯖江東",null,14.31,3,null,null,null,3,3,"吉田名瑠",null,"鯖江東",null,15,3,null,null,null,3,3,"川上空大",null," 豊 ",null,13.9,4,null,null,null,3,3,"西村緋那理",null,"立　待",null,14.8,3]
[null,1,4,"中川貴空",null,"鯖江東",null,14.1,1,null,null,null,1,4,"吉田帆麻里",null,"鳥　羽",null,14.9,1,null,null,null,1,4,"片岡勇登",null,"鳥　羽",null,13.3,1,null,null,null,1,4,"紫阿南",null,"立　待",null,14.1,1]
[null,2,5,"橋本泰平",null,"神　明",null,14.3,2,null,null,null,2,5,"井上祐佳",null,"河和田",null,14.91,2,null,null,null,2,5,"山本虎輝",null,"神　明",null,13.7,2,null,null,null,2,5,"加藤　愛結",null,"吉　川",null,14.4,2]
[null,4,6,"濵野孝教",null,"惜　陰",null,14.32,4,null,null,null,4,6,"山岸あかり",null,"鯖江東",null,20,8,null,null,null,4,6,"河合　陽一",null,"進　徳",null,14,5,null,null,null,4,6,"齋藤楓花",null,"鯖江東",null,15,4]
[null,6,7,"山下悠磨",null," 豊 ",null,14.5,6,null,null,null,6,7,"齋藤可恋",null,"鳥　羽",null,15.7,6,null,null,null,6,7,"金粕武尊",null,"北中山",null,14.2,6,null,null,null,6,7,"丸田琴音",null,"鯖江東",null,15.2,6]
[null,8,8,"平田　海智",null,"進　徳",null,15,8,null,null,null,8,8,"田辺　雪乃",null,"進　徳",null,15.71,7,null,null,null,8,8,"川江凜太郎",null,"鳥　羽",null,14.3,8,null,null,null,8,8,"山本晏",null,"鳥　羽",null,15.5,8]
[]
["-20-",null,null,null,null,null,null,null,null,null,null,"-21-",null,null,null,null,null,null,null,null,null,null,"-22-",null,null,null,null,null,null,null,null,null,null,"-23-"]
[]
[]
["順","氏名","学校","記録",null,null,null,null,null,null,null,"順","氏名","学校","記録",null,null,null,null,null,null,null,"順","氏名","学校","記録",null,null,null,null,null,null,null,"順","氏名","学校","記録"]
[1,{"$f":"$H$10","v":"中川貴空"},{"$f":"$I$10","v":"鯖江東"},{"$f":"$J$10","v":14.2},null,null,null,null,null,null,null,1,{"$f":"$M$6","v":"吉田帆麻里"},{"$f":"$N$6","v":"鳥　羽"},{"$f":"$O$6","v":14.9},null,null,null,null,null,null,null,1,{"$f":"$AD$4","v":"片岡勇登"},{"$f":"$AE$4","v":"鳥　羽"},{"$f":"$AF$4","v":13.6},null,null,null,null,null,null,null,1,{"$f":"$AI$18","v":"紫阿南"},{"$f":"$AJ$18","v":"立　待"},{"$f":"$AK$18","v":14.6}]
[2,{"$f":"$B$14","v":"橋本泰平"},{"$f":"$C$14","v":"神　明"},{"$f":"$D$14","v":14.6},null,null,null,null,null,null,null,2,{"$f":"$S$4","v":"井上祐佳"},{"$f":"$T$4","v":"河和田"},{"$f":"$U$4","v":15.1},null,null,null,null,null,null,null,2,{"$f":"$AD$8","v":"山本虎輝"},{"$f":"$AE$8","v":"神　明"},{"$f":"$AF$8","v":14},null,null,null,null,null,null,null,2,{"$f":"$AO$8","v":"加藤　愛結"},{"$f":"$AP$8","v":"吉　川"},{"$f":"$AQ$8","v":14.8}]
[3,{"$f":"$B$6","v":"齋藤修成"},{"$f":"$C$6","v":"鯖江東"},{"$f":"$D$6","v":14.7},null,null,null,null,null,null,null,3,{"$f":"$M$17","v":"吉田名瑠"},{"$f":"$N$17","v":"鯖江東"},{"$f":"$O$17","v":15.2},null,null,null,null,null,null,null,3,{"$f":"$X$18","v":"川上空大"},{"$f":"$Y$18","v":" 豊 "},{"$f":"$Z$18","v":14},null,null,null,null,null,null,null,3,{"$f":"$AI$4","v":"西村緋那理"},{"$f":"$AJ$4","v":"立　待"},{"$f":"$AK$4","v":15}]
[4,{"$f":"$B$16","v":"濵野孝教"},{"$f":"$C$16","v":"惜　陰"},{"$f":"$D$16","v":14.8},null,null,null,null,null,null,null,4,{"$f":"$M$9","v":"山岸あかり"},{"$f":"$N$9","v":"鯖江東"},{"$f":"$O$9","v":15.6},null,null,null,null,null,null,null,4,{"$f":"$AD$6","v":"河合　陽一"},{"$f":"$AE$6","v":"進　徳"},{"$f":"$AF$6","v":14.01},null,null,null,null,null,null,null,4,{"$f":"$AI$14","v":"齋藤楓花"},{"$f":"$AJ$14","v":"鯖江東"},{"$f":"$AK$14","v":15.4}]
[5,{"$f":"$H$5","v":"田中優斗"},{"$f":"$I$5","v":"惜　陰"},{"$f":"$J$5","v":14.8},null,null,null,null,null,null,null,5,{"$f":"$S$9","v":"揚原　桃花"},{"$f":"$T$9","v":"進　徳"},{"$f":"$U$9","v":15.6},null,null,null,null,null,null,null,5,{"$f":"$AD$10","v":"山田広明"},{"$f":"$AE$10","v":"北中山"},{"$f":"$AF$10","v":14.1},null,null,null,null,null,null,null,5,{"$f":"$AI$16","v":"池上亜季"},{"$f":"$AJ$16","v":" 豊 "},{"$f":"$AK$16","v":15.41}]
[6,{"$f":"$B$9","v":"山下悠磨"},{"$f":"$C$9","v":" 豊 "},{"$f":"$D$9","v":14.8},null,null,null,null,null,null,null,6,{"$f":"$M$18","v":"齋藤可恋"},{"$f":"$N$18","v":"鳥　羽"},{"$f":"$O$18","v":15.7},null,null,null,null,null,null,null,6,{"$f":"$X$4","v":"金粕武尊"},{"$f":"$Y$4","v":"北中山"},{"$f":"$Z$4","v":14.1},null,null,null,null,null,null,null,6,{"$f":"$AO$7","v":"丸田琴音"},{"$f":"$AP$7","v":"鯖江東"},{"$f":"$AQ$7","v":15.5}]
[7,{"$f":"$B$8","v":"落井優稀"},{"$f":"$C$8","v":"神　明"},{"$f":"$D$8","v":15},null,null,null,null,null,null,null,7,{"$f":"$S$10","v":"黒田美優"},{"$f":"$T$10","v":"神　明"},{"$f":"$U$10","v":15.8},null,null,null,null,null,null,null,7,{"$f":"$AD$9","v":"佐々木学道"},{"$f":"$AE$9","v":"河和田"},{"$f":"$AF$9","v":14.11},null,null,null,null,null,null,null,7,{"$f":"$AI$6","v":"清水　舞優"},{"$f":"$AJ$6","v":"吉　川"},{"$f":"$AK$6","v":15.6}]
[8,{"$f":"$H$7","v":"平田　海智"},{"$f":"$I$7","v":"進　徳"},{"$f":"$J$7","v":15.3},null,null,null,null,null,null,null,8,{"$f":"$M$11","v":"田辺　雪乃"},{"$f":"$N$11","v":"進　徳"},{"$f":"$O$11","v":15.9},null,null,null,null,null,null,null,8,{"$f":"$X$15","v":"川江凜太郎"},{"$f":"$Y$15","v":"鳥　羽"},{"$f":"$Z$15","v":14.3},null,null,null,null,null,null,null,8,{"$f":"$AI$7","v":"山本晏"},{"$f":"$AJ$7","v":"鳥　羽"},{"$f":"$AK$7","v":15.61}]
[9,{"$f":"$B$7","v":"建石大和"},{"$f":"$C$7","v":"鳥　羽"},{"$f":"$D$7","v":15.31},null,null,null,null,null,null,null,9,{"$f":"$M$10","v":"古谷果音"},{"$f":"$N$10","v":"神　明"},{"$f":"$O$10","v":16.100000000000001},null,null,null,null,null,null,null,9,{"$f":"$X$7","v":"谷口康介"},{"$f":"$Y$7","v":"河和田"},{"$f":"$Z$7","v":14.4},null,null,null,null,null,null,null,9,{"$f":"$AO$6","v":"道屋愛菜"},{"$f":"$AP$6","v":"河和田"},{"$f":"$AQ$6","v":15.8}]
[10,{"$f":"$B$18","v":"福岡匠海"},{"$f":"$C$18","v":"北中山"},{"$f":"$D$18","v":15.31},null,null,null,null,null,null,null,10,{"$f":"$S$7","v":"髙橋優香"},{"$f":"$T$7","v":"惜　陰"},{"$f":"$U$7","v":16.100000000000001},null,null,null,null,null,null,null,10,{"$f":"$X$17","v":"富山輝空"},{"$f":"$Y$17","v":"立　待"},{"$f":"$Z$17","v":14.5},null,null,null,null,null,null,null,10,{"$f":"$AI$19","v":"城山心那"},{"$f":"$AJ$19","v":"鳥　羽"},{"$f":"$AK$19","v":15.8}]
[11,{"$f":"$B$11","v":"多田大志"},{"$f":"$C$11","v":"河和田"},{"$f":"$D$11","v":15.4},null,null,null,null,null,null,null,11,{"$f":"$M$15","v":"内田莉子"},{"$f":"$N$15","v":"河和田"},{"$f":"$O$15","v":16.2},null,null,null,null,null,null,null,11,{"$f":"$X$10","v":"金平"},{"$f":"$Y$10","v":"神　明"},{"$f":"$Z$10","v":14.5},null,null,null,null,null,null,null,11,{"$f":"$AO$10","v":"瀧波　奈々"},{"$f":"$AP$10","v":"進　徳"},{"$f":"$AQ$10","v":15.9}]
[12,{"$f":"$H$8","v":"笠島隼矢"},{"$f":"$I$8","v":"立　待"},{"$f":"$J$8","v":15.5},null,null,null,null,null,null,null,12,{"$f":"$M$4","v":"小野夏紀"},{"$f":"$N$4","v":"中　河"},{"$f":"$O$4","v":16.2},null,null,null,null,null,null,null,12,{"$f":"$X$14","v":"森田結翔"},{"$f":"$Y$14","v":"鯖江東"},{"$f":"$Z$14","v":14.8},null,null,null,null,null,null,null,12,{"$f":"$AI$21","v":"清水葵生"},{"$f":"$AJ$21","v":"片　上"},{"$f":"$AK$21","v":15.9}]
[13,{"$f":"$H$6","v":"山崎 敏輝"},{"$f":"$I$6","v":"吉　川"},{"$f":"$J$6","v":15.51},null,null,null,null,null,null,null,13,{"$f":"$S$5","v":"林愛莉"},{"$f":"$T$5","v":"立　待"},{"$f":"$U$5","v":16.3},null,null,null,null,null,null,null,13,{"$f":"$X$20","v":"渡邉健斗"},{"$f":"$Y$20","v":"惜　陰"},{"$f":"$Z$20","v":14.81},null,null,null,null,null,null,null,13,{"$f":"$AI$8","v":"原　日鶴"},{"$f":"$AJ$8","v":"進　徳"},{"$f":"$AK$8","v":15.9}]
[14,{"$f":"$B$21","v":"澤野 凌駕"},{"$f":"$C$21","v":"吉　川"},{"$f":"$D$21","v":15.6},null,null,null,null,null,null,null,14,{"$f":"$M$21","v":"村岡佑霞"},{"$f":"$N$21","v":"北中山"},{"$f":"$O$21","v":16.3},null,null,null,null,null,null,null,14,{"$f":"$X$9","v":"北道巧真"},{"$f":"$Y$9","v":"立　待"},{"$f":"$Z$9","v":14.9},null,null,null,null,null,null,null,14,{"$f":"$AI$5","v":"安田奈央"},{"$f":"$AJ$5","v":"片　上"},{"$f":"$AK$5","v":16}]
[15,{"$f":"$H$11","v":"品川次郎"},{"$f":"$I$11","v":"中　河"},{"$f":"$J$11","v":15.7},null,null,null,null,null,null,null,15,{"$f":"$M$7","v":"牧野 綺羅"},{"$f":"$N$7","v":"吉　川"},{"$f":"$O$7","v":16.3},null,null,null,null,null,null,null,15,{"$f":"$X$19","v":"熊野　月音"},{"$f":"$Y$19","v":"進　徳"},{"$f":"$Z$19","v":15.4},null,null,null,null,null,null,null,15,{"$f":"$AO$9","v":"高橋こころ"},{"$f":"$AP$9","v":"北中山"},{"$f":"$AQ$9","v":16}]
[16,{"$f":"$B$17","v":"樫原丈太郎"},{"$f":"$C$17","v":" 豊 "},{"$f":"$D$17","v":15.8},null,null,null,null,null,null,null,16,{"$f":"$M$19","v":"元井 深友"},{"$f":"$N$19","v":"吉　川"},{"$f":"$O$19","v":16.309999999999999},null,null,null,null,null,null,null,16,{"$f":"$AD$11","v":"坂下　一斗"},{"$f":"$AE$11","v":"吉　川"},{"$f":"$AF$11","v":15.5},null,null,null,null,null,null,null,16,{"$f":"$AI$17","v":"内田杏実"},{"$f":"$AJ$17","v":"河和田"},{"$f":"$AK$17","v":16.100000000000001}]
[17,{"$f":"$B$10","v":"中村嘉宏"},{"$f":"$C$10","v":"立　待"},{"$f":"$D$10","v":15.9},null,null,null,null,null,null,null,17,{"$f":"$M$5","v":"上田那奈"},{"$f":"$N$5","v":" 豊 "},{"$f":"$O$5","v":16.399999999999999},null,null,null,null,null,null,null,17,{"$f":"$X$11","v":"久島　陽"},{"$f":"$Y$11","v":"吉　川"},{"$f":"$Z$11","v":15.5},null,null,null,null,null,null,null,17,{"$f":"$AI$20","v":"吉澤万桜"},{"$f":"$AJ$20","v":"神　明"},{"$f":"$AK$20","v":16.11}]
[18,{"$f":"$B$4","v":"山内脩誠"},{"$f":"$C$4","v":"北中山"},{"$f":"$D$4","v":15.91},null,null,null,null,null,null,null,18,{"$f":"$S$11","v":"片岡志菜"},{"$f":"$T$11","v":" 豊 "},{"$f":"$U$11","v":16.399999999999999},null,null,null,null,null,null,null,18,{"$f":"$AD$5","v":"岩壁優汰"},{"$f":"$AE$5","v":"鯖江東"},{"$f":"$AF$5","v":15.51},null,null,null,null,null,null,null,18,{"$f":"$AI$15","v":"助田夕夏"},{"$f":"$AJ$15","v":"惜　陰"},{"$f":"$AK$15","v":16.2}]
[19,{"$f":"$B$20","v":"飯島　大翔"},{"$f":"$C$20","v":"進　徳"},{"$f":"$D$20","v":16},null,null,null,null,null,null,null,19,{"$f":"$S$8","v":"林ことな"},{"$f":"$T$8","v":"中　河"},{"$f":"$U$8","v":16.5},null,null,null,null,null,null,null,19,{"$f":"$X$16","v":"山田圭悟"},{"$f":"$Y$16","v":"中　河"},{"$f":"$Z$16","v":15.6},null,null,null,null,null,null,null,19,{"$f":"$AO$5","v":"幸川詩奈"},{"$f":"$AP$5","v":"神　明"},{"$f":"$AQ$5","v":16.2}]
[20,{"$f":"$B$19","v":"横村晴"},{"$f":"$C$19","v":"鳥　羽"},{"$f":"$D$19","v":16.010000000000002},null,null,null,null,null,null,null,20,{"$f":"$S$6","v":"田代愛莉"},{"$f":"$T$6","v":"北中山"},{"$f":"$U$6","v":16.600000000000001},null,null,null,null,null,null,null,20,{"$f":"$X$8","v":"高野真采"},{"$f":"$Y$8","v":"惜　陰"},{"$f":"$Z$8","v":15.6},null,null,null,null,null,null,null,20,{"$f":"$AO$11","v":"齋藤鈴夏"},{"$f":"$AP$11","v":"中　河"},{"$f":"$AQ$11","v":16.21}]
[21,{"$f":"$H$4","v":"福島悠太"},{"$f":"$I$4","v":"片　上"},{"$f":"$J$4","v":16.100000000000001},null,null,null,null,null,null,null,21,{"$f":"$M$16","v":"杉原歩佳"},{"$f":"$N$16","v":"片　上"},{"$f":"$O$16","v":16.600000000000001},null,null,null,null,null,null,null,21,{"$f":"$X$6","v":"戸谷聡汰"},{"$f":"$Y$6","v":" 豊 "},{"$f":"$Z$6","v":15.8},null,null,null,null,null,null,null,21,{"$f":"$AI$11","v":"橋本一夏"},{"$f":"$AJ$11","v":"中　河"},{"$f":"$AK$11","v":16.3}]
[22,{"$f":"$B$5","v":"上大門良樹"},{"$f":"$C$5","v":"中　河"},{"$f":"$D$5","v":16.3},null,null,null,null,null,null,null,22,{"$f":"$M$20","v":"飯田美樹"},{"$f":"$N$20","v":"惜　陰"},{"$f":"$O$20","v":16.7},null,null,null,null,null,null,null,22,{"$f":"$X$5","v":"田中晴"},{"$f":"$Y$5","v":"片　上"},{"$f":"$Z$5","v":15.81},null,null,null,null,null,null,null,22,{"$f":"$AI$9","v":"黒田紅葉"},{"$f":"$AJ$9","v":"北中山"},{"$f":"$AK$9","v":16.309999999999999}]
[23,{"$f":"$B$15","v":"黒田劉夷"},{"$f":"$C$15","v":"片　上"},{"$f":"$D$15","v":16.600000000000001},null,null,null,null,null,null,null,23,{"$f":"$M$14","v":"高間穂奈美"},{"$f":"$N$14","v":"立　待"},{"$f":"$O$14","v":17},null,null,null,null,null,null,null,23,{"$f":"$AD$7","v":"竹嶋樹生"},{"$f":"$AE$7","v":"中　河"},{"$f":"$AF$7","v":15.9},null,null,null,null,null,null,null,23,{"$f":"$AO$4","v":"山本素良伽"},{"$f":"$AP$4","v":"惜　陰"},{"$f":"$AQ$4","v":16.5}]
[24,{"$f":"$H$9","v":"木村 聡寛"},{"$f":"$I$9","v":"河和田"},{"$f":"$J$9","v":16.7},null,null,null,null,null,null,null,24,{"$f":"$M$8","v":"田村寧々"},{"$f":"$N$8","v":"片　上"},{"$f":"$O$8","v":17.7},null,null,null,null,null,null,null,24,{"$f":"$X$21","v":"中出颯空"},{"$f":"$Y$21","v":"片　上"},{"$f":"$Z$21","v":16.100000000000001},null,null,null,null,null,null,null,24,{"$f":"$AI$10","v":"黒田百合恵"},{"$f":"$AJ$10","v":" 豊 "},{"$f":"$AK$10","v":16.600000000000001}]

{"sheet":"80MH","index":2,"n_rows":62,"n_cols":44,"rows_kept":62,"cut":false,"hidden":false,"merged":[[22,2,22,8],[22,13,22,19],[22,24,22,30],[22,35,22,41],[0,0,0,10],[0,11,0,21],[0,22,0,32],[0,33,0,43],[24,25,24,26],[24,27,24,28],[24,36,24,37],[24,38,24,39],[24,3,24,4],[24,5,24,6],[24,14,24,15],[24,16,24,17],[25,25,25,26],[25,27,25,28],[25,36,25,37],[25,38,25,39],[25,3,25,4],[25,5,25,6],[25,14,25,15],[25,16,25,17],[26,25,26,26],[26,27,26,28],[26,36,26,37],[26,38,26,39],[26,3,26,4],[26,5,26,6],[26,14,26,15],[26,16,26,17],[27,25,27,26],[27,27,27,28],[27,36,27,37],[27,38,27,39],[27,3,27,4],[27,5,27,6],[27,14,27,15],[27,16,27,17],[28,25,28,26],[28,27,28,28],[28,36,28,37],[28,38,28,39],[28,3,28,4],[28,5,28,6],[28,14,28,15],[28,16,28,17],[29,25,29,26],[29,27,29,28],[29,36,29,37],[29,38,29,39],[29,3,29,4],[29,5,29,6],[29,14,29,15],[29,16,29,17],[30,36,30,37],[30,38,30,39],[30,3,30,4],[30,5,30,6],[30,14,30,15],[30,16,30,17],[30,27,30,28],[31,3,31,4],[31,5,31,6],[31,14,31,15],[31,16,31,17],[30,25,30,26],[31,38,31,39],[34,0,34,10],[34,11,34,21],[34,22,34,32],[34,33,34,43],[32,25,32,26],[32,27,32,28],[32,36,32,37],[32,38,32,39],[32,3,32,4],[32,5,32,6],[32,14,32,15],[32,16,32,17],[31,25,31,26],[31,27,31,28],[31,36,31,37]]}
["【５年男子　80ｍＨ走】",null,null,null,null,null,null,null,null,null,null,"【５年女子　80ｍＨ走】",null,null,null,null,null,null,null,null,null,null,"【６年男子　80ｍＨ走】",null,null,null,null,null,null,null,null,null,null,"【６年女子　80ｍＨ走】"]
[]
["Ａ","氏　　  名","学　校","記　　録","順位",null,"Ｂ","氏　　  名","学　校","記　　録","順位","Ａ","氏　　  名","学　校","記　　録","順位",null,"Ｂ","氏　　  名","学　校","記　　録","順位","Ａ","氏　　  名","学　校","記　　録","順位",null,"Ｂ","氏　　  名","学　校","記　　録","順位","Ａ","氏　　  名","学　校","記　　録","順位",null,"Ｂ","氏　　  名","学　校","記　　録","順位"]
[1,{"$f":"選手一覧表!E46","v":"細川皓成"},{"$f":"IF(選手一覧表!E46=0,\"\",選手一覧表!F46)","v":"鯖江東"},15.5,{"$f":"IF(D4=\"\",\"\",RANK(D4,$D$4:$D$11,1))","v":1},null,1,{"$f":"選手一覧表!H46","v":"黒田啓介"},{"$f":"IF(選手一覧表!H46=0,\"\",選手一覧表!I46)","v":"北中山"},17,{"$f":"IF(J4=\"\",\"\",RANK(J4,$J$4:$J$11,1))","v":2},1,{"$f":"選手一覧表!E38","v":"尾武華蓮"},{"$f":"IF(選手一覧表!E38=0,\"\",選手一覧表!F38)","v":"立　待"},18.5,{"$f":"IF(O4=\"\",\"\",RANK(O4,$O$4:$O$11,1))","v":2},null,1,{"$f":"選手一覧表!H38","v":"片岡志菜"},{"$f":"IF(選手一覧表!H38=0,\"\",選手一覧表!I38)","v":" 豊 "},18.600000000000001,{"$f":"IF(U4=\"\",\"\",RANK(U4,$U$4:$U$11,1))","v":4},1,{"$f":"選手一覧表!E62","v":"牧野由憲"},{"$f":"IF(選手一覧表!E62=0,\"\",選手一覧表!F62)","v":" 豊 "},21,{"$f":"IF(Z4=\"\",\"\",RANK(Z4,$Z$4:$Z$11,1))","v":8},null,1,{"$f":"選手一覧表!H62","v":"山口了生"},{"$f":"IF(選手一覧表!H62=0,\"\",選手一覧表!I62)","v":"片　上"},15.6,{"$f":"IF(AF4=\"\",\"\",RANK(AF4,$AF$4:$AF$11,1))","v":4},1,{"$f":"選手一覧表!E54","v":"西村栞"},{"$f":"IF(選手一覧表!E54=0,\"\",選手一覧表!F54)","v":"立　待"},16.3,{"$f":"IF(AK4=\"\",\"\",RANK(AK4,$AK$4:$AK$11,1))","v":2},null,1,{"$f":"選手一覧表!H54","v":"福田来羽"},{"$f":"IF(選手一覧表!H54=0,\"\",選手一覧表!I54)","v":"片　上"},17.600000000000001,{"$f":"IF(AQ4=\"\",\"\",RANK(AQ4,$AQ$4:$AQ$11,1))","v":6}]
[2,{"$f":"選手一覧表!E47","v":"土田淳士"},{"$f":"IF(選手一覧表!E47=0,\"\",選手一覧表!F47)","v":"河和田"},17.2,{"$f":"IF(D5=\"\",\"\",RANK(D5,$D$4:$D$11,1))","v":4},null,2,{"$f":"選手一覧表!H47","v":"勝木獅堂"},{"$f":"IF(選手一覧表!H47=0,\"\",選手一覧表!I47)","v":"神　明"},18.5,{"$f":"IF(J5=\"\",\"\",RANK(J5,$J$4:$J$11,1))","v":7},2,{"$f":"選手一覧表!E39","v":"石塚咲季"},{"$f":"IF(選手一覧表!E39=0,\"\",選手一覧表!F39)","v":"北中山"},19.3,{"$f":"IF(O5=\"\",\"\",RANK(O5,$O$4:$O$11,1))","v":3},null,2,{"$f":"選手一覧表!H39","v":"齋藤可恋"},{"$f":"IF(選手一覧表!H39=0,\"\",選手一覧表!I39)","v":"鳥　羽"},17.809999999999999,{"$f":"IF(U5=\"\",\"\",RANK(U5,$U$4:$U$11,1))","v":3},2,{"$f":"選手一覧表!E63","v":"土合　章太"},{"$f":"IF(選手一覧表!E63=0,\"\",選手一覧表!F63)","v":"吉　川"},14.5,{"$f":"IF(Z5=\"\",\"\",RANK(Z5,$Z$4:$Z$11,1))","v":1},null,2,{"$f":"選手一覧表!H63","v":"吉田圭悟"},{"$f":"IF(選手一覧表!H63=0,\"\",選手一覧表!I63)","v":"河和田"},15.7,{"$f":"IF(AF5=\"\",\"\",RANK(AF5,$AF$4:$AF$11,1))","v":5},2,{"$f":"選手一覧表!E55","v":"岩尾　春花"},{"$f":"IF(選手一覧表!E55=0,\"\",選手一覧表!F55)","v":"進　徳"},16.510000000000002,{"$f":"IF(AK5=\"\",\"\",RANK(AK5,$AK$4:$AK$11,1))","v":3},null,2,{"$f":"選手一覧表!H55","v":"飯田瑞紀"},{"$f":"IF(選手一覧表!H55=0,\"\",選手一覧表!I55)","v":"中　河"},16.3,{"$f":"IF(AQ5=\"\",\"\",RANK(AQ5,$AQ$4:$AQ$11,1))","v":4}]
[3,{"$f":"選手一覧表!E48","v":"村岡飛翔"},{"$f":"IF(選手一覧表!E48=0,\"\",選手一覧表!F48)","v":" 豊 "},17.8,5,null,3,{"$f":"選手一覧表!H48","v":"建石大和"},{"$f":"IF(選手一覧表!H48=0,\"\",選手一覧表!I48)","v":"鳥　羽"},16.8,1,3,{"$f":"選手一覧表!E40","v":"德本仁菜"},{"$f":"IF(選手一覧表!E40=0,\"\",選手一覧表!F40)","v":"神　明"},20.399999999999999,7,null,3,{"$f":"選手一覧表!H40","v":"出口　愛子"},{"$f":"IF(選手一覧表!H40=0,\"\",選手一覧表!I40)","v":"進　徳"},20.8,7,3,{"$f":"選手一覧表!E64","v":"青木大良"},{"$f":"IF(選手一覧表!E64=0,\"\",選手一覧表!F64)","v":"北中山"},17.5,7,null,3,{"$f":"選手一覧表!H64","v":"片岡勇登"},{"$f":"IF(選手一覧表!H64=0,\"\",選手一覧表!I64)","v":"鳥　羽"},13.4,1,3,{"$f":"選手一覧表!E56","v":"髙木夢果"},{"$f":"IF(選手一覧表!E56=0,\"\",選手一覧表!F56)","v":"北中山"},18.8,7,null,3,{"$f":"選手一覧表!H56","v":"田中奈菜"},{"$f":"IF(選手一覧表!H56=0,\"\",選手一覧表!I56)","v":"神　明"},15.7,3]
[4,{"$f":"選手一覧表!E49","v":"有馬魁兜"},{"$f":"IF(選手一覧表!E49=0,\"\",選手一覧表!F49)","v":"立　待"},15.52,3,null,4,{"$f":"選手一覧表!H49","v":"田中 琉世"},{"$f":"IF(選手一覧表!H49=0,\"\",選手一覧表!I49)","v":"吉　川"},18.2,5,4,{"$f":"選手一覧表!E41","v":"林ことな"},{"$f":"IF(選手一覧表!E41=0,\"\",選手一覧表!F41)","v":"中　河"},19.899999999999999,5,null,4,{"$f":"選手一覧表!H41","v":"清水凜"},{"$f":"IF(選手一覧表!H41=0,\"\",選手一覧表!I41)","v":"河和田"},19.399999999999999,6,4,{"$f":"選手一覧表!E65","v":"水野　俊"},{"$f":"IF(選手一覧表!E65=0,\"\",選手一覧表!F65)","v":"進　徳"},14.9,3,null,4,{"$f":"選手一覧表!H65","v":"赤川草太"},{"$f":"IF(選手一覧表!H65=0,\"\",選手一覧表!I65)","v":"神　明"},16,6,4,{"$f":"選手一覧表!E57","v":"窪田彩佑"},{"$f":"IF(選手一覧表!E57=0,\"\",選手一覧表!F57)","v":"惜　陰"},17.600000000000001,5,null,4,{"$f":"選手一覧表!H57","v":"笠原夕楽"},{"$f":"IF(選手一覧表!H57=0,\"\",選手一覧表!I57)","v":"鯖江東"},17.7,8]
[5,{"$f":"選手一覧表!E50","v":"小林宗揮"},{"$f":"IF(選手一覧表!E50=0,\"\",選手一覧表!F50)","v":"惜　陰"},15.51,2,null,5,{"$f":"選手一覧表!H50","v":"三田村駿"},{"$f":"IF(選手一覧表!H50=0,\"\",選手一覧表!I50)","v":" 豊 "},18,4,5,{"$f":"選手一覧表!E42","v":0},{"$f":"IF(選手一覧表!E42=0,\"\",選手一覧表!F42)","v":""},50,8,null,5,{"$f":"選手一覧表!H42","v":"千田さゆり"},{"$f":"IF(選手一覧表!H42=0,\"\",選手一覧表!I42)","v":"立　待"},17.8,2,5,{"$f":"選手一覧表!E66","v":"上木龍二"},{"$f":"IF(選手一覧表!E66=0,\"\",選手一覧表!F66)","v":"鯖江東"},14.6,2,null,5,{"$f":"選手一覧表!H66","v":"岩原　陽"},{"$f":"IF(選手一覧表!H66=0,\"\",選手一覧表!I66)","v":" 豊 "},16.010000000000002,7,5,{"$f":"選手一覧表!E58","v":"田辺　栞"},{"$f":"IF(選手一覧表!E58=0,\"\",選手一覧表!F58)","v":" 豊 "},17.899999999999999,6,null,5,{"$f":"選手一覧表!H58","v":"岸上花"},{"$f":"IF(選手一覧表!H58=0,\"\",選手一覧表!I58)","v":"立　待"},14.4,1]
[6,{"$f":"選手一覧表!E51","v":"大門千速"},{"$f":"IF(選手一覧表!E51=0,\"\",選手一覧表!F51)","v":"中　河"},19.8,7,null,6,{"$f":"選手一覧表!H51","v":"廣瀬 颯大"},{"$f":"IF(選手一覧表!H51=0,\"\",選手一覧表!I51)","v":"河和田"},18.3,6,6,{"$f":"選手一覧表!E43","v":"馬場友里菜"},{"$f":"IF(選手一覧表!E43=0,\"\",選手一覧表!F43)","v":"鯖江東"},19.8,4,null,6,{"$f":"選手一覧表!H43","v":"山岸あかり"},{"$f":"IF(選手一覧表!H43=0,\"\",選手一覧表!I43)","v":"鯖江東"},50,8,6,{"$f":"選手一覧表!E67","v":"横瀨颯太"},{"$f":"IF(選手一覧表!E67=0,\"\",選手一覧表!F67)","v":"立　待"},15.1,4,null,6,{"$f":"選手一覧表!H67","v":"大北陸"},{"$f":"IF(選手一覧表!H67=0,\"\",選手一覧表!I67)","v":"中　河"},16.5,8,6,{"$f":"選手一覧表!E59","v":"田村祐佳"},{"$f":"IF(選手一覧表!E59=0,\"\",選手一覧表!F59)","v":"鳥　羽"},16.8,4,null,6,{"$f":"選手一覧表!H59","v":"丸田　菜摘"},{"$f":"IF(選手一覧表!H59=0,\"\",選手一覧表!I59)","v":"進　徳"},16.510000000000002,5]
[7,{"$f":"選手一覧表!E52","v":"熊野　陽仁"},{"$f":"IF(選手一覧表!E52=0,\"\",選手一覧表!F52)","v":"進　徳"},23.5,8,null,7,{"$f":"選手一覧表!H52","v":"一島聡一郎"},{"$f":"IF(選手一覧表!H52=0,\"\",選手一覧表!I52)","v":"進　徳"},17.600000000000001,3,7,{"$f":"選手一覧表!E44","v":"上野 晏沙歌"},{"$f":"IF(選手一覧表!E44=0,\"\",選手一覧表!F44)","v":"吉　川"},20.2,6,null,7,{"$f":"選手一覧表!H44","v":"出水彩花"},{"$f":"IF(選手一覧表!H44=0,\"\",選手一覧表!I44)","v":"片　上"},18.7,5,7,{"$f":"選手一覧表!E68","v":"田中康晴"},{"$f":"IF(選手一覧表!E68=0,\"\",選手一覧表!F68)","v":"惜　陰"},15.4,6,null,7,{"$f":"選手一覧表!H68","v":"山内一稀"},{"$f":"IF(選手一覧表!H68=0,\"\",選手一覧表!I68)","v":"鯖江東"},15.4,3,7,{"$f":"選手一覧表!E60","v":"田邉　花怜"},{"$f":"IF(選手一覧表!E60=0,\"\",選手一覧表!F60)","v":"吉　川"},20.100000000000001,8,null,7,{"$f":"選手一覧表!H60","v":"徳橋美咲"},{"$f":"IF(選手一覧表!H60=0,\"\",選手一覧表!I60)","v":" 豊 "},15.1,2]
[8,{"$f":"選手一覧表!E53","v":"川上輝人"},{"$f":"IF(選手一覧表!E53=0,\"\",選手一覧表!F53)","v":"片　上"},18.100000000000001,6,null,8,{"$f":"選手一覧表!H53","v":"木林凱飛"},{"$f":"IF(選手一覧表!H53=0,\"\",選手一覧表!I53)","v":"中　河"},18.8,8,8,{"$f":"選手一覧表!E45","v":"冨樫陽菜"},{"$f":"IF(選手一覧表!E45=0,\"\",選手一覧表!F45)","v":"惜　陰"},17.399999999999999,1,null,8,{"$f":"選手一覧表!H45","v":"髙橋優香"},{"$f":"IF(選手一覧表!H45=0,\"\",選手一覧表!I45)","v":"惜　陰"},17.7,1,8,{"$f":"選手一覧表!E69","v":"竹嶋樹生"},{"$f":"IF(選手一覧表!E69=0,\"\",選手一覧表!F69)","v":"中　河"},15.11,5,null,8,{"$f":"選手一覧表!H69","v":"前田　達輝"},{"$f":"IF(選手一覧表!H69=0,\"\",選手一覧表!I69)","v":"進　徳"},14.9,2,8,{"$f":"選手一覧表!E61","v":"増永安莉"},{"$f":"IF(選手一覧表!E61=0,\"\",選手一覧表!F61)","v":"河和田"},15.8,1,null,8,{"$f":"選手一覧表!H61","v":"遠野琴菜"},{"$f":"IF(選手一覧表!H61=0,\"\",選手一覧表!I61)","v":"惜　陰"},17.61,7]
[]
["Ｃ","氏　　  名","学　校","記　　録","順位",null,null,"決勝進出抽選","学校",null,null,"Ｃ","氏　　  名","学　校","記　　録","順位",null,null,"決勝進出抽選","学校",null,null,"Ｃ","氏　　  名","学　校","記　　録","順位",null,null,"決勝進出抽選","学校",null,null,"Ｃ","氏　　  名","学　校","記　　録","順位",null,null,"決勝進出抽選","学校"]
[1,{"$f":"選手一覧表!K46","v":"細田遼"},{"$f":"IF(選手一覧表!K46=0,\"\",選手一覧表!L46)","v":"鯖江東"},16.2,{"$f":"IF(D14=\"\",\"\",RANK(D14,$D$14:$D$21,1))","v":2},null,null,null,null,null,null,1,{"$f":"選手一覧表!K38","v":"加藤 みわ"},{"$f":"IF(選手一覧表!K38=0,\"\",選手一覧表!L38)","v":"吉　川"},18.5,{"$f":"IF(O14=\"\",\"\",RANK(O14,$O$14:$O$21,1))","v":6},null,null,null,null,null,null,1,{"$f":"選手一覧表!K62","v":"村島恭矢"},{"$f":"IF(選手一覧表!K62=0,\"\",選手一覧表!L62)","v":"神　明"},13.1,{"$f":"IF(Z14=\"\",\"\",RANK(Z14,$Z$14:$Z$21,1))","v":1},null,null,null,null,null,null,1,{"$f":"選手一覧表!K54","v":"望月心晴"},{"$f":"IF(選手一覧表!K54=0,\"\",選手一覧表!L54)","v":"鯖江東"},16.5,{"$f":"IF(AK14=\"\",\"\",RANK(AK14,$AK$14:$AK$21,1))","v":2},null,null,"岩尾春花","進徳"]
[2,{"$f":"選手一覧表!K47","v":"佐野陸"},{"$f":"IF(選手一覧表!K47=0,\"\",選手一覧表!L47)","v":"鳥　羽"},17.100000000000001,{"$f":"IF(D15=\"\",\"\",RANK(D15,$D$14:$D$21,1))","v":5},null,null,null,null,null,null,2,{"$f":"選手一覧表!K39","v":"大塚凜"},{"$f":"IF(選手一覧表!K39=0,\"\",選手一覧表!L39)","v":"中　河"},17.3,{"$f":"IF(O15=\"\",\"\",RANK(O15,$O$14:$O$21,1))","v":2},null,null,null,null,null,null,2,{"$f":"選手一覧表!K63","v":"齋藤周汰"},{"$f":"IF(選手一覧表!K63=0,\"\",選手一覧表!L63)","v":"立　待"},15,{"$f":"IF(Z15=\"\",\"\",RANK(Z15,$Z$14:$Z$21,1))","v":6},null,null,null,null,null,null,2,{"$f":"選手一覧表!K55","v":"加藤ひめ乃"},{"$f":"IF(選手一覧表!K55=0,\"\",選手一覧表!L55)","v":"鳥　羽"},18.2,{"$f":"IF(AK15=\"\",\"\",RANK(AK15,$AK$14:$AK$21,1))","v":7},null,null,"丸田菜摘","進徳"]
[3,{"$f":"選手一覧表!K48","v":"木野太陽"},{"$f":"IF(選手一覧表!K48=0,\"\",選手一覧表!L48)","v":"惜　陰"},16.7,4,null,null,null,null,null,null,3,{"$f":"選手一覧表!K40","v":"佐々木千奈"},{"$f":"IF(選手一覧表!K40=0,\"\",選手一覧表!L40)","v":"神　明"},18.8,7,null,null,null,null,null,null,3,{"$f":"選手一覧表!K64","v":"冨田大翔"},{"$f":"IF(選手一覧表!K64=0,\"\",選手一覧表!L64)","v":"河和田"},14.8,5,null,null,null,null,null,null,3,{"$f":"選手一覧表!K56","v":"佐々木香菜実"},{"$f":"IF(選手一覧表!K56=0,\"\",選手一覧表!L56)","v":"北中山"},17.100000000000001,3,null,null,"望月心晴","鯖江東"]
[4,{"$f":"選手一覧表!K49","v":"松井晏慈"},{"$f":"IF(選手一覧表!K49=0,\"\",選手一覧表!L49)","v":"北中山"},18,7,null,null,null,null,null,null,4,{"$f":"選手一覧表!K41","v":"手鹿ティナ"},{"$f":"IF(選手一覧表!K41=0,\"\",選手一覧表!L41)","v":" 豊 "},18.2,5,null,null,null,null,null,null,4,{"$f":"選手一覧表!K65","v":"田中晴"},{"$f":"IF(選手一覧表!K65=0,\"\",選手一覧表!L65)","v":"片　上"},16.399999999999999,8,null,null,null,null,null,null,4,{"$f":"選手一覧表!K57","v":"山内日菜"},{"$f":"IF(選手一覧表!K57=0,\"\",選手一覧表!L57)","v":"片　上"},17.600000000000001,6]
[5,{"$f":"選手一覧表!K50","v":"伊藤 悠仁"},{"$f":"IF(選手一覧表!K50=0,\"\",選手一覧表!L50)","v":"吉　川"},23.4,8,null,null,"敢闘賞　選手","学校",null,null,5,{"$f":"選手一覧表!K42","v":"宇野由莉香"},{"$f":"IF(選手一覧表!K42=0,\"\",選手一覧表!L42)","v":"鳥　羽"},17.5,3,null,null,"敢闘賞　選手","学校",null,null,5,{"$f":"選手一覧表!K66","v":"堀雅晴"},{"$f":"IF(選手一覧表!K66=0,\"\",選手一覧表!L66)","v":"北中山"},14.5,2,null,null,"敢闘賞　選手","学校",null,null,5,{"$f":"選手一覧表!K58","v":"髙津　眞子"},{"$f":"IF(選手一覧表!K58=0,\"\",選手一覧表!L58)","v":"吉　川"},16.399999999999999,1,null,null,"敢闘賞　選手","学校"]
[6,{"$f":"選手一覧表!K51","v":"垣本愛斗"},{"$f":"IF(選手一覧表!K51=0,\"\",選手一覧表!L51)","v":"立　待"},16.399999999999999,3,null,null,null,null,null,null,6,{"$f":"選手一覧表!K43","v":"玉村喜音"},{"$f":"IF(選手一覧表!K43=0,\"\",選手一覧表!L43)","v":"北中山"},21.4,8,null,null,null,null,null,null,6,{"$f":"選手一覧表!K67","v":"向　航生"},{"$f":"IF(選手一覧表!K67=0,\"\",選手一覧表!L67)","v":"吉　川"},14.7,4,null,null,null,null,null,null,6,{"$f":"選手一覧表!K59","v":"三崎晃希"},{"$f":"IF(選手一覧表!K59=0,\"\",選手一覧表!L59)","v":"河和田"},17.2,4,null,null,"岩尾春花","進徳"]
[7,{"$f":"選手一覧表!K52","v":"山口安樹"},{"$f":"IF(選手一覧表!K52=0,\"\",選手一覧表!L52)","v":"神　明"},16.100000000000001,1,null,null,null,null,null,null,7,{"$f":"選手一覧表!K44","v":"中川詩央里"},{"$f":"IF(選手一覧表!K44=0,\"\",選手一覧表!L44)","v":"河和田"},17.8,4,null,null,null,null,null,null,7,{"$f":"選手一覧表!K68","v":"山森藍暁"},{"$f":"IF(選手一覧表!K68=0,\"\",選手一覧表!L68)","v":"惜　陰"},15.6,7,null,null,null,null,null,null,7,{"$f":"選手一覧表!K60","v":"橋本一夏"},{"$f":"IF(選手一覧表!K60=0,\"\",選手一覧表!L60)","v":"中　河"},18.5,8,null,null,"丸田菜摘","進徳"]
[8,{"$f":"選手一覧表!K53","v":"福島悠太"},{"$f":"IF(選手一覧表!K53=0,\"\",選手一覧表!L53)","v":"片　上"},17.5,6,null,null,null,null,null,null,8,{"$f":"選手一覧表!K45","v":"揚原　桃花"},{"$f":"IF(選手一覧表!K45=0,\"\",選手一覧表!L45)","v":"進　徳"},16.8,1,null,null,null,null,null,null,8,{"$f":"選手一覧表!K69","v":"斎藤楽也"},{"$f":"IF(選手一覧表!K69=0,\"\",選手一覧表!L69)","v":"鳥　羽"},14.6,3,null,null,null,null,null,null,8,{"$f":"選手一覧表!K61","v":"大久保妃菜"},{"$f":"IF(選手一覧表!K61=0,\"\",選手一覧表!L61)","v":"神　明"},17.21,5]
[]
[null,null,"≪５年男子８０ＭＨ決勝≫",null,null,null,null,null,null,null,null,null,null,"≪５年女子８０ＭＨ決勝≫",null,null,null,null,null,null,null,null,null,null,"≪６年男子８０ＭＨ決勝≫",null,null,null,null,null,null,null,null,null,null,"≪６年女子８０ＭＨ決勝≫"]
[]
[null,null,"レーン","氏　　　　　名",null,"学 校",null,"記　　録","順位",null,null,null,null,"レーン","氏　　　　　名",null,"学 校",null,"記　　録","順位",null,null,null,null,"レーン","氏　　　　　名",null,"学 校",null,"記　　録","順位",null,null,null,null,"レーン","氏　　　　　名",null,"学 校",null,"記　　録","順位"]
[null,7,1,{"$f":"VLOOKUP(B26,$A$39:$D$46,2)","v":"木野太陽"},null,{"$f":"VLOOKUP(B26,$A$39:$D$46,3)","v":"惜　陰"},null,16.899999999999999,{"$f":"IF(H26=\"\",\"\",RANK(H26,$H$26:$H$33,1))","v":6},null,null,null,7,1,{"$f":"VLOOKUP(M26,$L$39:$N$46,2)","v":"中川詩央里"},null,{"$f":"VLOOKUP(M26,$L$39:$N$46,3)","v":"河和田"},null,21.5,{"$f":"IF(S26=\"\",\"\",RANK(S26,$S$26:$S$33,1))","v":7},null,null,null,7,1,{"$f":"VLOOKUP(X26,$W$39:$Y$46,2)","v":"向　航生"},null,{"$f":"VLOOKUP(X26,$W$39:$Y$46,3)","v":"吉　川"},null,14.2,{"$f":"IF(AD26=\"\",\"\",RANK(AD26,$AD$26:$AD$33,1))","v":3},null,null,null,7,1,{"$f":"VLOOKUP(AI26,$AH$39:$AJ$46,2)","v":"髙津　眞子"},null,{"$f":"VLOOKUP(AI26,$AH$39:$AJ$46,3)","v":"吉　川"},null,16.11,{"$f":"IF(AO26=\"\",\"\",RANK(AO26,$AO$26:$AO$33,1))","v":7}]
[null,5,2,{"$f":"VLOOKUP(B27,$A$39:$D$46,2)","v":"細田遼"},null,{"$f":"VLOOKUP(B27,$A$39:$D$46,3)","v":"鯖江東"},null,15.2,{"$f":"IF(H27=\"\",\"\",RANK(H27,$H$26:$H$33,1))","v":1},null,null,null,5,2,{"$f":"VLOOKUP(M27,$L$39:$N$46,2)","v":"髙橋優香"},null,{"$f":"VLOOKUP(M27,$L$39:$N$46,3)","v":"惜　陰"},null,33.4,{"$f":"IF(S27=\"\",\"\",RANK(S27,$S$26:$S$33,1))","v":8},null,null,null,5,2,{"$f":"VLOOKUP(X27,$W$39:$Y$46,2)","v":"上木龍二"},null,{"$f":"VLOOKUP(X27,$W$39:$Y$46,3)","v":"鯖江東"},null,14.7,{"$f":"IF(AD27=\"\",\"\",RANK(AD27,$AD$26:$AD$33,1))","v":6},null,null,null,5,2,{"$f":"VLOOKUP(AI27,$AH$39:$AJ$46,2)","v":"飯田瑞紀"},null,{"$f":"VLOOKUP(AI27,$AH$39:$AJ$46,3)","v":"中　河"},null,16.100000000000001,{"$f":"IF(AO27=\"\",\"\",RANK(AO27,$AO$26:$AO$33,1))","v":6}]
[null,3,3,"有馬魁兜",null,"立　待",null,15.21,2,null,null,null,3,3,"冨樫陽菜",null,"惜　陰",null,17.600000000000001,4,null,null,null,3,3,"堀雅晴",null,"北中山",null,14.41,5,null,null,null,3,3,"田中奈菜",null,"神　明",null,15.4,4]
[null,1,4,"細川皓成",null,"鯖江東",null,15.4,4,null,null,null,1,4,"揚原　桃花",null,"進　徳",null,15.9,1,null,null,null,1,4,"村島恭矢",null,"神　明",null,13.1,1,null,null,null,1,4,"岸上花",null,"立　待",null,14.5,1]
[null,2,5,"小林宗揮",null,"惜　陰",null,15.22,3,null,null,null,2,5,"大塚凜",null,"中　河",null,16.8,2,null,null,null,2,5,"片岡勇登",null,"鳥　羽",null,13.3,2,null,null,null,2,5,"徳橋美咲",null," 豊 ",null,15,3]
[null,4,6,"山口安樹",null,"神　明",null,16.399999999999999,5,null,null,null,4,6,"宇野由莉香",null,"鳥　羽",null,17.399999999999999,3,null,null,null,4,6,"土合　章太",null,"吉　川",null,14.4,4,null,null,null,4,6,"増永安莉",null,"河和田",null,15.6,5]
[null,6,7,"垣本愛斗",null,"立　待",null,17.399999999999999,7,null,null,null,6,7,"千田さゆり",null,"立　待",null,17.61,5,null,null,null,6,7,"斎藤楽也",null,"鳥　羽",null,14.71,7,null,null,null,6,7,"西村栞",null,"立　待",null,14.5,1]
[null,8,8,"建石大和",null,"鳥　羽",null,21.2,8,null,null,null,8,8,"齋藤可恋",null,"鳥　羽",null,17.899999999999999,6,null,null,null,8,8,"冨田大翔",null,"河和田",null,15.2,8,null,null,null,8,8,"望月心晴",null,"鯖江東",null,16.3,8]
[]
["-24-",null,null,null,null,null,null,null,null,null,null,"-25-",null,null,null,null,null,null,null,null,null,null,"-26-",null,null,null,null,null,null,null,null,null,null,"-27-"]
[]
[]
["順","氏名","学校","記録",null,null,null,null,null,null,null,"順","氏名","学校","記録",null,null,null,null,null,null,null,"順","氏名","学校","記録",null,null,null,null,null,null,null,"順","氏名","学校","記録"]
[1,{"$f":"$B$4","v":"細川皓成"},{"$f":"$C$4","v":"鯖江東"},{"$f":"$D$4","v":15.5},null,null,null,null,null,null,null,1,{"$f":"$M$21","v":"揚原　桃花"},{"$f":"$N$21","v":"進　徳"},{"$f":"$O$21","v":16.8},null,null,null,null,null,null,null,1,{"$f":"$X$14","v":"村島恭矢"},{"$f":"$Y$14","v":"神　明"},{"$f":"$Z$14","v":13.1},null,null,null,null,null,null,null,1,{"$f":"$AO$8","v":"岸上花"},{"$f":"$AP$8","v":"立　待"},{"$f":"$AQ$8","v":14.4}]
[2,{"$f":"$B$8","v":"小林宗揮"},{"$f":"$C$8","v":"惜　陰"},{"$f":"$D$8","v":15.51},null,null,null,null,null,null,null,2,{"$f":"$M$15","v":"大塚凜"},{"$f":"$N$15","v":"中　河"},{"$f":"$O$15","v":17.3},null,null,null,null,null,null,null,2,{"$f":"$AD$6","v":"片岡勇登"},{"$f":"$AE$6","v":"鳥　羽"},{"$f":"$AF$6","v":13.4},null,null,null,null,null,null,null,2,{"$f":"$AO$10","v":"徳橋美咲"},{"$f":"$AP$10","v":" 豊 "},{"$f":"$AQ$10","v":15.1}]
[3,{"$f":"$B$7","v":"有馬魁兜"},{"$f":"$C$7","v":"立　待"},{"$f":"$D$7","v":15.52},null,null,null,null,null,null,null,3,{"$f":"$M$11","v":"冨樫陽菜"},{"$f":"$N$11","v":"惜　陰"},{"$f":"$O$11","v":17.399999999999999},null,null,null,null,null,null,null,3,{"$f":"$X$18","v":"堀雅晴"},{"$f":"$Y$18","v":"北中山"},{"$f":"$Z$18","v":14.5},null,null,null,null,null,null,null,3,{"$f":"$AO$6","v":"田中奈菜"},{"$f":"$AP$6","v":"神　明"},{"$f":"$AQ$6","v":15.7}]
[4,{"$f":"$B$20","v":"山口安樹"},{"$f":"$C$20","v":"神　明"},{"$f":"$D$20","v":16.100000000000001},null,null,null,null,null,null,null,4,{"$f":"$M$18","v":"宇野由莉香"},{"$f":"$N$18","v":"鳥　羽"},{"$f":"$O$18","v":17.5},null,null,null,null,null,null,null,4,{"$f":"$X$5","v":"土合　章太"},{"$f":"$Y$5","v":"吉　川"},{"$f":"$Z$5","v":14.5},null,null,null,null,null,null,null,4,{"$f":"$AI$11","v":"増永安莉"},{"$f":"$AJ$11","v":"河和田"},{"$f":"$AK$11","v":15.8}]
[5,{"$f":"$B$14","v":"細田遼"},{"$f":"$C$14","v":"鯖江東"},{"$f":"$D$14","v":16.2},null,null,null,null,null,null,null,5,{"$f":"$S$11","v":"髙橋優香"},{"$f":"$T$11","v":"惜　陰"},{"$f":"$U$11","v":17.7},null,null,null,null,null,null,null,5,{"$f":"$X$8","v":"上木龍二"},{"$f":"$Y$8","v":"鯖江東"},{"$f":"$Z$8","v":14.6},null,null,null,null,null,null,null,5,{"$f":"$AO$5","v":"飯田瑞紀"},{"$f":"$AP$5","v":"中　河"},{"$f":"$AQ$5","v":16.3}]
[6,{"$f":"$B$19","v":"垣本愛斗"},{"$f":"$C$19","v":"立　待"},{"$f":"$D$19","v":16.399999999999999},null,null,null,null,null,null,null,6,{"$f":"$S$8","v":"千田さゆり"},{"$f":"$T$8","v":"立　待"},{"$f":"$U$8","v":17.8},null,null,null,null,null,null,null,6,{"$f":"$X$21","v":"斎藤楽也"},{"$f":"$Y$21","v":"鳥　羽"},{"$f":"$Z$21","v":14.6},null,null,null,null,null,null,null,6,{"$f":"$AI$4","v":"西村栞"},{"$f":"$AJ$4","v":"立　待"},{"$f":"$AK$4","v":16.3}]
[7,{"$f":"$B$16","v":"木野太陽"},{"$f":"$C$16","v":"惜　陰"},{"$f":"$D$16","v":16.7},null,null,null,null,null,null,null,7,{"$f":"$M$20","v":"中川詩央里"},{"$f":"$N$20","v":"河和田"},{"$f":"$O$20","v":17.8},null,null,null,null,null,null,null,7,{"$f":"$X$19","v":"向　航生"},{"$f":"$Y$19","v":"吉　川"},{"$f":"$Z$19","v":14.7},null,null,null,null,null,null,null,7,{"$f":"$AI$18","v":"髙津　眞子"},{"$f":"$AJ$18","v":"吉　川"},{"$f":"$AK$18","v":16.399999999999999}]
[8,{"$f":"$H$6","v":"建石大和"},{"$f":"$I$6","v":"鳥　羽"},{"$f":"$J$6","v":16.8},null,null,null,null,null,null,null,8,{"$f":"$S$5","v":"齋藤可恋"},{"$f":"$T$5","v":"鳥　羽"},{"$f":"$U$5","v":17.809999999999999},null,null,null,null,null,null,null,8,{"$f":"$X$16","v":"冨田大翔"},{"$f":"$Y$16","v":"河和田"},{"$f":"$Z$16","v":14.8},null,null,null,null,null,null,null,8,{"$f":"$AI$14","v":"望月心晴"},{"$f":"$AJ$14","v":"鯖江東"},{"$f":"$AK$14","v":16.5}]
[9,{"$f":"$H$4","v":"黒田啓介"},{"$f":"$I$4","v":"北中山"},{"$f":"$J$4","v":17},null,null,null,null,null,null,null,9,{"$f":"$M$17","v":"手鹿ティナ"},{"$f":"$N$17","v":" 豊 "},{"$f":"$O$17","v":18.2},null,null,null,null,null,null,null,9,{"$f":"$X$7","v":"水野　俊"},{"$f":"$Y$7","v":"進　徳"},{"$f":"$Z$7","v":14.9},null,null,null,null,null,null,null,9,{"$f":"$AO$9","v":"丸田　菜摘"},{"$f":"$AP$9","v":"進　徳"},{"$f":"$AQ$9","v":16.510000000000002}]
[10,{"$f":"$B$15","v":"佐野陸"},{"$f":"$C$15","v":"鳥　羽"},{"$f":"$D$15","v":17.100000000000001},null,null,null,null,null,null,null,10,{"$f":"$M$14","v":"加藤 みわ"},{"$f":"$N$14","v":"吉　川"},{"$f":"$O$14","v":18.5},null,null,null,null,null,null,null,10,{"$f":"$AD$11","v":"前田　達輝"},{"$f":"$AE$11","v":"進　徳"},{"$f":"$AF$11","v":14.9},null,null,null,null,null,null,null,10,{"$f":"$AI$5","v":"岩尾　春花"},{"$f":"$AJ$5","v":"進　徳"},{"$f":"$AK$5","v":16.510000000000002}]
[11,{"$f":"$B$5","v":"土田淳士"},{"$f":"$C$5","v":"河和田"},{"$f":"$D$5","v":17.2},null,null,null,null,null,null,null,11,{"$f":"$M$4","v":"尾武華蓮"},{"$f":"$N$4","v":"立　待"},{"$f":"$O$4","v":18.5},null,null,null,null,null,null,null,11,{"$f":"$X$15","v":"齋藤周汰"},{"$f":"$Y$15","v":"立　待"},{"$f":"$Z$15","v":15},null,null,null,null,null,null,null,11,{"$f":"$AI$9","v":"田村祐佳"},{"$f":"$AJ$9","v":"鳥　羽"},{"$f":"$AK$9","v":16.8}]
[12,{"$f":"$B$21","v":"福島悠太"},{"$f":"$C$21","v":"片　上"},{"$f":"$D$21","v":17.5},null,null,null,null,null,null,null,12,{"$f":"$S$4","v":"片岡志菜"},{"$f":"$T$4","v":" 豊 "},{"$f":"$U$4","v":18.600000000000001},null,null,null,null,null,null,null,12,{"$f":"$X$9","v":"横瀨颯太"},{"$f":"$Y$9","v":"立　待"},{"$f":"$Z$9","v":15.1},null,null,null,null,null,null,null,12,{"$f":"$AI$16","v":"佐々木香菜実"},{"$f":"$AJ$16","v":"北中山"},{"$f":"$AK$16","v":17.100000000000001}]
[13,{"$f":"$H$10","v":"一島聡一郎"},{"$f":"$I$10","v":"進　徳"},{"$f":"$J$10","v":17.600000000000001},null,null,null,null,null,null,null,13,{"$f":"$S$10","v":"出水彩花"},{"$f":"$T$10","v":"片　上"},{"$f":"$U$10","v":18.7},null,null,null,null,null,null,null,13,{"$f":"$X$11","v":"竹嶋樹生"},{"$f":"$Y$11","v":"中　河"},{"$f":"$Z$11","v":15.11},null,null,null,null,null,null,null,13,{"$f":"$AI$19","v":"三崎晃希"},{"$f":"$AJ$19","v":"河和田"},{"$f":"$AK$19","v":17.2}]
[14,{"$f":"$B$6","v":"村岡飛翔"},{"$f":"$C$6","v":" 豊 "},{"$f":"$D$6","v":17.8},null,null,null,null,null,null,null,14,{"$f":"$M$16","v":"佐々木千奈"},{"$f":"$N$16","v":"神　明"},{"$f":"$O$16","v":18.8},null,null,null,null,null,null,null,14,{"$f":"$AD$10","v":"山内一稀"},{"$f":"$AE$10","v":"鯖江東"},{"$f":"$AF$10","v":15.4},null,null,null,null,null,null,null,14,{"$f":"$AI$21","v":"大久保妃菜"},{"$f":"$AJ$21","v":"神　明"},{"$f":"$AK$21","v":17.21}]
[15,{"$f":"$H$8","v":"三田村駿"},{"$f":"$I$8","v":" 豊 "},{"$f":"$J$8","v":18},null,null,null,null,null,null,null,15,{"$f":"$M$5","v":"石塚咲季"},{"$f":"$N$5","v":"北中山"},{"$f":"$O$5","v":19.3},null,null,null,null,null,null,null,15,{"$f":"$X$10","v":"田中康晴"},{"$f":"$Y$10","v":"惜　陰"},{"$f":"$Z$10","v":15.4},null,null,null,null,null,null,null,15,{"$f":"$AI$7","v":"窪田彩佑"},{"$f":"$AJ$7","v":"惜　陰"},{"$f":"$AK$7","v":17.600000000000001}]
[16,{"$f":"$B$17","v":"松井晏慈"},{"$f":"$C$17","v":"北中山"},{"$f":"$D$17","v":18},null,null,null,null,null,null,null,16,{"$f":"$S$7","v":"清水凜"},{"$f":"$T$7","v":"河和田"},{"$f":"$U$7","v":19.399999999999999},null,null,null,null,null,null,null,16,{"$f":"$AD$4","v":"山口了生"},{"$f":"$AE$4","v":"片　上"},{"$f":"$AF$4","v":15.6},null,null,null,null,null,null,null,16,{"$f":"$AO$4","v":"福田来羽"},{"$f":"$AP$4","v":"片　上"},{"$f":"$AQ$4","v":17.600000000000001}]
[17,{"$f":"$B$11","v":"川上輝人"},{"$f":"$C$11","v":"片　上"},{"$f":"$D$11","v":18.100000000000001},null,null,null,null,null,null,null,17,{"$f":"$M$9","v":"馬場友里菜"},{"$f":"$N$9","v":"鯖江東"},{"$f":"$O$9","v":19.8},null,null,null,null,null,null,null,17,{"$f":"$X$20","v":"山森藍暁"},{"$f":"$Y$20","v":"惜　陰"},{"$f":"$Z$20","v":15.6},null,null,null,null,null,null,null,17,{"$f":"$AI$17","v":"山内日菜"},{"$f":"$AJ$17","v":"片　上"},{"$f":"$AK$17","v":17.600000000000001}]
[18,{"$f":"$H$7","v":"田中 琉世"},{"$f":"$I$7","v":"吉　川"},{"$f":"$J$7","v":18.2},null,null,null,null,null,null,null,18,{"$f":"$M$7","v":"林ことな"},{"$f":"$N$7","v":"中　河"},{"$f":"$O$7","v":19.899999999999999},null,null,null,null,null,null,null,18,{"$f":"$AD$5","v":"吉田圭悟"},{"$f":"$AE$5","v":"河和田"},{"$f":"$AF$5","v":15.7},null,null,null,null,null,null,null,18,{"$f":"$AO$11","v":"遠野琴菜"},{"$f":"$AP$11","v":"惜　陰"},{"$f":"$AQ$11","v":17.61}]
[19,{"$f":"$H$9","v":"廣瀬 颯大"},{"$f":"$I$9","v":"河和田"},{"$f":"$J$9","v":18.3},null,null,null,null,null,null,null,19,{"$f":"$M$10","v":"上野 晏沙歌"},{"$f":"$N$10","v":"吉　川"},{"$f":"$O$10","v":20.2},null,null,null,null,null,null,null,19,{"$f":"$AD$7","v":"赤川草太"},{"$f":"$AE$7","v":"神　明"},{"$f":"$AF$7","v":16},null,null,null,null,null,null,null,19,{"$f":"$AO$7","v":"笠原夕楽"},{"$f":"$AP$7","v":"鯖江東"},{"$f":"$AQ$7","v":17.7}]
[20,{"$f":"$H$5","v":"勝木獅堂"},{"$f":"$I$5","v":"神　明"},{"$f":"$J$5","v":18.5},null,null,null,null,null,null,null,20,{"$f":"$M$6","v":"德本仁菜"},{"$f":"$N$6","v":"神　明"},{"$f":"$O$6","v":20.399999999999999},null,null,null,null,null,null,null,20,{"$f":"$AD$8","v":"岩原　陽"},{"$f":"$AE$8","v":" 豊 "},{"$f":"$AF$8","v":16.010000000000002},null,null,null,null,null,null,null,20,{"$f":"$AI$8","v":"田辺　栞"},{"$f":"$AJ$8","v":" 豊 "},{"$f":"$AK$8","v":17.899999999999999}]
[21,{"$f":"$H$11","v":"木林凱飛"},{"$f":"$I$11","v":"中　河"},{"$f":"$J$11","v":18.8},null,null,null,null,null,null,null,21,{"$f":"$S$6","v":"出口　愛子"},{"$f":"$T$6","v":"進　徳"},{"$f":"$U$6","v":20.8},null,null,null,null,null,null,null,21,{"$f":"$X$17","v":"田中晴"},{"$f":"$Y$17","v":"片　上"},{"$f":"$Z$17","v":16.399999999999999},null,null,null,null,null,null,null,21,{"$f":"$AI$15","v":"加藤ひめ乃"},{"$f":"$AJ$15","v":"鳥　羽"},{"$f":"$AK$15","v":18.2}]
[22,{"$f":"$B$9","v":"大門千速"},{"$f":"$C$9","v":"中　河"},{"$f":"$D$9","v":19.8},null,null,null,null,null,null,null,22,{"$f":"$M$19","v":"玉村喜音"},{"$f":"$N$19","v":"北中山"},{"$f":"$O$19","v":21.4},null,null,null,null,null,null,null,22,{"$f":"$AD$9","v":"大北陸"},{"$f":"$AE$9","v":"中　河"},{"$f":"$AF$9","v":16.5},null,null,null,null,null,null,null,22,{"$f":"$AI$20","v":"橋本一夏"},{"$f":"$AJ$20","v":"中　河"},{"$f":"$AK$20","v":18.5}]
[23,{"$f":"$B$18","v":"伊藤 悠仁"},{"$f":"$C$18","v":"吉　川"},{"$f":"$D$18","v":23.4},null,null,null,null,null,null,null,23,{"$f":"$S$9","v":"山岸あかり"},{"$f":"$T$9","v":"鯖江東"},{"$f":"$U$9","v":50},null,null,null,null,null,null,null,23,{"$f":"$X$6","v":"青木大良"},{"$f":"$Y$6","v":"北中山"},{"$f":"$Z$6","v":17.5},null,null,null,null,null,null,null,23,{"$f":"$AI$6","v":"髙木夢果"},{"$f":"$AJ$6","v":"北中山"},{"$f":"$AK$6","v":18.8}]
[24,{"$f":"$B$10","v":"熊野　陽仁"},{"$f":"$C$10","v":"進　徳"},{"$f":"$D$10","v":23.5},null,null,null,null,null,null,null,24,{"$f":"$M$8","v":0},{"$f":"$N$8","v":""},{"$f":"$O$8","v":50},null,null,null,null,null,null,null,24,{"$f":"$X$4","v":"牧野由憲"},{"$f":"$Y$4","v":" 豊 "},{"$f":"$Z$4","v":21},null,null,null,null,null,null,null,24,{"$f":"$AI$10","v":"田邉　花怜"},{"$f":"$AJ$10","v":"吉　川"},{"$f":"$AK$10","v":20.100000000000001}]

{"sheet":"持久走","index":3,"n_rows":33,"n_cols":22,"rows_kept":33,"cut":false,"hidden":false,"merged":[[32,0,32,10],[32,11,32,21],[0,6,0,10],[0,0,0,4],[0,11,0,15],[0,17,0,21],[3,2,4,2],[5,2,6,2],[7,2,8,2],[9,2,10,2],[23,2,24,2],[25,2,26,2],[11,2,12,2],[13,2,14,2],[15,2,16,2],[17,2,18,2],[3,8,4,8],[5,8,6,8],[7,8,8,8],[9,8,10,8],[19,2,20,2],[11,8,12,8],[13,8,14,8],[15,8,16,8],[17,8,18,8],[21,2,22,2],[19,8,20,8],[21,8,22,8],[23,8,24,8],[25,8,26,8],[23,13,24,13],[25,13,26,13],[11,13,12,13],[13,13,14,13],[15,13,16,13],[17,13,18,13],[21,13,22,13],[3,19,4,19],[5,19,6,19],[7,19,8,19],[9,19,10,19],[19,13,20,13],[3,13,4,13],[5,13,6,13],[7,13,8,13],[9,13,10,13],[19,19,20,19],[21,19,22,19],[23,19,24,19],[25,19,26,19],[11,19,12,19],[13,19,14,19],[15,19,16,19],[17,19,18,19]]}
["【５年男子　1500ｍ走】",null,null,null,null,null,"【５年女子　800ｍ走】",null,null,null,null,"【６年男子　1500ｍ走】",null,null,null,null,null,"【６年女子　800ｍ走】"]
[]
["№","氏　　  名","学　校","記　　録","順位",null,"№","氏　　  名","学　校","記　　録","順位","№","氏　　  名","学　校","記　　録","順位",null,"№","氏　　  名","学　校","記　　録","順位"]
[1,{"$f":"選手一覧表!E82","v":"手賀柊太朗"},{"$f":"IF(選手一覧表!E82=0,\"\",選手一覧表!F82)","v":" 豊 "},"00:05:40.700",{"$f":"IF(D4=\"\",\"\",RANK(D4,$D$4:$D$27,1))","v":13},null,1,{"$f":"選手一覧表!E70","v":"木下璃想愛"},{"$f":"IF(選手一覧表!E70=0,\"\",選手一覧表!F70)","v":"立　待"},"00:02:47.100",{"$f":"IF(J4=\"\",\"\",RANK(J4,J$4:$J$27,1))","v":2},1,{"$f":"選手一覧表!E106","v":"飯田　圭祐"},{"$f":"IF(選手一覧表!E106=0,\"\",選手一覧表!F106)","v":"吉　川"},"00:05:10.600",{"$f":"IF(O4=\"\",\"\",RANK(O4,$O$4:$O$27,1))","v":3},null,1,{"$f":"選手一覧表!E94","v":"飯田瑞紀"},{"$f":"IF(選手一覧表!E94=0,\"\",選手一覧表!F94)","v":"中　河"},"00:02:41.300",{"$f":"IF(U4=\"\",\"\",RANK(U4,$U$4:$U$27,1))","v":3}]
[2,{"$f":"選手一覧表!E83","v":"栁田莉夢"},null,"00:05:50.300",{"$f":"IF(D5=\"\",\"\",RANK(D5,$D$4:$D$27,1))","v":16},null,2,{"$f":"選手一覧表!E71","v":"吉田真由"},null,"00:03:02.900",{"$f":"IF(J5=\"\",\"\",RANK(J5,J$4:$J$27,1))","v":12},2,{"$f":"選手一覧表!E107","v":"加藤　周"},null,"00:05:28.300",{"$f":"IF(O5=\"\",\"\",RANK(O5,$O$4:$O$27,1))","v":11},null,2,{"$f":"選手一覧表!E95","v":"吉田美優"},null,"00:03:05.100",{"$f":"IF(U5=\"\",\"\",RANK(U5,$U$4:$U$27,1))","v":21}]
[3,{"$f":"選手一覧表!E84","v":"竹内 寛武"},{"$f":"IF(選手一覧表!E84=0,\"\",選手一覧表!F84)","v":"吉　川"},"00:05:37.300",12,null,3,{"$f":"選手一覧表!E72","v":"大谷万優理"},{"$f":"IF(選手一覧表!E72=0,\"\",選手一覧表!F72)","v":"鳥　羽"},"00:02:53.300",{"$f":"IF(J6=\"\",\"\",RANK(J6,J$4:$J$27,1))","v":4},3,{"$f":"選手一覧表!E108","v":"堀啓太"},{"$f":"IF(選手一覧表!E108=0,\"\",選手一覧表!F108)","v":"鯖江東"},"00:05:16.500",6,null,3,{"$f":"選手一覧表!E96","v":"清水葵生"},{"$f":"IF(選手一覧表!E96=0,\"\",選手一覧表!F96)","v":"片　上"},"00:02:40.600",2]
[4,{"$f":"選手一覧表!E85","v":"河合 隼人"},null,"00:05:58.800",19,null,4,{"$f":"選手一覧表!E73","v":"嶋崎想子"},null,"00:02:50.700",{"$f":"IF(J7=\"\",\"\",RANK(J7,J$4:$J$27,1))","v":3},4,{"$f":"選手一覧表!E109","v":"伊藤大翔"},null,"00:05:18.300",7,null,4,{"$f":"選手一覧表!E97","v":"宮本唯衣"},null,"00:02:53.600",13]
[5,{"$f":"選手一覧表!E86","v":"増永大志郎"},{"$f":"IF(選手一覧表!E86=0,\"\",選手一覧表!F86)","v":"中　河"},"00:05:25.600",4,null,5,{"$f":"選手一覧表!E74","v":"大塚凜"},{"$f":"IF(選手一覧表!E74=0,\"\",選手一覧表!F74)","v":"中　河"},"00:02:59.600",{"$f":"IF(J8=\"\",\"\",RANK(J8,J$4:$J$27,1))","v":9},5,{"$f":"選手一覧表!E110","v":"齋藤浩樹"},{"$f":"IF(選手一覧表!E110=0,\"\",選手一覧表!F110)","v":"惜　陰"},"00:05:19.800",10,null,5,{"$f":"選手一覧表!E98","v":"佐々木希歩"},{"$f":"IF(選手一覧表!E98=0,\"\",選手一覧表!F98)","v":"神　明"},"00:02:45",7]
[6,{"$f":"選手一覧表!E87","v":"湯口和季"},null,"00:06:21.100",23,null,6,{"$f":"選手一覧表!E75","v":"中村桜"},null,"00:02:57.900",{"$f":"IF(J9=\"\",\"\",RANK(J9,J$4:$J$27,1))","v":5},6,{"$f":"選手一覧表!E111","v":"井上朝日"},null,"00:05:04",1,null,6,{"$f":"選手一覧表!E99","v":"揚原里彩"},null,"00:02:57.300",16]
[7,{"$f":"選手一覧表!E88","v":"清水丈一郎"},{"$f":"IF(選手一覧表!E88=0,\"\",選手一覧表!F88)","v":"鳥　羽"},"00:05:28.900",7,null,7,{"$f":"選手一覧表!E76","v":"中川芽映"},{"$f":"IF(選手一覧表!E76=0,\"\",選手一覧表!F76)","v":"北中山"},"00:03:31.800",{"$f":"IF(J10=\"\",\"\",RANK(J10,J$4:$J$27,1))","v":23},7,{"$f":"選手一覧表!E112","v":"田代健太郎"},{"$f":"IF(選手一覧表!E112=0,\"\",選手一覧表!F112)","v":"北中山"},"00:05:56.900",21,null,7,{"$f":"選手一覧表!E100","v":"内田杏実"},{"$f":"IF(選手一覧表!E100=0,\"\",選手一覧表!F100)","v":"河和田"},"00:02:56.700",15]
[8,{"$f":"選手一覧表!E89","v":"前田透海"},null,"00:05:30.700",8,null,8,{"$f":"選手一覧表!E77","v":"西川伶奈"},null,"00:03:34",{"$f":"IF(J11=\"\",\"\",RANK(J11,J$4:$J$27,1))","v":24},8,{"$f":"選手一覧表!E113","v":"水野雅人"},null,"00:05:43.900",15,null,8,{"$f":"選手一覧表!E101","v":"小辺愛理"},null,"00:03:03.100",19]
[9,{"$f":"選手一覧表!E90","v":"西野脩叶"},{"$f":"IF(選手一覧表!E90=0,\"\",選手一覧表!F90)","v":"北中山"},"00:05:27.800",6,null,9,{"$f":"選手一覧表!E78","v":"田中唯茉"},{"$f":"IF(選手一覧表!E78=0,\"\",選手一覧表!F78)","v":"惜　陰"},"00:03:20.300",{"$f":"IF(J12=\"\",\"\",RANK(J12,J$4:$J$27,1))","v":22},9,{"$f":"選手一覧表!E114","v":"廣瀨彰栄"},{"$f":"IF(選手一覧表!E114=0,\"\",選手一覧表!F114)","v":"鳥　羽"},"00:05:18.700",8,null,9,{"$f":"選手一覧表!E102","v":"城山心那"},{"$f":"IF(選手一覧表!E102=0,\"\",選手一覧表!F102)","v":"鳥　羽"},"00:02:40.300",1]
[10,{"$f":"選手一覧表!E91","v":"水野雄揮"},null,"00:06:08.600",20,null,10,{"$f":"選手一覧表!E79","v":"大久保綾子"},null,"00:03:13.500",{"$f":"IF(J13=\"\",\"\",RANK(J13,J$4:$J$27,1))","v":18},10,{"$f":"選手一覧表!E115","v":"土井大翔"},null,"00:05:14",4,null,10,{"$f":"選手一覧表!E103","v":"高野仁愛"},null,"00:02:54.500",14]
[11,{"$f":"選手一覧表!E92","v":"津野　大悟"},{"$f":"IF(選手一覧表!E92=0,\"\",選手一覧表!F92)","v":"進　徳"},"00:05:56.200",18,null,11,{"$f":"選手一覧表!E80","v":"堀結葉"},{"$f":"IF(選手一覧表!E80=0,\"\",選手一覧表!F80)","v":"鯖江東"},"00:02:42.700",{"$f":"IF(J14=\"\",\"\",RANK(J14,J$4:$J$27,1))","v":1},11,{"$f":"選手一覧表!E116","v":"笠島優太"},{"$f":"IF(選手一覧表!E116=0,\"\",選手一覧表!F116)","v":"片　上"},"00:05:51.900",19,null,11,{"$f":"選手一覧表!E104","v":"清水　瑠愛"},{"$f":"IF(選手一覧表!E104=0,\"\",選手一覧表!F104)","v":"吉　川"},"00:02:46.500",8]
[12,{"$f":"選手一覧表!E93","v":"石田　脩真"},null,"00:06:19.300",22,null,12,{"$f":"選手一覧表!E81","v":"堀瑠海"},null,"00:02:58.100",{"$f":"IF(J15=\"\",\"\",RANK(J15,J$4:$J$27,1))","v":6},12,{"$f":"選手一覧表!E117","v":"宮下知也"},null,"00:06:05.800",24,null,12,{"$f":"選手一覧表!E105","v":"川岸　ここ菜"},null,"00:02:43.100",5]
[13,{"$f":"選手一覧表!H82","v":"淵上一地"},{"$f":"IF(選手一覧表!H82=0,\"\",選手一覧表!I82)","v":"河和田"},"00:05:43.500",15,null,13,{"$f":"選手一覧表!H70","v":"澤田 笑唯奈"},{"$f":"IF(選手一覧表!H70=0,\"\",選手一覧表!I70)","v":"河和田"},"00:02:58.300",{"$f":"IF(J16=\"\",\"\",RANK(J16,J$4:$J$27,1))","v":7},13,{"$f":"選手一覧表!H106","v":"清水涼"},{"$f":"IF(選手一覧表!H106=0,\"\",選手一覧表!I106)","v":"立　待"},"00:05:32.800",13,null,13,{"$f":"選手一覧表!H94","v":"福岡　凜"},{"$f":"IF(選手一覧表!H94=0,\"\",選手一覧表!I94)","v":" 豊 "},"00:03:09.400",23]
[14,{"$f":"選手一覧表!H83","v":"蓑輪達灯"},null,"00:06:13.600",21,null,14,{"$f":"選手一覧表!H71","v":"清水凜"},null,"00:03:10",{"$f":"IF(J17=\"\",\"\",RANK(J17,J$4:$J$27,1))","v":14},14,{"$f":"選手一覧表!H107","v":"加藤颯斗"},null,"00:05:48.700",18,null,14,{"$f":"選手一覧表!H95","v":"加藤綸菜"},null,"00:02:57.600",17]
[15,{"$f":"選手一覧表!H84","v":"吉村光平"},{"$f":"IF(選手一覧表!H84=0,\"\",選手一覧表!I84)","v":"立　待"},"00:05:43.200",14,null,15,{"$f":"選手一覧表!H72","v":"細川　彩夏"},{"$f":"IF(選手一覧表!H72=0,\"\",選手一覧表!I72)","v":"進　徳"},"00:02:59.400",{"$f":"IF(J18=\"\",\"\",RANK(J18,J$4:$J$27,1))","v":8},15,{"$f":"選手一覧表!H108","v":"和多田亮太"},{"$f":"IF(選手一覧表!H108=0,\"\",選手一覧表!I108)","v":"神　明"},"00:05:08",2,null,15,{"$f":"選手一覧表!H96","v":"加藤ほのか"},{"$f":"IF(選手一覧表!H96=0,\"\",選手一覧表!I96)","v":"立　待"},"00:02:51.900",11]
[16,{"$f":"選手一覧表!H85","v":"佐飛慎太郎"},null,"00:05:35.400",10,null,16,{"$f":"選手一覧表!H73","v":"高棹はなの"},null,"00:03:16.500",{"$f":"IF(J19=\"\",\"\",RANK(J19,J$4:$J$27,1))","v":20},16,{"$f":"選手一覧表!H109","v":"前田桜輝"},null,"00:05:45.200",16,null,16,{"$f":"選手一覧表!H97","v":"西崎光稀"},null,"00:02:53.100",12]
[17,{"$f":"選手一覧表!H86","v":"山﨑佑人"},{"$f":"IF(選手一覧表!H86=0,\"\",選手一覧表!I86)","v":"片　上"},"00:05:53",17,null,17,{"$f":"選手一覧表!H74","v":"鈴木美寿"},{"$f":"IF(選手一覧表!H74=0,\"\",選手一覧表!I74)","v":" 豊 "},"00:03:12.400",{"$f":"IF(J20=\"\",\"\",RANK(J20,J$4:$J$27,1))","v":16},17,{"$f":"選手一覧表!H110","v":"山本志音"},{"$f":"IF(選手一覧表!H110=0,\"\",選手一覧表!I110)","v":" 豊 "},"00:05:41.500",14,null,17,{"$f":"選手一覧表!H98","v":"佐々木愛乃"},{"$f":"IF(選手一覧表!H98=0,\"\",選手一覧表!I98)","v":"惜　陰"},"00:03:22.700",24]
[18,{"$f":"選手一覧表!H87","v":"笠島竜位"},null,"00:06:31.400",24,null,18,{"$f":"選手一覧表!H75","v":"小倉咲月"},null,"00:03:09.800",{"$f":"IF(J21=\"\",\"\",RANK(J21,J$4:$J$27,1))","v":13},18,{"$f":"選手一覧表!H111","v":"山内幸紀"},null,"00:06:04.200",23,null,18,{"$f":"選手一覧表!H99","v":"佐藤晴瑠菜"},null,"00:02:42",4]
[19,{"$f":"選手一覧表!H88","v":"小林宗揮"},{"$f":"IF(選手一覧表!H88=0,\"\",選手一覧表!I88)","v":"惜　陰"},"00:05:32.600",9,null,19,{"$f":"選手一覧表!H76","v":"小嶋陽茉里"},{"$f":"IF(選手一覧表!H76=0,\"\",選手一覧表!I76)","v":"神　明"},"00:03:01.900",{"$f":"IF(J22=\"\",\"\",RANK(J22,J$4:$J$27,1))","v":11},19,{"$f":"選手一覧表!H112","v":"山田圭悟"},{"$f":"IF(選手一覧表!H112=0,\"\",選手一覧表!I112)","v":"中　河"},"00:06:01.800",22,null,19,{"$f":"選手一覧表!H100","v":"岡本夢花"},{"$f":"IF(選手一覧表!H100=0,\"\",選手一覧表!I100)","v":"鯖江東"},"00:02:50.400",9]
[20,{"$f":"選手一覧表!H89","v":"井上開斗"},null,"00:05:15.300",1,null,20,{"$f":"選手一覧表!H77","v":"五百﨑楓"},null,"00:03:15.700",{"$f":"IF(J23=\"\",\"\",RANK(J23,J$4:$J$27,1))","v":19},20,{"$f":"選手一覧表!H113","v":"品川涼"},null,"00:05:54.300",20,null,20,{"$f":"選手一覧表!H101","v":"佐々木由良"},null,"00:02:51",10]
[21,{"$f":"選手一覧表!H90","v":"宮川太志"},{"$f":"IF(選手一覧表!H90=0,\"\",選手一覧表!I90)","v":"神　明"},"00:05:26.900",5,null,21,{"$f":"選手一覧表!H78","v":"鈴木 花奏"},{"$f":"IF(選手一覧表!H78=0,\"\",選手一覧表!I78)","v":"吉　川"},"00:03:00.800",{"$f":"IF(J24=\"\",\"\",RANK(J24,J$4:$J$27,1))","v":10},21,{"$f":"選手一覧表!H114","v":"河合　陽一"},{"$f":"IF(選手一覧表!H114=0,\"\",選手一覧表!I114)","v":"進　徳"},"00:05:14.200",5,null,21,{"$f":"選手一覧表!H102","v":"黒田紅葉"},{"$f":"IF(選手一覧表!H102=0,\"\",選手一覧表!I102)","v":"北中山"},"00:03:01",18]
[22,{"$f":"選手一覧表!H91","v":"中山晋"},null,"00:05:36.300",11,null,22,{"$f":"選手一覧表!H79","v":"大西 栞来"},null,"00:03:17.800",{"$f":"IF(J25=\"\",\"\",RANK(J25,J$4:$J$27,1))","v":21},22,{"$f":"選手一覧表!H115","v":"前田恭吾"},null,"00:05:18.900",9,null,22,{"$f":"選手一覧表!H103","v":"酒井心希"},null,"00:02:44.400",6]
[23,{"$f":"選手一覧表!H92","v":"吉村司"},{"$f":"IF(選手一覧表!H92=0,\"\",選手一覧表!I92)","v":"鯖江東"},"00:05:23",2,null,23,{"$f":"選手一覧表!H80","v":"杉原歩佳"},{"$f":"IF(選手一覧表!H80=0,\"\",選手一覧表!I80)","v":"片　上"},"00:03:10.800",{"$f":"IF(J26=\"\",\"\",RANK(J26,J$4:$J$27,1))","v":15},23,{"$f":"選手一覧表!H116","v":"吉田圭悟"},{"$f":"IF(選手一覧表!H116=0,\"\",選手一覧表!I116)","v":"河和田"},"00:05:28.500",12,null,23,{"$f":"選手一覧表!H104","v":"長谷川鈴夏"},{"$f":"IF(選手一覧表!H104=0,\"\",選手一覧表!I104)","v":"進　徳"},"00:03:04.400",20]
[24,{"$f":"選手一覧表!H93","v":"大友啓太朗"},null,"00:05:24",3,null,24,{"$f":"選手一覧表!H81","v":"田村寧々"},null,"00:03:13.300",{"$f":"IF(J27=\"\",\"\",RANK(J27,J$4:$J$27,1))","v":17},24,{"$f":"選手一覧表!H117","v":"安田圭汰"},null,"00:05:47.900",17,null,24,{"$f":"選手一覧表!H105","v":"加藤　陽菜"},null,"00:03:07.100",22]
[]
[null,null,null,null,null,null,null,"新記録"]
[]
[]
[]
["－28－",null,null,null,null,null,null,null,null,null,null,"－29－"]

{"sheet":"ボール投げ","index":4,"n_rows":33,"n_cols":22,"rows_kept":33,"cut":false,"hidden":false,"merged":[[32,0,32,10],[32,11,32,21],[0,0,0,4],[0,6,0,10],[0,11,0,15],[0,17,0,21]]}
["【５年男子　ボール投げ】",null,null,null,null,null,"【５年女子　ボール投げ】",null,null,null,null,"【６年男子　ボール投げ】",null,null,null,null,null,"【６年女子　ボール投げ】"]
[]
["№","氏　　  名","学　校","記　　録","順位",null,"№","氏　　  名","学　校","記　　録","順位","№","氏　　  名","学　校","記　　録","順位",null,"№","氏　　  名","学　校","記　　録","順位"]
[1,{"$f":"選手一覧表!E226","v":"増永大志郎"},{"$f":"IF(選手一覧表!E226=0,\"\",選手一覧表!F226)","v":"中　河"},40.619999999999997,{"$f":"IF(D4=\"\",\"\",RANK(D4,$D$4:$D$27))","v":13},null,1,{"$f":"選手一覧表!E214","v":"出水彩花"},{"$f":"IF(選手一覧表!E214=0,\"\",選手一覧表!F214)","v":"片　上"},26.85,{"$f":"IF(J4=\"\",\"\",RANK(J4,$J$4:$J$27))","v":11},1,{"$f":"選手一覧表!E250","v":"板倉聖"},{"$f":"IF(選手一覧表!E250=0,\"\",選手一覧表!F250)","v":"立　待"},51.52,{"$f":"IF(O4=\"\",\"\",RANK(O4,$O$4:$O$27))","v":5},null,1,{"$f":"選手一覧表!E238","v":"鈴木麻央"},{"$f":"IF(選手一覧表!E238=0,\"\",選手一覧表!F238)","v":"立　待"},32.6,{"$f":"IF(U4=\"\",\"\",RANK(U4,$U$4:$U$27))","v":8}]
[2,{"$f":"選手一覧表!E227","v":"山根慎之介"},{"$f":"IF(選手一覧表!E227=0,\"\",選手一覧表!F227)","v":"鯖江東"},46.1,{"$f":"IF(D5=\"\",\"\",RANK(D5,$D$4:$D$27))","v":6},null,2,{"$f":"選手一覧表!E215","v":"山下桜空"},{"$f":"IF(選手一覧表!E215=0,\"\",選手一覧表!F215)","v":"鯖江東"},34.5,{"$f":"IF(J5=\"\",\"\",RANK(J5,$J$4:$J$27))","v":2},2,{"$f":"選手一覧表!E251","v":"大北陸"},{"$f":"IF(選手一覧表!E251=0,\"\",選手一覧表!F251)","v":"中　河"},44.7,{"$f":"IF(O5=\"\",\"\",RANK(O5,$O$4:$O$27))","v":14},null,2,{"$f":"選手一覧表!E239","v":"川崎　百恵"},{"$f":"IF(選手一覧表!E239=0,\"\",選手一覧表!F239)","v":"吉　川"},36.119999999999997,{"$f":"IF(U5=\"\",\"\",RANK(U5,$U$4:$U$27))","v":3}]
[3,{"$f":"選手一覧表!E228","v":"井上颯太"},{"$f":"IF(選手一覧表!E228=0,\"\",選手一覧表!F228)","v":" 豊 "},54.1,1,null,3,{"$f":"選手一覧表!E216","v":"鈴木美寿"},{"$f":"IF(選手一覧表!E216=0,\"\",選手一覧表!F216)","v":" 豊 "},23.67,19,3,{"$f":"選手一覧表!E252","v":"山田広明"},{"$f":"IF(選手一覧表!E252=0,\"\",選手一覧表!F252)","v":"北中山"},50.06,6,null,3,{"$f":"選手一覧表!E240","v":"玉村莉瑚"},{"$f":"IF(選手一覧表!E240=0,\"\",選手一覧表!F240)","v":"北中山"},37.549999999999997,2]
[4,{"$f":"選手一覧表!E229","v":"淵上一地"},{"$f":"IF(選手一覧表!E229=0,\"\",選手一覧表!F229)","v":"河和田"},44.38,9,null,4,{"$f":"選手一覧表!E217","v":"末本　響"},{"$f":"IF(選手一覧表!E217=0,\"\",選手一覧表!F217)","v":"進　徳"},25.05,16,4,{"$f":"選手一覧表!E253","v":"山内一稀"},{"$f":"IF(選手一覧表!E253=0,\"\",選手一覧表!F253)","v":"鯖江東"},52.3,3,null,4,{"$f":"選手一覧表!E241","v":"山本結香"},{"$f":"IF(選手一覧表!E241=0,\"\",選手一覧表!F241)","v":"中　河"},26.1,17]
[5,{"$f":"選手一覧表!E230","v":"前田海翔"},{"$f":"IF(選手一覧表!E230=0,\"\",選手一覧表!F230)","v":"鳥　羽"},47.82,5,null,5,{"$f":"選手一覧表!E218","v":"橋本ちはる"},{"$f":"IF(選手一覧表!E218=0,\"\",選手一覧表!F218)","v":"神　明"},29.39,6,5,{"$f":"選手一覧表!E254","v":"山口陽暉"},{"$f":"IF(選手一覧表!E254=0,\"\",選手一覧表!F254)","v":"神　明"},49.27,8,null,5,{"$f":"選手一覧表!E242","v":"島田和佳"},{"$f":"IF(選手一覧表!E242=0,\"\",選手一覧表!F242)","v":"片　上"},41.88,1]
[6,{"$f":"選手一覧表!E231","v":"福岡匠海"},{"$f":"IF(選手一覧表!E231=0,\"\",選手一覧表!F231)","v":"北中山"},36.700000000000003,19,null,6,{"$f":"選手一覧表!E219","v":"石塚咲季"},{"$f":"IF(選手一覧表!E219=0,\"\",選手一覧表!F219)","v":"北中山"},21.73,22,6,{"$f":"選手一覧表!E255","v":"近藤　大空"},{"$f":"IF(選手一覧表!E255=0,\"\",選手一覧表!F255)","v":"進　徳"},34.630000000000003,23,null,6,{"$f":"選手一覧表!E243","v":"渡辺みなと"},{"$f":"IF(選手一覧表!E243=0,\"\",選手一覧表!F243)","v":"河和田"},25.55,18]
[7,{"$f":"選手一覧表!E232","v":"平田　海智"},{"$f":"IF(選手一覧表!E232=0,\"\",選手一覧表!F232)","v":"進　徳"},37.32,18,null,7,{"$f":"選手一覧表!E220","v":"中川詩央里"},{"$f":"IF(選手一覧表!E220=0,\"\",選手一覧表!F220)","v":"河和田"},27.1,10,7,{"$f":"選手一覧表!E256","v":"前川翔英"},{"$f":"IF(選手一覧表!E256=0,\"\",選手一覧表!F256)","v":"片　上"},42.66,16,null,7,{"$f":"選手一覧表!E244","v":"岡本夢花"},{"$f":"IF(選手一覧表!E244=0,\"\",選手一覧表!F244)","v":"鯖江東"},35.479999999999997,4]
[8,{"$f":"選手一覧表!E233","v":"木津 慎之介"},{"$f":"IF(選手一覧表!E233=0,\"\",選手一覧表!F233)","v":"吉　川"},48.6,3,null,8,{"$f":"選手一覧表!E221","v":"三上埜乃花"},{"$f":"IF(選手一覧表!E221=0,\"\",選手一覧表!F221)","v":"立　待"},38.630000000000003,1,8,{"$f":"選手一覧表!E257","v":"山田悠斗"},{"$f":"IF(選手一覧表!E257=0,\"\",選手一覧表!F257)","v":"惜　陰"},34.78,22,null,8,{"$f":"選手一覧表!E245","v":"吉田咲空"},{"$f":"IF(選手一覧表!E245=0,\"\",選手一覧表!F245)","v":" 豊 "},33.08,7]
[9,{"$f":"選手一覧表!E234","v":"惣宇利翔太"},{"$f":"IF(選手一覧表!E234=0,\"\",選手一覧表!F234)","v":"神　明"},48.5,4,null,9,{"$f":"選手一覧表!E222","v":"簑輪七海"},{"$f":"IF(選手一覧表!E222=0,\"\",選手一覧表!F222)","v":"鳥　羽"},30.65,3,9,{"$f":"選手一覧表!E258","v":"島津　翔吾"},{"$f":"IF(選手一覧表!E258=0,\"\",選手一覧表!F258)","v":"吉　川"},46.88,12,null,9,{"$f":"選手一覧表!E246","v":"山本茉瑚"},{"$f":"IF(選手一覧表!E246=0,\"\",選手一覧表!F246)","v":"惜　陰"},30.02,13]
[10,{"$f":"選手一覧表!E235","v":"中村勝"},{"$f":"IF(選手一覧表!E235=0,\"\",選手一覧表!F235)","v":"惜　陰"},45.65,8,null,10,{"$f":"選手一覧表!E223","v":"福嶋詩乃"},{"$f":"IF(選手一覧表!E223=0,\"\",選手一覧表!F223)","v":"中　河"},25.1,15,10,{"$f":"選手一覧表!E259","v":"吉田樹利"},{"$f":"IF(選手一覧表!E259=0,\"\",選手一覧表!F259)","v":"鳥　羽"},59,1,null,10,{"$f":"選手一覧表!E247","v":"河野　桜子"},{"$f":"IF(選手一覧表!E247=0,\"\",選手一覧表!F247)","v":"進　徳"},24.83,19]
[11,{"$f":"選手一覧表!E236","v":"渡邉駿介"},{"$f":"IF(選手一覧表!E236=0,\"\",選手一覧表!F236)","v":"立　待"},40.799999999999997,12,null,11,{"$f":"選手一覧表!E224","v":"加藤 歩音"},{"$f":"IF(選手一覧表!E224=0,\"\",選手一覧表!F224)","v":"吉　川"},24.97,17,11,{"$f":"選手一覧表!E260","v":"武田海佑"},{"$f":"IF(選手一覧表!E260=0,\"\",選手一覧表!F260)","v":"河和田"},49.9,7,null,11,{"$f":"選手一覧表!E248","v":"坂川結咲"},{"$f":"IF(選手一覧表!E248=0,\"\",選手一覧表!F248)","v":"神　明"},31.35,11]
[12,{"$f":"選手一覧表!E237","v":"川上輝人"},{"$f":"IF(選手一覧表!E237=0,\"\",選手一覧表!F237)","v":"片　上"},33.15,24,null,12,{"$f":"選手一覧表!E225","v":"田村春菜"},{"$f":"IF(選手一覧表!E225=0,\"\",選手一覧表!F225)","v":"惜　陰"},27.8,8,12,{"$f":"選手一覧表!E261","v":"村上慎之介"},{"$f":"IF(選手一覧表!E261=0,\"\",選手一覧表!F261)","v":" 豊 "},48.93,9,null,12,{"$f":"選手一覧表!E249","v":"小林みゅう"},{"$f":"IF(選手一覧表!E249=0,\"\",選手一覧表!F249)","v":"鳥　羽"},28.02,15]
[13,{"$f":"選手一覧表!H226","v":"笠嶋想太"},{"$f":"IF(選手一覧表!H226=0,\"\",選手一覧表!I226)","v":"中　河"},38.96,17,null,13,{"$f":"選手一覧表!H214","v":0},{"$f":"IF(選手一覧表!H214=0,\"\",選手一覧表!I214)","v":""},null,"",13,{"$f":"選手一覧表!H250","v":"南研磨"},{"$f":"IF(選手一覧表!H250=0,\"\",選手一覧表!I250)","v":"立　待"},47.13,11,null,13,{"$f":"選手一覧表!H238","v":"藪瑚々那"},{"$f":"IF(選手一覧表!H238=0,\"\",選手一覧表!I238)","v":"立　待"},23.87,20]
[14,{"$f":"選手一覧表!H227","v":"木下仁志"},{"$f":"IF(選手一覧表!H227=0,\"\",選手一覧表!I227)","v":"鯖江東"},40.950000000000003,11,null,14,{"$f":"選手一覧表!H215","v":"石田愛翔"},{"$f":"IF(選手一覧表!H215=0,\"\",選手一覧表!I215)","v":"鯖江東"},29.53,5,14,{"$f":"選手一覧表!H251","v":"熊野恵汰"},{"$f":"IF(選手一覧表!H251=0,\"\",選手一覧表!I251)","v":"中　河"},38.869999999999997,20,null,14,{"$f":"選手一覧表!H239","v":"水嶋　美咲"},{"$f":"IF(選手一覧表!H239=0,\"\",選手一覧表!I239)","v":"吉　川"},29.27,14]
[15,{"$f":"選手一覧表!H228","v":"吾田咲人"},{"$f":"IF(選手一覧表!H228=0,\"\",選手一覧表!I228)","v":" 豊 "},34.619999999999997,23,null,15,{"$f":"選手一覧表!H216","v":"嶋川風花"},{"$f":"IF(選手一覧表!H216=0,\"\",選手一覧表!I216)","v":" 豊 "},21.8,21,15,{"$f":"選手一覧表!H252","v":"石塚隼"},{"$f":"IF(選手一覧表!H252=0,\"\",選手一覧表!I252)","v":"北中山"},39.9,19,null,15,{"$f":"選手一覧表!H240","v":"森井綾菜"},{"$f":"IF(選手一覧表!H240=0,\"\",選手一覧表!I240)","v":"北中山"},18.02,24]
[16,{"$f":"選手一覧表!H229","v":"能村和志"},{"$f":"IF(選手一覧表!H229=0,\"\",選手一覧表!I229)","v":"河和田"},42.1,10,null,16,{"$f":"選手一覧表!H217","v":"森橋　美穂"},{"$f":"IF(選手一覧表!H217=0,\"\",選手一覧表!I217)","v":"進　徳"},26.59,12,16,{"$f":"選手一覧表!H253","v":"橋本快斗"},{"$f":"IF(選手一覧表!H253=0,\"\",選手一覧表!I253)","v":"鯖江東"},47.82,10,null,16,{"$f":"選手一覧表!H241","v":"関心葉"},{"$f":"IF(選手一覧表!H241=0,\"\",選手一覧表!I241)","v":"中　河"},21.36,23]
[17,{"$f":"選手一覧表!H230","v":"清水丈一郎"},{"$f":"IF(選手一覧表!H230=0,\"\",選手一覧表!I230)","v":"鳥　羽"},39.69,15,null,17,{"$f":"選手一覧表!H218","v":"上杉桜礼"},{"$f":"IF(選手一覧表!H218=0,\"\",選手一覧表!I218)","v":"神　明"},26.5,13,17,{"$f":"選手一覧表!H254","v":"菊野晴輝"},{"$f":"IF(選手一覧表!H254=0,\"\",選手一覧表!I254)","v":"神　明"},41.36,17,null,17,{"$f":"選手一覧表!H242","v":"前田芙羽"},{"$f":"IF(選手一覧表!H242=0,\"\",選手一覧表!I242)","v":"片　上"},31.85,10]
[18,{"$f":"選手一覧表!H231","v":"山本敦広"},{"$f":"IF(選手一覧表!H231=0,\"\",選手一覧表!I231)","v":"北中山"},40.5,14,null,18,{"$f":"選手一覧表!H219","v":"中川芽映"},{"$f":"IF(選手一覧表!H219=0,\"\",選手一覧表!I219)","v":"北中山"},28.69,7,18,{"$f":"選手一覧表!H255","v":"前田　恭吾"},{"$f":"IF(選手一覧表!H255=0,\"\",選手一覧表!I255)","v":"進　徳"},38.29,21,null,18,{"$f":"選手一覧表!H243","v":"丸山夏歩"},{"$f":"IF(選手一覧表!H243=0,\"\",選手一覧表!I243)","v":"河和田"},22.93,21]
[19,{"$f":"選手一覧表!H232","v":"関野　祐輔"},{"$f":"IF(選手一覧表!H232=0,\"\",選手一覧表!I232)","v":"進　徳"},34.82,22,null,19,{"$f":"選手一覧表!H220","v":"漆崎優香"},{"$f":"IF(選手一覧表!H220=0,\"\",選手一覧表!I220)","v":"河和田"},20.47,23,19,{"$f":"選手一覧表!H256","v":"笠島優太"},{"$f":"IF(選手一覧表!H256=0,\"\",選手一覧表!I256)","v":"片　上"},31.33,24,null,19,{"$f":"選手一覧表!H244","v":"三田村優里"},{"$f":"IF(選手一覧表!H244=0,\"\",選手一覧表!I244)","v":"鯖江東"},32.1,9]
[20,{"$f":"選手一覧表!H233","v":"竹嶋 健杜"},{"$f":"IF(選手一覧表!H233=0,\"\",選手一覧表!I233)","v":"吉　川"},35.799999999999997,20,null,20,{"$f":"選手一覧表!H221","v":"渡辺実里"},{"$f":"IF(選手一覧表!H221=0,\"\",選手一覧表!I221)","v":"立　待"},24.82,18,20,{"$f":"選手一覧表!H257","v":"山森藍暁"},{"$f":"IF(選手一覧表!H257=0,\"\",選手一覧表!I257)","v":"惜　陰"},40.340000000000003,18,null,20,{"$f":"選手一覧表!H245","v":"永田未唯"},{"$f":"IF(選手一覧表!H245=0,\"\",選手一覧表!I245)","v":" 豊 "},33.33,5]
[21,{"$f":"選手一覧表!H234","v":"友田泰成"},{"$f":"IF(選手一覧表!H234=0,\"\",選手一覧表!I234)","v":"神　明"},45.8,7,null,21,{"$f":"選手一覧表!H222","v":"森本真央"},{"$f":"IF(選手一覧表!H222=0,\"\",選手一覧表!I222)","v":"鳥　羽"},27.5,9,21,{"$f":"選手一覧表!H258","v":"堀内　拳士郎"},{"$f":"IF(選手一覧表!H258=0,\"\",選手一覧表!I258)","v":"吉　川"},46.06,13,null,21,{"$f":"選手一覧表!H246","v":"大柳美心"},{"$f":"IF(選手一覧表!H246=0,\"\",選手一覧表!I246)","v":"惜　陰"},27.82,16]
[22,{"$f":"選手一覧表!H235","v":"濵野孝教"},{"$f":"IF(選手一覧表!H235=0,\"\",選手一覧表!I235)","v":"惜　陰"},53.39,2,null,22,{"$f":"選手一覧表!H223","v":"武田衣咲"},{"$f":"IF(選手一覧表!H223=0,\"\",選手一覧表!I223)","v":"中　河"},26.2,14,22,{"$f":"選手一覧表!H259","v":"田畑祈志"},{"$f":"IF(選手一覧表!H259=0,\"\",選手一覧表!I259)","v":"鳥　羽"},44.3,15,null,22,{"$f":"選手一覧表!H247","v":"牧野　楓香"},{"$f":"IF(選手一覧表!H247=0,\"\",選手一覧表!I247)","v":"進　徳"},22.62,22]
[23,{"$f":"選手一覧表!H236","v":"古庄陽心"},{"$f":"IF(選手一覧表!H236=0,\"\",選手一覧表!I236)","v":"立　待"},35.14,21,null,23,{"$f":"選手一覧表!H224","v":"松宮 由奈"},{"$f":"IF(選手一覧表!H224=0,\"\",選手一覧表!I224)","v":"吉　川"},22.9,20,23,{"$f":"選手一覧表!H260","v":"谷口康介"},{"$f":"IF(選手一覧表!H260=0,\"\",選手一覧表!I260)","v":"河和田"},54.98,2,null,23,{"$f":"選手一覧表!H248","v":"吉村緋那"},{"$f":"IF(選手一覧表!H248=0,\"\",選手一覧表!I248)","v":"神　明"},33.159999999999997,6]
[24,{"$f":"選手一覧表!H237","v":"笠島竜位"},{"$f":"IF(選手一覧表!H237=0,\"\",選手一覧表!I237)","v":"片　上"},39.049999999999997,16,null,24,{"$f":"選手一覧表!H225","v":"吉田桜子"},{"$f":"IF(選手一覧表!H225=0,\"\",選手一覧表!I225)","v":"惜　陰"},29.99,4,24,{"$f":"選手一覧表!H261","v":"坂井翔太郎"},{"$f":"IF(選手一覧表!H261=0,\"\",選手一覧表!I261)","v":" 豊 "},51.72,4,null,24,{"$f":"選手一覧表!H249","v":"太田ゆき"},{"$f":"IF(選手一覧表!H249=0,\"\",選手一覧表!I249)","v":"鳥　羽"},31.06,12]
[]
[null,null,null,null,null,null,null,null,null,null,null,null,null,"入賞"]
[]
[]
[]
["－30－",null,null,null,null,null,null,null,null,null,null,"－31－"]

{"sheet":"走高跳","index":5,"n_rows":33,"n_cols":22,"rows_kept":33,"cut":false,"hidden":false,"merged":[[32,0,32,10],[32,11,32,21],[0,0,0,4],[0,6,0,10],[0,11,0,15],[0,17,0,21]]}
["【５年男子　走高跳】",null,null,null,null,null,"【５年女子　走高跳】",null,null,null,null,"【６年男子　走高跳】",null,null,null,null,null,"【６年女子　走高跳】"]
[]
["№","氏　　  名","学　校","記　　録","順位",null,"№","氏　　  名","学　校","記　　録","順位","№","氏　　  名","学　校","記　　録","順位",null,"№","氏　　  名","学　校","記　　録","順位"]
[1,{"$f":"選手一覧表!E178","v":"杉山 聖"},{"$f":"IF(選手一覧表!E178=0,\"\",選手一覧表!F178)","v":"吉　川"},110.4,{"$f":"IF(D4=\"\",\"\",RANK(D4,$D$4:$D$27))","v":4},null,1,{"$f":"選手一覧表!E166","v":"西川梓央里"},{"$f":"IF(選手一覧表!E166=0,\"\",選手一覧表!F166)","v":"片　上"},95,{"$f":"IF(J4=\"\",\"\",RANK(J4,$J$4:$J$27))","v":17},1,{"$f":"選手一覧表!E202","v":"近藤大空"},{"$f":"IF(選手一覧表!E202=0,\"\",選手一覧表!F202)","v":"進　徳"},110,{"$f":"IF(O4=\"\",\"\",RANK(O4,$O$4:$O$27))","v":11},null,1,{"$f":"選手一覧表!E190","v":"渡辺　鈴藍"},{"$f":"IF(選手一覧表!E190=0,\"\",選手一覧表!F190)","v":"吉　川"},110,{"$f":"IF(U4=\"\",\"\",RANK(U4,$U$4:$U$27))","v":9}]
[2,{"$f":"選手一覧表!E179","v":"市橋大和"},{"$f":"IF(選手一覧表!E179=0,\"\",選手一覧表!F179)","v":"河和田"},100,{"$f":"IF(D5=\"\",\"\",RANK(D5,$D$4:$D$27))","v":17},null,2,{"$f":"選手一覧表!E167","v":"大森眞子"},{"$f":"IF(選手一覧表!E167=0,\"\",選手一覧表!F167)","v":"北中山"},95,{"$f":"IF(J5=\"\",\"\",RANK(J5,$J$4:$J$27))","v":17},2,{"$f":"選手一覧表!E203","v":"上木龍二"},{"$f":"IF(選手一覧表!E203=0,\"\",選手一覧表!F203)","v":"鯖江東"},110,{"$f":"IF(O5=\"\",\"\",RANK(O5,$O$4:$O$27))","v":11},null,2,{"$f":"選手一覧表!E191","v":"山田樹希"},{"$f":"IF(選手一覧表!E191=0,\"\",選手一覧表!F191)","v":"鳥　羽"},110,{"$f":"IF(U5=\"\",\"\",RANK(U5,$U$4:$U$27))","v":9}]
[3,{"$f":"選手一覧表!E180","v":"髙橋飛翔"},{"$f":"IF(選手一覧表!E180=0,\"\",選手一覧表!F180)","v":"鳥　羽"},110.4,4,null,3,{"$f":"選手一覧表!E168","v":"澤田 笑唯奈"},{"$f":"IF(選手一覧表!E168=0,\"\",選手一覧表!F168)","v":"河和田"},105.2,7,3,{"$f":"選手一覧表!E204","v":"志村　碧"},{"$f":"IF(選手一覧表!E204=0,\"\",選手一覧表!F204)","v":"吉　川"},120.2,8,null,3,{"$f":"選手一覧表!E192","v":"齋藤楓花"},{"$f":"IF(選手一覧表!E192=0,\"\",選手一覧表!F192)","v":"鯖江東"},110,9]
[4,{"$f":"選手一覧表!E181","v":"野尻晃矢"},{"$f":"IF(選手一覧表!E181=0,\"\",選手一覧表!F181)","v":"神　明"},118,1,null,4,{"$f":"選手一覧表!E169","v":"山口 可暖"},{"$f":"IF(選手一覧表!E169=0,\"\",選手一覧表!F169)","v":"吉　川"},100,11,4,{"$f":"選手一覧表!E205","v":"橋本眞那士"},{"$f":"IF(選手一覧表!E205=0,\"\",選手一覧表!F205)","v":" 豊 "},null,"",null,4,{"$f":"選手一覧表!E193","v":"戸谷有菜"},{"$f":"IF(選手一覧表!E193=0,\"\",選手一覧表!F193)","v":" 豊 "},115.2,7]
[5,{"$f":"選手一覧表!E182","v":"為国龍矢"},{"$f":"IF(選手一覧表!E182=0,\"\",選手一覧表!F182)","v":"片　上"},null,"",null,5,{"$f":"選手一覧表!E170","v":"黒木莉央"},{"$f":"IF(選手一覧表!E170=0,\"\",選手一覧表!F170)","v":" 豊 "},null,"",5,{"$f":"選手一覧表!E206","v":"田中翔"},{"$f":"IF(選手一覧表!E206=0,\"\",選手一覧表!F206)","v":"神　明"},130,1,null,5,{"$f":"選手一覧表!E194","v":"蓑輪　紗里"},{"$f":"IF(選手一覧表!E194=0,\"\",選手一覧表!F194)","v":"進　徳"},105,17]
[6,{"$f":"選手一覧表!E183","v":"木林凱飛"},{"$f":"IF(選手一覧表!E183=0,\"\",選手一覧表!F183)","v":"中　河"},null,"",null,6,{"$f":"選手一覧表!E171","v":"竹内心和"},{"$f":"IF(選手一覧表!E171=0,\"\",選手一覧表!F171)","v":"鳥　羽"},100,11,6,{"$f":"選手一覧表!E207","v":"中出颯空"},{"$f":"IF(選手一覧表!E207=0,\"\",選手一覧表!F207)","v":"片　上"},110,11,null,6,{"$f":"選手一覧表!E195","v":"大土呂碧"},{"$f":"IF(選手一覧表!E195=0,\"\",選手一覧表!F195)","v":"惜　陰"},110,9]
[7,{"$f":"選手一覧表!E184","v":"橋本直樹"},{"$f":"IF(選手一覧表!E184=0,\"\",選手一覧表!F184)","v":" 豊 "},105,14,null,7,{"$f":"選手一覧表!E172","v":"堀由羅"},{"$f":"IF(選手一覧表!E172=0,\"\",選手一覧表!F172)","v":"中　河"},100,11,7,{"$f":"選手一覧表!E208","v":"吉村乙輝"},{"$f":"IF(選手一覧表!E208=0,\"\",選手一覧表!F208)","v":"中　河"},115,9,null,7,{"$f":"選手一覧表!E196","v":"渡辺みなと"},{"$f":"IF(選手一覧表!E196=0,\"\",選手一覧表!F196)","v":"河和田"},110,9]
[8,{"$f":"選手一覧表!E185","v":"松田啓太郎"},{"$f":"IF(選手一覧表!E185=0,\"\",選手一覧表!F185)","v":"進　徳"},null,"",null,8,{"$f":"選手一覧表!E173","v":"飯田美樹"},{"$f":"IF(選手一覧表!E173=0,\"\",選手一覧表!F173)","v":"惜　陰"},120,2,8,{"$f":"選手一覧表!E209","v":"田辺豊城"},{"$f":"IF(選手一覧表!E209=0,\"\",選手一覧表!F209)","v":"惜　陰"},110,11,null,8,{"$f":"選手一覧表!E197","v":"紫阿南"},{"$f":"IF(選手一覧表!E197=0,\"\",選手一覧表!F197)","v":"立　待"},115.4,5]
[9,{"$f":"選手一覧表!E186","v":"増永龍之介"},{"$f":"IF(選手一覧表!E186=0,\"\",選手一覧表!F186)","v":"立　待"},105.4,13,null,9,{"$f":"選手一覧表!E174","v":"権藤あずみ"},{"$f":"IF(選手一覧表!E174=0,\"\",選手一覧表!F174)","v":"神　明"},110.3,4,9,{"$f":"選手一覧表!E210","v":"廣瀨彰栄"},{"$f":"IF(選手一覧表!E210=0,\"\",選手一覧表!F210)","v":"鳥　羽"},120.6,3,null,9,{"$f":"選手一覧表!E198","v":"田中晴乃"},{"$f":"IF(選手一覧表!E198=0,\"\",選手一覧表!F198)","v":"中　河"},105,17]
[10,{"$f":"選手一覧表!E187","v":"岩壁篤史"},{"$f":"IF(選手一覧表!E187=0,\"\",選手一覧表!F187)","v":"鯖江東"},110.2,8,null,10,{"$f":"選手一覧表!E175","v":"嶋田真観"},{"$f":"IF(選手一覧表!E175=0,\"\",選手一覧表!F175)","v":"鯖江東"},100,11,10,{"$f":"選手一覧表!E211","v":"田口友翔"},{"$f":"IF(選手一覧表!E211=0,\"\",選手一覧表!F211)","v":"立　待"},120.3,7,null,10,{"$f":"選手一覧表!E199","v":"松本茉央"},{"$f":"IF(選手一覧表!E199=0,\"\",選手一覧表!F199)","v":"神　明"},115.1,8]
[11,{"$f":"選手一覧表!E188","v":"黒田啓介"},{"$f":"IF(選手一覧表!E188=0,\"\",選手一覧表!F188)","v":"北中山"},116.2,2,null,11,{"$f":"選手一覧表!E176","v":"大川美空"},{"$f":"IF(選手一覧表!E176=0,\"\",選手一覧表!F176)","v":"進　徳"},95,17,11,{"$f":"選手一覧表!E212","v":"髙野桜河"},{"$f":"IF(選手一覧表!E212=0,\"\",選手一覧表!F212)","v":"河和田"},110,11,null,11,{"$f":"選手一覧表!E200","v":"安田奈央"},{"$f":"IF(選手一覧表!E200=0,\"\",選手一覧表!F200)","v":"片　上"},110,9]
[12,{"$f":"選手一覧表!E189","v":"滝純志郎"},{"$f":"IF(選手一覧表!E189=0,\"\",選手一覧表!F189)","v":"惜　陰"},116.1,3,null,12,{"$f":"選手一覧表!E177","v":"五十嵐愛莉"},{"$f":"IF(選手一覧表!E177=0,\"\",選手一覧表!F177)","v":"立　待"},100,11,12,{"$f":"選手一覧表!E213","v":"五十子琳望"},{"$f":"IF(選手一覧表!E213=0,\"\",選手一覧表!F213)","v":"北中山"},110,11,null,12,{"$f":"選手一覧表!E201","v":"酒井優良"},{"$f":"IF(選手一覧表!E201=0,\"\",選手一覧表!F201)","v":"北中山"},105,17]
[13,{"$f":"選手一覧表!H178","v":"石川 景慈郎"},{"$f":"IF(選手一覧表!H178=0,\"\",選手一覧表!I178)","v":"吉　川"},110.2,8,null,13,{"$f":"選手一覧表!H166","v":0},{"$f":"IF(選手一覧表!H166=0,\"\",選手一覧表!I166)","v":""},null,"",13,{"$f":"選手一覧表!H202","v":"水野　俊"},{"$f":"IF(選手一覧表!H202=0,\"\",選手一覧表!I202)","v":"進　徳"},115,9,null,13,{"$f":"選手一覧表!H190","v":"刀祢　梨加　"},{"$f":"IF(選手一覧表!H190=0,\"\",選手一覧表!I190)","v":"吉　川"},null,""]
[14,{"$f":"選手一覧表!H179","v":"相馬直哉"},{"$f":"IF(選手一覧表!H179=0,\"\",選手一覧表!I179)","v":"河和田"},null,"",null,14,{"$f":"選手一覧表!H167","v":"西川伶奈"},{"$f":"IF(選手一覧表!H167=0,\"\",選手一覧表!I167)","v":"北中山"},null,"",14,{"$f":"選手一覧表!H203","v":"三田村悠大"},{"$f":"IF(選手一覧表!H203=0,\"\",選手一覧表!I203)","v":"鯖江東"},120.5,5,null,14,{"$f":"選手一覧表!H191","v":"小林みゅう"},{"$f":"IF(選手一覧表!H191=0,\"\",選手一覧表!I191)","v":"鳥　羽"},120.2,2]
[15,{"$f":"選手一覧表!H180","v":"蓑輪翼"},{"$f":"IF(選手一覧表!H180=0,\"\",選手一覧表!I180)","v":"鳥　羽"},110.3,7,null,15,{"$f":"選手一覧表!H168","v":"山田陽菜"},{"$f":"IF(選手一覧表!H168=0,\"\",選手一覧表!I168)","v":"河和田"},105,10,15,{"$f":"選手一覧表!H204","v":"針原　歩"},{"$f":"IF(選手一覧表!H204=0,\"\",選手一覧表!I204)","v":"吉　川"},110,11,null,15,{"$f":"選手一覧表!H192","v":"佐々木由良"},{"$f":"IF(選手一覧表!H192=0,\"\",選手一覧表!I192)","v":"鯖江東"},115.3,6]
[16,{"$f":"選手一覧表!H181","v":"加藤証"},{"$f":"IF(選手一覧表!H181=0,\"\",選手一覧表!I181)","v":"神　明"},110.4,4,null,16,{"$f":"選手一覧表!H169","v":"柴田 実侑"},{"$f":"IF(選手一覧表!H169=0,\"\",選手一覧表!I169)","v":"吉　川"},105.1,8,16,{"$f":"選手一覧表!H205","v":"宝泉雄飛"},{"$f":"IF(選手一覧表!H205=0,\"\",選手一覧表!I205)","v":" 豊 "},110,11,null,16,{"$f":"選手一覧表!H193","v":"中島琉星"},{"$f":"IF(選手一覧表!H193=0,\"\",選手一覧表!I193)","v":" 豊 "},120.3,1]
[17,{"$f":"選手一覧表!H182","v":"小山虎流"},{"$f":"IF(選手一覧表!H182=0,\"\",選手一覧表!I182)","v":"片　上"},null,"",null,17,{"$f":"選手一覧表!H170","v":"中村夏菜"},{"$f":"IF(選手一覧表!H170=0,\"\",選手一覧表!I170)","v":" 豊 "},115,3,17,{"$f":"選手一覧表!H206","v":"木本凌輔"},{"$f":"IF(選手一覧表!H206=0,\"\",選手一覧表!I206)","v":"神　明"},110,11,null,17,{"$f":"選手一覧表!H194","v":"牧野　楓香"},{"$f":"IF(選手一覧表!H194=0,\"\",選手一覧表!I194)","v":"進　徳"},105,17]
[18,{"$f":"選手一覧表!H183","v":"大門千速"},{"$f":"IF(選手一覧表!H183=0,\"\",選手一覧表!I183)","v":"中　河"},110.1,10,null,18,{"$f":"選手一覧表!H171","v":"吉田帆麻里"},{"$f":"IF(選手一覧表!H171=0,\"\",選手一覧表!I171)","v":"鳥　羽"},120.1,1,18,{"$f":"選手一覧表!H207","v":"為永優希"},{"$f":"IF(選手一覧表!H207=0,\"\",選手一覧表!I207)","v":"片　上"},110,11,null,18,{"$f":"選手一覧表!H195","v":"岩壁十和"},{"$f":"IF(選手一覧表!H195=0,\"\",選手一覧表!I195)","v":"惜　陰"},120,4]
[19,{"$f":"選手一覧表!H184","v":"山本　駈"},{"$f":"IF(選手一覧表!H184=0,\"\",選手一覧表!I184)","v":" 豊 "},105,14,null,19,{"$f":"選手一覧表!H172","v":"山田望結"},{"$f":"IF(選手一覧表!H172=0,\"\",選手一覧表!I172)","v":"中　河"},100,11,19,{"$f":"選手一覧表!H208","v":"西澤龍星"},{"$f":"IF(選手一覧表!H208=0,\"\",選手一覧表!I208)","v":"中　河"},110,11,null,19,{"$f":"選手一覧表!H196","v":"道屋愛菜"},{"$f":"IF(選手一覧表!H196=0,\"\",選手一覧表!I196)","v":"河和田"},110,9]
[20,{"$f":"選手一覧表!H185","v":"竹内　孝介"},{"$f":"IF(選手一覧表!H185=0,\"\",選手一覧表!I185)","v":"進　徳"},null,"",null,20,{"$f":"選手一覧表!H173","v":"鈴木胡音"},{"$f":"IF(選手一覧表!H173=0,\"\",選手一覧表!I173)","v":"惜　陰"},null,"",20,{"$f":"選手一覧表!H209","v":"堀江遼大"},{"$f":"IF(選手一覧表!H209=0,\"\",選手一覧表!I209)","v":"惜　陰"},110,11,null,20,{"$f":"選手一覧表!H197","v":"林舞夢"},{"$f":"IF(選手一覧表!H197=0,\"\",選手一覧表!I197)","v":"立　待"},110,9]
[21,{"$f":"選手一覧表!H186","v":"小原空"},{"$f":"IF(選手一覧表!H186=0,\"\",選手一覧表!I186)","v":"立　待"},null,"",null,21,{"$f":"選手一覧表!H174","v":"瓜生彩華"},{"$f":"IF(選手一覧表!H174=0,\"\",選手一覧表!I174)","v":"神　明"},105.1,8,21,{"$f":"選手一覧表!H210","v":"寺崎颯汰"},{"$f":"IF(選手一覧表!H210=0,\"\",選手一覧表!I210)","v":"鳥　羽"},120.6,3,null,21,{"$f":"選手一覧表!H198","v":"中村晴"},{"$f":"IF(選手一覧表!H198=0,\"\",選手一覧表!I198)","v":"中　河"},105,17]
[22,{"$f":"選手一覧表!H187","v":"内田琢也"},{"$f":"IF(選手一覧表!H187=0,\"\",選手一覧表!I187)","v":"鯖江東"},110,12,null,22,{"$f":"選手一覧表!H175","v":"宮田七奈"},{"$f":"IF(選手一覧表!H175=0,\"\",選手一覧表!I175)","v":"鯖江東"},null,"",22,{"$f":"選手一覧表!H211","v":"伊藤優羽太"},{"$f":"IF(選手一覧表!H211=0,\"\",選手一覧表!I211)","v":"立　待"},120.4,6,null,22,{"$f":"選手一覧表!H199","v":"德本茉侑"},{"$f":"IF(選手一覧表!H199=0,\"\",選手一覧表!I199)","v":"神　明"},120.1,3]
[23,{"$f":"選手一覧表!H188","v":"山内脩誠"},{"$f":"IF(選手一覧表!H188=0,\"\",選手一覧表!I188)","v":"北中山"},105,14,null,23,{"$f":"選手一覧表!H176","v":"佐野こころ"},{"$f":"IF(選手一覧表!H176=0,\"\",選手一覧表!I176)","v":"進　徳"},110.2,6,23,{"$f":"選手一覧表!H212","v":"武田海佑"},{"$f":"IF(選手一覧表!H212=0,\"\",選手一覧表!I212)","v":"河和田"},null,"",null,23,{"$f":"選手一覧表!H200","v":"前田芙羽"},{"$f":"IF(選手一覧表!H200=0,\"\",選手一覧表!I200)","v":"片　上"},null,""]
[24,{"$f":"選手一覧表!H189","v":"齋藤正義"},{"$f":"IF(選手一覧表!H189=0,\"\",選手一覧表!I189)","v":"惜　陰"},110.1,10,null,24,{"$f":"選手一覧表!H177","v":"川﨑野々香"},{"$f":"IF(選手一覧表!H177=0,\"\",選手一覧表!I177)","v":"立　待"},110.3,4,24,{"$f":"選手一覧表!H213","v":"金粕武尊"},{"$f":"IF(選手一覧表!H213=0,\"\",選手一覧表!I213)","v":"北中山"},125,2,null,24,{"$f":"選手一覧表!H201","v":"今小路瑞華子"},{"$f":"IF(選手一覧表!H201=0,\"\",選手一覧表!I201)","v":"北中山"},null,""]
[]
[]
[]
[]
[]
["－32－",null,null,null,null,null,null,null,null,null,null,"－33－"]

{"sheet":"走幅跳","index":6,"n_rows":33,"n_cols":32,"rows_kept":33,"cut":false,"hidden":false,"merged":[[0,24,0,31],[32,24,32,31],[0,0,0,7],[32,0,32,7],[0,8,0,15],[32,8,32,15],[0,16,0,23],[32,16,32,23]]}
["【５年男子　走幅跳】",null,null,null,null,null,null,null,"【５年女子　走幅跳】",null,null,null,null,null,null,null,"【６年男子　走幅跳】",null,null,null,null,null,null,null,"【６年女子　走幅跳】"]
[]
["№","氏　　  名","学　校","１ 回 目","２ 回 目","３ 回 目","記　　録","順位","№","氏　　  名","学　校","１ 回 目","２ 回 目","３ 回 目","記　　録","順位","№","氏　　  名","学　校","１ 回 目","２ 回 目","３ 回 目","記　　録","順位","№","氏　　  名","学　校","１ 回 目","２ 回 目","３ 回 目","記　　録","順位"]
[1,{"$f":"選手一覧表!E130","v":"手鹿 蓮斗"},{"$f":"IF(選手一覧表!E130=0,\"\",選手一覧表!F130)","v":"吉　川"},null,null,null,359,{"$f":"IF(G4=\"\",\"\",RANK(G4,$G$4:$G$27))","v":7},1,{"$f":"選手一覧表!E118","v":"山田稚乃"},{"$f":"IF(選手一覧表!E118=0,\"\",選手一覧表!F118)","v":"鳥　羽"},null,null,null,334,{"$f":"IF(O4=\"\",\"\",RANK(O4,$O$4:$O$27))","v":5},1,{"$f":"選手一覧表!E154","v":"川江凜太郎"},{"$f":"IF(選手一覧表!E154=0,\"\",選手一覧表!F154)","v":"鳥　羽"},null,null,null,414,{"$f":"IF(W4=\"\",\"\",RANK(W4,$W$4:$W$27))","v":2},1,{"$f":"選手一覧表!E142","v":"山岸愛子"},{"$f":"IF(選手一覧表!E142=0,\"\",選手一覧表!F142)","v":"鯖江東"},null,null,null,"N",{"$f":"IF(AE4=\"\",\"\",RANK(AE4,$AE$4:$AE$27))","v":{"$error":"#VALUE!"}}]
[2,{"$f":"選手一覧表!E131","v":"岩原更柊"},{"$f":"IF(選手一覧表!E131=0,\"\",選手一覧表!F131)","v":"立　待"},null,null,null,323,17,2,{"$f":"選手一覧表!E119","v":"窪田乃々佳"},{"$f":"IF(選手一覧表!E119=0,\"\",選手一覧表!F119)","v":"惜　陰"},null,null,null,287,{"$f":"IF(O5=\"\",\"\",RANK(O5,$O$4:$O$27))","v":16},2,{"$f":"選手一覧表!E155","v":"岩壁優汰"},{"$f":"IF(選手一覧表!E155=0,\"\",選手一覧表!F155)","v":"鯖江東"},353,329,350,353.1,{"$f":"IF(W5=\"\",\"\",RANK(W5,$W$4:$W$27))","v":17},2,{"$f":"選手一覧表!E143","v":"増永安莉"},{"$f":"IF(選手一覧表!E143=0,\"\",選手一覧表!F143)","v":"河和田"},null,null,null,318,{"$f":"IF(AE5=\"\",\"\",RANK(AE5,$AE$4:$AE$27))","v":13}]
[3,{"$f":"選手一覧表!E132","v":"齋藤晴一"},{"$f":"IF(選手一覧表!E132=0,\"\",選手一覧表!F132)","v":"片　上"},null,null,null,347,11,3,{"$f":"選手一覧表!E120","v":"清水真菜実"},{"$f":"IF(選手一覧表!E120=0,\"\",選手一覧表!F120)","v":"進　徳"},null,null,null,315,9,3,{"$f":"選手一覧表!E156","v":"北道巧真"},{"$f":"IF(選手一覧表!E156=0,\"\",選手一覧表!F156)","v":"立　待"},null,null,null,393,5,3,{"$f":"選手一覧表!E144","v":"髙間海友"},{"$f":"IF(選手一覧表!E144=0,\"\",選手一覧表!F144)","v":" 豊 "},null,null,null,295,21]
[4,{"$f":"選手一覧表!E133","v":"大平莉久"},{"$f":"IF(選手一覧表!E133=0,\"\",選手一覧表!F133)","v":"中　河"},null,null,null,321,18,4,{"$f":"選手一覧表!E121","v":"柑本浩奈"},{"$f":"IF(選手一覧表!E121=0,\"\",選手一覧表!F121)","v":"立　待"},null,null,null,351,3,4,{"$f":"選手一覧表!E157","v":"真柄　央"},{"$f":"IF(選手一覧表!E157=0,\"\",選手一覧表!F157)","v":" 豊 "},353,343,338,353,18,4,{"$f":"選手一覧表!E145","v":"田中　里璃"},{"$f":"IF(選手一覧表!E145=0,\"\",選手一覧表!F145)","v":"吉　川"},null,null,null,350,2]
[5,{"$f":"選手一覧表!E134","v":"酒井夢雅"},{"$f":"IF(選手一覧表!E134=0,\"\",選手一覧表!F134)","v":"北中山"},null,null,null,346,12,5,{"$f":"選手一覧表!E122","v":"大田夢彩"},{"$f":"IF(選手一覧表!E122=0,\"\",選手一覧表!F122)","v":"神　明"},null,null,null,294,13,5,{"$f":"選手一覧表!E158","v":"佐々木謙太郎"},{"$f":"IF(選手一覧表!E158=0,\"\",選手一覧表!F158)","v":"中　河"},null,null,null,306,24,5,{"$f":"選手一覧表!E146","v":"瀧波　奈々"},{"$f":"IF(選手一覧表!E146=0,\"\",選手一覧表!F146)","v":"進　徳"},312,293,316,316,15]
[6,{"$f":"選手一覧表!E135","v":"長谷川翔大"},{"$f":"IF(選手一覧表!E135=0,\"\",選手一覧表!F135)","v":"惜　陰"},null,null,null,345,13,6,{"$f":"選手一覧表!E123","v":"玉村喜音"},{"$f":"IF(選手一覧表!E123=0,\"\",選手一覧表!F123)","v":"北中山"},"F",276,"F",276,19,6,{"$f":"選手一覧表!E159","v":"山口了生"},{"$f":"IF(選手一覧表!E159=0,\"\",選手一覧表!F159)","v":"片　上"},null,null,null,344,21,6,{"$f":"選手一覧表!E147","v":"和泉英紗"},{"$f":"IF(選手一覧表!E147=0,\"\",選手一覧表!F147)","v":"立　待"},null,null,null,"N",{"$error":"#VALUE!"}]
[7,{"$f":"選手一覧表!E136","v":"関野　祐輔"},{"$f":"IF(選手一覧表!E136=0,\"\",選手一覧表!F136)","v":"進　徳"},null,null,null,297,23,7,{"$f":"選手一覧表!E124","v":"小野夏紀"},{"$f":"IF(選手一覧表!E124=0,\"\",選手一覧表!F124)","v":"中　河"},263,269,276,276.10000000000002,18,7,{"$f":"選手一覧表!E160","v":"牧野　康太"},{"$f":"IF(選手一覧表!E160=0,\"\",選手一覧表!F160)","v":"吉　川"},null,null,null,370,12,7,{"$f":"選手一覧表!E148","v":"酒井心希"},{"$f":"IF(選手一覧表!E148=0,\"\",選手一覧表!F148)","v":"北中山"},null,null,null,312,17]
[8,{"$f":"選手一覧表!E137","v":"吉村司"},{"$f":"IF(選手一覧表!E137=0,\"\",選手一覧表!F137)","v":"鯖江東"},null,null,null,373,3,8,{"$f":"選手一覧表!E125","v":"米沢日那"},{"$f":"IF(選手一覧表!E125=0,\"\",選手一覧表!F125)","v":" 豊 "},null,null,null,274,20,8,{"$f":"選手一覧表!E161","v":"齋藤　大晟"},{"$f":"IF(選手一覧表!E161=0,\"\",選手一覧表!F161)","v":"進　徳"},null,null,null,364,13,8,{"$f":"選手一覧表!E149","v":"谷田理鳳"},{"$f":"IF(選手一覧表!E149=0,\"\",選手一覧表!F149)","v":"惜　陰"},316,304,312,316.10000000000002,14]
[9,{"$f":"選手一覧表!E138","v":"寺﨑凌雅"},{"$f":"IF(選手一覧表!E138=0,\"\",選手一覧表!F138)","v":" 豊 "},null,null,null,303,22,9,{"$f":"選手一覧表!E126","v":"西川梓央里"},{"$f":"IF(選手一覧表!E126=0,\"\",選手一覧表!F126)","v":"片　上"},null,null,null,250,23,9,{"$f":"選手一覧表!E162","v":"秋元椋"},{"$f":"IF(選手一覧表!E162=0,\"\",選手一覧表!F162)","v":"惜　陰"},null,null,null,350,19,9,{"$f":"選手一覧表!E150","v":"和田絢柚子"},{"$f":"IF(選手一覧表!E150=0,\"\",選手一覧表!F150)","v":"神　明"},null,null,null,349,3]
[10,{"$f":"選手一覧表!E139","v":"多田大志"},{"$f":"IF(選手一覧表!E139=0,\"\",選手一覧表!F139)","v":"河和田"},304,null,353,353,9,10,{"$f":"選手一覧表!E127","v":"堀結葉"},{"$f":"IF(選手一覧表!E127=0,\"\",選手一覧表!F127)","v":"鯖江東"},null,null,null,338,4,10,{"$f":"選手一覧表!E163","v":"瀧波和大"},{"$f":"IF(選手一覧表!E163=0,\"\",選手一覧表!F163)","v":"神　明"},null,null,null,389,7,10,{"$f":"選手一覧表!E151","v":"宮本唯衣"},{"$f":"IF(選手一覧表!E151=0,\"\",選手一覧表!F151)","v":"片　上"},null,null,null,296,20]
[11,{"$f":"選手一覧表!E140","v":"加藤証"},{"$f":"IF(選手一覧表!E140=0,\"\",選手一覧表!F140)","v":"神　明"},null,null,null,392,2,11,{"$f":"選手一覧表!E128","v":"石田 花凜"},{"$f":"IF(選手一覧表!E128=0,\"\",選手一覧表!F128)","v":"吉　川"},null,null,null,297,12,11,{"$f":"選手一覧表!E164","v":"木村泰千"},{"$f":"IF(選手一覧表!E164=0,\"\",選手一覧表!F164)","v":"北中山"},null,null,null,358,15,11,{"$f":"選手一覧表!E152","v":"山本晏"},{"$f":"IF(選手一覧表!E152=0,\"\",選手一覧表!F152)","v":"鳥　羽"},null,null,null,301,19]
[12,{"$f":"選手一覧表!E141","v":"中川大聖"},{"$f":"IF(選手一覧表!E141=0,\"\",選手一覧表!F141)","v":"鳥　羽"},null,null,null,312,21,12,{"$f":"選手一覧表!E129","v":"山田陽菜"},{"$f":"IF(選手一覧表!E129=0,\"\",選手一覧表!F129)","v":"河和田"},null,null,null,302,11,12,{"$f":"選手一覧表!E165","v":"佐々木学道"},{"$f":"IF(選手一覧表!E165=0,\"\",選手一覧表!F165)","v":"河和田"},null,null,null,409,3,12,{"$f":"選手一覧表!E153","v":"齋藤智子"},{"$f":"IF(選手一覧表!E153=0,\"\",選手一覧表!F153)","v":"中　河"},null,null,null,326,9]
[13,{"$f":"選手一覧表!H130","v":"熊野 隆一"},{"$f":"IF(選手一覧表!H130=0,\"\",選手一覧表!I130)","v":"吉　川"},null,null,null,338,14,13,{"$f":"選手一覧表!H118","v":"西村萠花"},{"$f":"IF(選手一覧表!H118=0,\"\",選手一覧表!I118)","v":"鳥　羽"},null,null,null,271,21,13,{"$f":"選手一覧表!H154","v":"土井大翔"},{"$f":"IF(選手一覧表!H154=0,\"\",選手一覧表!I154)","v":"鳥　羽"},null,null,null,380,10,13,{"$f":"選手一覧表!H142","v":"笠原夕楽"},{"$f":"IF(選手一覧表!H142=0,\"\",選手一覧表!I142)","v":"鯖江東"},null,null,null,310,18]
[14,{"$f":"選手一覧表!H131","v":"藤井大暉"},{"$f":"IF(選手一覧表!H131=0,\"\",選手一覧表!I131)","v":"立　待"},null,null,null,370,4,14,{"$f":"選手一覧表!H119","v":"浅野真矢"},{"$f":"IF(選手一覧表!H119=0,\"\",選手一覧表!I119)","v":"惜　陰"},null,null,null,293,14,14,{"$f":"選手一覧表!H155","v":"森田結翔"},{"$f":"IF(選手一覧表!H155=0,\"\",選手一覧表!I155)","v":"鯖江東"},null,null,null,402,4,14,{"$f":"選手一覧表!H143","v":"笹木美羽"},{"$f":"IF(選手一覧表!H143=0,\"\",選手一覧表!I143)","v":"河和田"},null,null,null,336,6]
[15,{"$f":"選手一覧表!H132","v":"山﨑佑人"},{"$f":"IF(選手一覧表!H132=0,\"\",選手一覧表!I132)","v":"片　上"},null,null,null,330,16,15,{"$f":"選手一覧表!H120","v":"山本　芽依"},{"$f":"IF(選手一覧表!H120=0,\"\",選手一覧表!I120)","v":"進　徳"},null,null,null,289,15,15,{"$f":"選手一覧表!H156","v":"富山輝空"},{"$f":"IF(選手一覧表!H156=0,\"\",選手一覧表!I156)","v":"立　待"},null,null,null,385,9,15,{"$f":"選手一覧表!H144","v":"五十嵐美緒"},{"$f":"IF(選手一覧表!H144=0,\"\",選手一覧表!I144)","v":" 豊 "},null,null,null,333,7]
[16,{"$f":"選手一覧表!H133","v":"上大門良樹"},{"$f":"IF(選手一覧表!H133=0,\"\",選手一覧表!I133)","v":"中　河"},null,null,null,336,15,16,{"$f":"選手一覧表!H121","v":"高居美那"},{"$f":"IF(選手一覧表!H121=0,\"\",選手一覧表!I121)","v":"立　待"},null,null,null,324,7,16,{"$f":"選手一覧表!H157","v":"榊原尚希"},{"$f":"IF(選手一覧表!H157=0,\"\",選手一覧表!I157)","v":" 豊 "},null,null,null,391,6,16,{"$f":"選手一覧表!H145","v":"白崎　望愛"},{"$f":"IF(選手一覧表!H145=0,\"\",選手一覧表!I145)","v":"吉　川"},296,316,322,322.10000000000002,10]
[17,{"$f":"選手一覧表!H134","v":"山本敦広"},{"$f":"IF(選手一覧表!H134=0,\"\",選手一覧表!I134)","v":"北中山"},null,null,null,316,20,17,{"$f":"選手一覧表!H122","v":"杉本有莉亜"},{"$f":"IF(選手一覧表!H122=0,\"\",選手一覧表!I122)","v":"神　明"},null,null,null,318,8,17,{"$f":"選手一覧表!H158","v":"牧真史"},{"$f":"IF(選手一覧表!H158=0,\"\",選手一覧表!I158)","v":"中　河"},null,null,null,322,23,17,{"$f":"選手一覧表!H146","v":"岩尾　春花"},{"$f":"IF(選手一覧表!H146=0,\"\",選手一覧表!I146)","v":"進　徳"},null,null,null,348,4]
[18,{"$f":"選手一覧表!H135","v":"冨本龍我"},{"$f":"IF(選手一覧表!H135=0,\"\",選手一覧表!I135)","v":"惜　陰"},353,348,338,353.1,8,18,{"$f":"選手一覧表!H123","v":"田代愛莉"},{"$f":"IF(選手一覧表!H123=0,\"\",選手一覧表!I123)","v":"北中山"},null,null,null,279,17,18,{"$f":"選手一覧表!H159","v":"為永優希"},{"$f":"IF(選手一覧表!H159=0,\"\",選手一覧表!I159)","v":"片　上"},null,null,null,363,14,18,{"$f":"選手一覧表!H147","v":"林舞夢"},{"$f":"IF(選手一覧表!H147=0,\"\",選手一覧表!I147)","v":"立　待"},null,null,null,346,5]
[19,{"$f":"選手一覧表!H136","v":"細川　和暉"},{"$f":"IF(選手一覧表!H136=0,\"\",選手一覧表!I136)","v":"進　徳"},null,null,null,320,19,19,{"$f":"選手一覧表!H124","v":"中村桜"},{"$f":"IF(選手一覧表!H124=0,\"\",選手一覧表!I124)","v":"中　河"},null,null,null,314,10,19,{"$f":"選手一覧表!H160","v":"上杉　翼"},{"$f":"IF(選手一覧表!H160=0,\"\",選手一覧表!I160)","v":"吉　川"},null,null,null,350,19,19,{"$f":"選手一覧表!H148","v":"髙崎結羽"},{"$f":"IF(選手一覧表!H148=0,\"\",選手一覧表!I148)","v":"北中山"},null,null,null,321,12]
[20,{"$f":"選手一覧表!H137","v":"細田遼"},{"$f":"IF(選手一覧表!H137=0,\"\",選手一覧表!I137)","v":"鯖江東"},null,null,null,393,1,20,{"$f":"選手一覧表!H125","v":"永坂まひる"},{"$f":"IF(選手一覧表!H125=0,\"\",選手一覧表!I125)","v":" 豊 "},null,null,null,326,6,20,{"$f":"選手一覧表!H161","v":"前田　達輝"},{"$f":"IF(選手一覧表!H161=0,\"\",選手一覧表!I161)","v":"進　徳"},null,null,null,355,16,20,{"$f":"選手一覧表!H149","v":"旭颯季"},{"$f":"IF(選手一覧表!H149=0,\"\",選手一覧表!I149)","v":"惜　陰"},null,null,null,332,8]
[21,{"$f":"選手一覧表!H138","v":"橋本琉平"},{"$f":"IF(選手一覧表!H138=0,\"\",選手一覧表!I138)","v":" 豊 "},null,null,null,296,24,21,{"$f":"選手一覧表!H126","v":0},{"$f":"IF(選手一覧表!H126=0,\"\",選手一覧表!I126)","v":""},null,null,null,null,"",21,{"$f":"選手一覧表!H162","v":"中村榛"},{"$f":"IF(選手一覧表!H162=0,\"\",選手一覧表!I162)","v":"惜　陰"},null,null,null,330,22,21,{"$f":"選手一覧表!H150","v":"貝本莉乃愛"},{"$f":"IF(選手一覧表!H150=0,\"\",選手一覧表!I150)","v":"神　明"},null,null,null,"N",{"$error":"#VALUE!"}]
[22,{"$f":"選手一覧表!H139","v":"山㟁 泰楽"},{"$f":"IF(選手一覧表!H139=0,\"\",選手一覧表!I139)","v":"河和田"},null,null,null,362,5,22,{"$f":"選手一覧表!H127","v":"吉田名瑠"},{"$f":"IF(選手一覧表!H127=0,\"\",選手一覧表!I127)","v":"鯖江東"},null,null,null,366,2,22,{"$f":"選手一覧表!H163","v":"杉本叶"},{"$f":"IF(選手一覧表!H163=0,\"\",選手一覧表!I163)","v":"神　明"},null,null,null,432,1,22,{"$f":"選手一覧表!H151","v":"島田和佳"},{"$f":"IF(選手一覧表!H151=0,\"\",選手一覧表!I151)","v":"片　上"},322,null,297,322,11]
[23,{"$f":"選手一覧表!H140","v":"吉川広大"},{"$f":"IF(選手一覧表!H140=0,\"\",選手一覧表!I140)","v":"神　明"},null,null,null,361,6,23,{"$f":"選手一覧表!H128","v":"前谷 莉里"},{"$f":"IF(選手一覧表!H128=0,\"\",選手一覧表!I128)","v":"吉　川"},null,null,null,256,22,23,{"$f":"選手一覧表!H164","v":"堀実琉"},{"$f":"IF(選手一覧表!H164=0,\"\",選手一覧表!I164)","v":"北中山"},null,null,null,387,8,23,{"$f":"選手一覧表!H152","v":"山本陽愛"},{"$f":"IF(選手一覧表!H152=0,\"\",選手一覧表!I152)","v":"鳥　羽"},null,null,null,351,1]
[24,{"$f":"選手一覧表!H141","v":"笠原彰紘"},{"$f":"IF(選手一覧表!H141=0,\"\",選手一覧表!I141)","v":"鳥　羽"},null,null,null,351,10,24,{"$f":"選手一覧表!H129","v":"井上祐佳"},{"$f":"IF(選手一覧表!H129=0,\"\",選手一覧表!I129)","v":"河和田"},null,null,null,368,1,24,{"$f":"選手一覧表!H165","v":"冨田大翔"},{"$f":"IF(選手一覧表!H165=0,\"\",選手一覧表!I165)","v":"河和田"},null,null,null,375,11,24,{"$f":"選手一覧表!H153","v":"田中瑞姫"},{"$f":"IF(選手一覧表!H153=0,\"\",選手一覧表!I153)","v":"中　河"},null,null,null,314,16]
[]
[null,null,null,null,"入賞",null,null,null,null,null,null,null,"入賞",null,null,null,null,null,null,null,"入賞",null,null,null,null,null,null,null,"入賞"]
[]
[]
[]
["－34－",null,null,null,null,null,null,null,"－35－",null,null,null,null,null,null,null,"－36－",null,null,null,null,null,null,null,"－37－"]

{"sheet":"リレー","index":7,"n_rows":41,"n_cols":26,"rows_kept":41,"cut":false,"hidden":false,"merged":[[5,0,6,0],[7,0,8,0],[13,0,14,0],[11,0,12,0],[11,3,12,3],[13,3,14,3],[9,0,10,0],[9,3,10,3],[5,12,6,12],[7,3,8,3],[7,5,8,5],[5,3,6,3],[5,4,6,4],[5,5,6,5],[5,7,6,7],[7,10,8,10],[7,11,8,11],[7,12,8,12],[7,4,8,4],[5,10,6,10],[5,11,6,11],[7,7,8,7],[0,0,0,12],[3,10,4,10],[3,11,4,11],[3,12,4,12],[3,3,4,3],[3,4,4,4],[3,5,4,5],[2,1,2,2],[2,8,2,9],[3,7,4,7],[3,0,4,0],[11,12,12,12],[9,12,10,12],[13,10,14,10],[13,11,14,11],[13,12,14,12],[11,7,12,7],[16,0,16,1],[17,9,17,12],[18,9,18,12],[16,9,16,12],[16,7,16,8],[16,2,16,5],[9,4,10,4],[9,5,10,5],[9,7,10,7],[9,10,10,10],[9,11,10,11],[11,10,12,10],[11,11,12,11],[11,4,12,4],[11,5,12,5],[13,4,14,4],[13,5,14,5],[13,7,14,7],[22,1,22,2],[22,8,22,9],[17,0,17,1],[18,0,18,1],[17,7,17,8],[18,7,18,8],[17,2,17,5],[18,2,18,5],[23,7,24,7],[20,0,20,12],[23,10,24,10],[23,11,24,11],[25,7,26,7],[25,10,26,10],[29,0,30,0],[29,3,30,3],[29,4,30,4],[29,5,30,5],[29,7,30,7],[29,10,30,10],[23,12,24,12],[23,0,24,0],[23,3,24,3],[23,4,24,4],[23,5,24,5],[25,11,26,11],[25,12,26,12],[25,0,26,0],[25,3,26,3],[25,4,26,4],[25,5,26,5],[27,7,28,7],[27,10,28,10],[27,11,28,11],[27,12,28,12],[29,11,30,11],[31,10,32,10],[31,11,32,11],[31,12,32,12],[27,0,28,0],[27,3,28,3],[27,4,28,4],[27,5,28,5],[36,0,36,1],[36,2,36,5],[36,7,36,8],[36,9,36,12],[29,12,30,12],[33,0,34,0],[33,3,34,3],[33,4,34,4],[33,5,34,5],[33,7,34,7],[33,10,34,10],[33,11,34,11],[33,12,34,12],[38,0,38,1],[38,2,38,5],[38,7,38,8],[38,9,38,12],[37,0,37,1],[37,2,37,5],[37,7,37,8],[37,9,37,12],[40,0,40,12],[0,13,0,25],[2,14,2,15],[2,21,2,22],[3,13,4,13],[3,16,4,16],[3,17,4,17],[3,18,4,18],[3,20,4,20],[5,13,6,13],[5,16,6,16],[5,17,6,17],[5,18,6,18],[5,20,6,20],[5,23,6,23],[7,23,8,23],[7,24,8,24],[7,25,8,25],[3,23,4,23],[3,24,4,24],[3,25,4,25],[5,24,6,24],[11,13,12,13],[11,16,12,16],[11,17,12,17],[11,18,12,18],[5,25,6,25],[7,13,8,13],[7,16,8,16],[7,17,8,17],[7,18,8,18],[7,20,8,20],[9,20,10,20],[9,23,10,23],[9,24,10,24],[9,25,10,25],[9,13,10,13],[9,16,10,16],[9,17,10,17],[13,17,14,17],[13,18,14,18],[11,20,12,20],[11,23,12,23],[11,24,12,24],[11,25,12,25],[16,13,16,14],[16,15,16,18],[16,20,16,21],[16,22,16,25],[13,20,14,20],[13,23,14,23],[13,24,14,24],[13,25,14,25],[13,13,14,13],[13,16,14,16],[18,13,18,14],[18,15,18,18],[18,20,18,21],[18,22,18,25],[17,13,17,14],[17,15,17,18],[17,20,17,21],[17,22,17,25],[20,13,20,25],[22,14,22,15],[22,21,22,22],[23,13,24,13],[23,16,24,16],[23,17,24,17],[23,18,24,18],[23,20,24,20],[23,23,24,23],[23,24,24,24],[23,25,24,25],[25,13,26,13],[25,16,26,16],[25,17,26,17],[25,18,26,18],[25,20,26,20],[25,23,26,23],[25,24,26,24],[25,25,26,25],[29,23,30,23],[29,24,30,24],[29,25,30,25],[31,20,32,20],[31,24,32,24],[31,25,32,25],[27,23,28,23],[27,24,28,24],[27,25,28,25],[33,17,34,17],[38,15,38,18],[36,13,36,14],[36,15,36,18],[33,13,34,13],[33,16,34,16],[31,16,32,16],[27,20,28,20],[33,18,34,18],[29,20,30,20],[27,13,28,13],[27,16,28,16],[27,17,28,17],[27,18,28,18],[29,13,30,13],[29,16,30,16],[29,17,30,17],[29,18,30,18],[9,18,10,18],[40,13,40,25],[38,20,38,21],[38,22,38,25],[37,13,37,14],[37,15,37,18],[31,0,32,0],[31,3,32,3],[31,4,32,4],[31,5,32,5],[31,7,32,7],[31,23,32,23],[31,17,32,17],[31,18,32,18],[31,13,32,13],[37,20,37,21],[37,22,37,25],[36,20,36,21],[38,13,38,14],[36,22,36,25],[33,20,34,20],[33,23,34,23],[33,24,34,24],[33,25,34,25]]}
["【５年男子　4×100　リレー】",null,null,null,null,null,null,null,null,null,null,null,null,"【６年男子　4×100　リレー】"]
[]
["Ａ","氏　　  名",null,"学　校","記　　録","順位",null,"B","氏　　  名",null,"学　校","記　　録","順位","Ａ","氏　　  名",null,"学　校","記　　録","順位",null,"B","氏　　  名",null,"学　校","記　　録","順位"]
[2,{"$f":"選手一覧表!$E$286","v":"笠島竜位"},{"$f":"選手一覧表!$E$287","v":"山﨑佑人"},{"$f":"IF(選手一覧表!$E$286=0,\"\",選手一覧表!F286)","v":"片　上"},63.3,{"$f":"IF(E4=\"\",\"\",RANK(E4,$E$4:$E$15,1))","v":6},null,2,{"$f":"選手一覧表!$H$286","v":"飯島　大翔"},{"$f":"選手一覧表!$H$287","v":"津野　大悟"},{"$f":"IF(選手一覧表!$H$286=0,\"\",選手一覧表!I286)","v":"進　徳"},62.8,{"$f":"IF(L4=\"\",\"\",RANK(L4,$L$4:$L$15,1))","v":5},2,{"$f":"選手一覧表!$E$334","v":"高野真采"},{"$f":"選手一覧表!$E$335","v":"田中康晴"},{"$f":"IF(選手一覧表!$E$334=0,\"\",選手一覧表!F334)","v":"惜　陰"},60.8,{"$f":"IF(R4=\"\",\"\",RANK(R4,$R$4:$R$15,1))","v":6},null,2,{"$f":"選手一覧表!$H$334","v":"熊野　月音"},{"$f":"選手一覧表!$H$335","v":"河合　陽一"},{"$f":"IF(選手一覧表!$H$334=0,\"\",選手一覧表!I334)","v":"進　徳"},57.8,{"$f":"IF(Y4=\"\",\"\",RANK(Y4,$Y$4:$Y$15,1))","v":4}]
[null,{"$f":"選手一覧表!$E$288","v":"齋藤晴一"},{"$f":"選手一覧表!$E$289","v":"福島悠太　"},null,null,null,null,null,{"$f":"選手一覧表!$H$288","v":"熊野　陽仁"},{"$f":"選手一覧表!$H$289","v":"平田　海智"},null,null,null,null,{"$f":"選手一覧表!$E$336","v":"山森藍暁"},{"$f":"選手一覧表!$E$337","v":"井上朝日"},null,null,null,null,null,{"$f":"選手一覧表!$H$336","v":"齋藤　大晟"},{"$f":"選手一覧表!$H$337","v":"水野　俊"}]
[3,{"$f":"選手一覧表!$E$290","v":"齋藤正義"},{"$f":"選手一覧表!$E$291","v":"濵野孝教"},{"$f":"IF(選手一覧表!$E$290=0,\"\",選手一覧表!F290)","v":"惜　陰"},58.3,{"$f":"IF(E6=\"\",\"\",RANK(E6,$E$4:$E$15,1))","v":1},null,3,{"$f":"選手一覧表!$H$290","v":"山㟁 泰楽"},{"$f":"選手一覧表!$H$291","v":"土田淳士"},{"$f":"IF(選手一覧表!$H$290=0,\"\",選手一覧表!I290)","v":"河和田"},62.3,{"$f":"IF(L6=\"\",\"\",RANK(L6,$L$4:$L$15,1))","v":4},3,{"$f":"選手一覧表!$E$338","v":"久島　陽"},{"$f":"選手一覧表!$E$339","v":"向　航生"},{"$f":"IF(選手一覧表!$E$338=0,\"\",選手一覧表!F338)","v":"吉　川"},58.8,{"$f":"IF(R6=\"\",\"\",RANK(R6,$R$4:$R$15,1))","v":4},null,3,{"$f":"選手一覧表!$H$338","v":"中出颯空"},{"$f":"選手一覧表!$H$339","v":"山口了生"},{"$f":"IF(選手一覧表!$H$338=0,\"\",選手一覧表!I338)","v":"片　上"},62.3,{"$f":"IF(Y6=\"\",\"\",RANK(Y6,$Y$4:$Y$15,1))","v":5}]
[null,{"$f":"選手一覧表!$E$292","v":"井上開斗"},{"$f":"選手一覧表!$E$293","v":"田中優斗"},null,null,null,null,null,{"$f":"選手一覧表!$H$292","v":"蓑輪達灯"},{"$f":"選手一覧表!$H$293","v":"多田大志"},null,null,null,null,{"$f":"選手一覧表!$E$340","v":"志村　碧"},{"$f":"選手一覧表!$E$341","v":"針原　歩"},null,null,null,null,null,{"$f":"選手一覧表!$H$340","v":"笠島優太"},{"$f":"選手一覧表!$H$341","v":"為永優希"}]
[4,{"$f":"選手一覧表!$E$294","v":"村岡飛翔"},{"$f":"選手一覧表!$E$295","v":"樫原丈太郎"},{"$f":"IF(選手一覧表!$E$294=0,\"\",選手一覧表!F294)","v":" 豊 "},62.5,{"$f":"IF(E8=\"\",\"\",RANK(E8,$E$4:$E$15,1))","v":4},null,4,{"$f":"選手一覧表!$H$294","v":"中川貴空"},{"$f":"選手一覧表!$H$295","v":"吉村司"},{"$f":"選手一覧表!I294","v":"鯖江東"},58.2,{"$f":"IF(L8=\"\",\"\",RANK(L8,$L$4:$L$15,1))","v":1},4,{"$f":"選手一覧表!$E$342","v":"岩壁優汰"},{"$f":"選手一覧表!$E$343","v":"山内一稀"},{"$f":"IF(選手一覧表!$E$342=0,\"\",選手一覧表!F342)","v":"鯖江東"},59.1,{"$f":"IF(R8=\"\",\"\",RANK(R8,$R$4:$R$15,1))","v":5},null,4,{"$f":"選手一覧表!$H$342","v":"真柄　央"},{"$f":"選手一覧表!$H$343","v":"榊原尚希"},{"$f":"IF(選手一覧表!$H$342=0,\"\",選手一覧表!I342)","v":" 豊 "},57.1,{"$f":"IF(Y8=\"\",\"\",RANK(Y8,$Y$4:$Y$15,1))","v":2}]
[null,{"$f":"選手一覧表!$E$296","v":"栁田莉夢"},{"$f":"選手一覧表!$E$297","v":"山下悠磨"},null,null,null,null,null,{"$f":"選手一覧表!$H$296","v":"岩壁篤史"},{"$f":"選手一覧表!$H$297","v":"齋藤修成"},null,null,null,null,{"$f":"選手一覧表!$E$344","v":"上木龍二"},{"$f":"選手一覧表!$E$345","v":"森田結翔"},null,null,null,null,null,{"$f":"選手一覧表!$H$344","v":"坂井翔太郎"},{"$f":"選手一覧表!$H$345","v":"川上空大"}]
[5,{"$f":"選手一覧表!$E$298","v":"澤野 凌駕"},{"$f":"選手一覧表!$E$299","v":"山崎 敏輝"},{"$f":"IF(選手一覧表!$E$298=0,\"\",選手一覧表!F298)","v":"吉　川"},61.2,{"$f":"IF(E10=\"\",\"\",RANK(E10,$E$4:$E$15,1))","v":2},null,5,{"$f":"選手一覧表!$H$298","v":"笠島隼矢"},{"$f":"選手一覧表!$H$299","v":"垣本愛斗"},{"$f":"IF(選手一覧表!$H$298=0,\"\",選手一覧表!I298)","v":"立　待"},62.2,{"$f":"IF(L10=\"\",\"\",RANK(L10,$L$4:$L$15,1))","v":3},5,{"$f":"選手一覧表!$E$346","v":"瀧波和大"},{"$f":"選手一覧表!$E$347","v":"山本虎輝"},{"$f":"IF(選手一覧表!$E$346=0,\"\",選手一覧表!F346)","v":"神　明"},56.5,{"$f":"IF(R10=\"\",\"\",RANK(R10,$R$4:$R$15,1))","v":1},null,5,{"$f":"選手一覧表!$H$346","v":"大北陸"},{"$f":"選手一覧表!$H$347","v":"竹嶋樹生"},{"$f":"IF(選手一覧表!$H$346=0,\"\",選手一覧表!I346)","v":"中　河"},62.8,{"$f":"IF(Y10=\"\",\"\",RANK(Y10,$Y$4:$Y$15,1))","v":6}]
[null,{"$f":"選手一覧表!$E$300","v":"山口 羽琉"},{"$f":"選手一覧表!$E$301","v":"山口 隼叶"},null,null,null,null,null,{"$f":"選手一覧表!$H$300","v":"中村嘉宏"},{"$f":"選手一覧表!$H$301","v":"有馬魁兜"},null,null,null,null,{"$f":"選手一覧表!$E$348","v":"和多田亮太"},{"$f":"選手一覧表!$E$349","v":"村島恭矢"},null,null,null,null,null,{"$f":"選手一覧表!$H$348","v":"佐々木謙太郎"},{"$f":"選手一覧表!$H$349","v":"山田圭悟"}]
[6,{"$f":"選手一覧表!$E$302","v":"品川次郎"},{"$f":"選手一覧表!$E$303","v":"上大門良樹"},{"$f":"IF(選手一覧表!$E$302=0,\"\",選手一覧表!F302)","v":"中　河"},63,{"$f":"IF(E12=\"\",\"\",RANK(E12,$E$4:$E$15,1))","v":5},null,6,{"$f":"選手一覧表!$H$302","v":"落井優稀"},{"$f":"選手一覧表!$H$303","v":"橋本泰平"},{"$f":"IF(選手一覧表!$H$302=0,\"\",選手一覧表!I302)","v":"神　明"},59.5,{"$f":"IF(L12=\"\",\"\",RANK(L12,$L$4:$L$15,1))","v":2},6,{"$f":"選手一覧表!$E$350","v":"横瀨颯太"},{"$f":"選手一覧表!$E$351","v":"北道巧真"},{"$f":"IF(選手一覧表!$E$350=9,\"\",選手一覧表!F350)","v":"立　待"},57.3,{"$f":"IF(R12=\"\",\"\",RANK(R12,$R$4:$R$15,1))","v":2},null,6,{"$f":"選手一覧表!$H$350","v":"吉田樹利"},{"$f":"選手一覧表!$H$351","v":"片岡勇登"},{"$f":"IF(選手一覧表!$H$350=0,\"\",選手一覧表!I350)","v":"鳥　羽"},55.7,{"$f":"IF(Y12=\"\",\"\",RANK(Y12,$Y$4:$Y$15,1))","v":1}]
[null,{"$f":"選手一覧表!$E$304","v":"大門千速"},{"$f":"選手一覧表!$E$305","v":"増永大志郎"},null,null,null,null,null,{"$f":"選手一覧表!$H$304","v":"宮川太志"},{"$f":"選手一覧表!$H$305","v":"加藤証"},null,null,null,null,{"$f":"選手一覧表!$E$352","v":"富山輝空 "},{"$f":"選手一覧表!$E$353","v":"齋藤周汰"},null,null,null,null,null,{"$f":"選手一覧表!$H$352","v":"斎藤楽也"},{"$f":"選手一覧表!$H$353","v":"川江凜太郎"}]
[7,{"$f":"選手一覧表!$E$306","v":"横村晴"},{"$f":"選手一覧表!$E$307","v":"建石大和"},{"$f":"選手一覧表!F306","v":"鳥　羽"},61.6,{"$f":"IF(E14=\"\",\"\",RANK(E14,$E$4:$E$15,1))","v":3},null,7,{"$f":"選手一覧表!$H$306","v":"酒井夢雅"},{"$f":"選手一覧表!$H$307","v":"山本敦広"},{"$f":"IF(選手一覧表!$H$306=0,\"\",選手一覧表!I306)","v":"北中山"},62.9,{"$f":"IF(L14=\"\",\"\",RANK(L14,$L$4:$L$15,1))","v":6},7,{"$f":"選手一覧表!$E$354","v":"堀雅晴"},{"$f":"選手一覧表!$E$355","v":"山田広明"},{"$f":"IF(選手一覧表!$E$354=0,\"\",選手一覧表!F354)","v":"北中山"},57.6,{"$f":"IF(R14=\"\",\"\",RANK(R14,$R$4:$R$15,1))","v":3},null,7,{"$f":"選手一覧表!$H$354","v":"高野桜河"},{"$f":"選手一覧表!$H$355","v":"谷口康介"},{"$f":"IF(選手一覧表!$H$354=0,\"\",選手一覧表!I354)","v":"河和田"},57.5,{"$f":"IF(Y14=\"\",\"\",RANK(Y14,$Y$4:$Y$15,1))","v":3}]
[null,{"$f":"選手一覧表!$E$308","v":"前田海翔"},{"$f":"選手一覧表!$E$309","v":"清水丈一郎"},null,null,null,null,null,{"$f":"選手一覧表!$H$308","v":"山内脩誠"},{"$f":"選手一覧表!$H$309","v":"福岡匠海"},null,null,null,null,{"$f":"選手一覧表!$E$356","v":"堀実琉"},{"$f":"選手一覧表!$E$357","v":"金粕武尊"},null,null,null,null,null,{"$f":"選手一覧表!$H$356","v":"冨田大翔"},{"$f":"選手一覧表!$H$357","v":"佐々木学道"}]
[]
["１　位",null,null,null,null,null,null,"４位",null,null,null,null,null,"１　位",null,null,null,null,null,null,"４位"]
["２　位",null,null,null,null,null,null,"５位",null,null,null,null,null,"２　位",null,null,null,null,null,null,"５位"]
["３　位",null,null,null,null,null,null,"６位",null,null,null,null,null,"３　位",null,null,null,null,null,null,"６位"]
[]
["【５年女子　4×100　リレー】",null,null,null,null,null,null,null,null,null,null,null,null,"【６年女子　4×100　リレー】"]
[]
["Ａ","氏　　  名",null,"学　校","記　　録","順位",null,"B","氏　　  名",null,"学　校","記　　録","順位","Ａ","氏　　  名",null,"学　校","記　　録","順位",null,"B","氏　　  名",null,"学　校","記　　録","順位"]
[2,{"$f":"選手一覧表!$E$262","v":"林愛莉"},{"$f":"選手一覧表!$E$263","v":"川﨑野々香"},{"$f":"IF(選手一覧表!$E$262=0,\"\",選手一覧表!$F$262)","v":"立　待"},62.8,{"$f":"IF(E24=\"\",\"\",RANK(E24,$E$24:$E$35,1))","v":1},null,2,{"$f":"選手一覧表!$H$262","v":"吉田名瑠"},{"$f":"選手一覧表!$H$263","v":"堀結葉"},{"$f":"IF(選手一覧表!$H$262=0,\"\",選手一覧表!$I$262)","v":"鯖江東"},62,{"$f":"IF(L24=\"\",\"\",RANK(L24,$L$24:$L$35,1))","v":1},2,{"$f":"選手一覧表!$E$310","v":"辻真愛咲"},{"$f":"選手一覧表!$E$311","v":"丸田琴音"},{"$f":"IF(選手一覧表!$E$310=0,\"\",選手一覧表!F310)","v":"鯖江東"},60.5,{"$f":"IF(R24=\"\",\"\",RANK(R24,$R$24:$R$35,1))","v":1},null,2,{"$f":"選手一覧表!$H$310","v":"西村緋那理"},{"$f":"選手一覧表!$H$311","v":"和泉英紗"},{"$f":"IF(選手一覧表!$H$310=0,\"\",選手一覧表!I310)","v":"立　待"},58.7,{"$f":"IF(Y24=\"\",\"\",RANK(Y24,$Y$24:$Y$35,1))","v":1}]
[null,{"$f":"選手一覧表!$E$264","v":"木下璃想愛"},{"$f":"選手一覧表!$E$265","v":"尾武華蓮"},null,null,null,null,null,{"$f":"選手一覧表!$H$264","v":"石田愛翔"},{"$f":"選手一覧表!$H$265","v":"山岸あかり"},null,null,null,null,{"$f":"選手一覧表!$E$312","v":"山岸愛子"},{"$f":"選手一覧表!$E$313","v":"齋藤楓花"},null,null,null,null,null,{"$f":"選手一覧表!$H$312","v":"西村栞"},{"$f":"選手一覧表!$H$313","v":"紫阿南"}]
[3,{"$f":"選手一覧表!$E$266","v":"牧野 綺羅"},{"$f":"選手一覧表!$E$267","v":"元井 深友"},{"$f":"IF(選手一覧表!$E$266=0,\"\",選手一覧表!$F$266)","v":"吉　川"},65.099999999999994,{"$f":"IF(E26=\"\",\"\",RANK(E26,$E$24:$E$35,1))","v":4},null,3,{"$f":"選手一覧表!$H$266","v":"田村寧々"},{"$f":"選手一覧表!$H$267","v":"杉原歩佳"},{"$f":"IF(選手一覧表!$H$266=0,\"\",選手一覧表!$I$266)","v":"片　上"},70.5,{"$f":"IF(L26=\"\",\"\",RANK(L26,$L$24:$L$35,1))","v":5},3,{"$f":"選手一覧表!$E$314","v":"原　日鶴"},{"$f":"選手一覧表!$E$315","v":"岩尾　春花"},{"$f":"IF(選手一覧表!$E$314=0,\"\",選手一覧表!F314)","v":"進　徳"},62.6,{"$f":"IF(R26=\"\",\"\",RANK(R26,$R$24:$R$35,1))","v":4},null,3,{"$f":"選手一覧表!$H$314","v":"増永安莉"},{"$f":"選手一覧表!$H$315","v":"内田杏実"},{"$f":"IF(選手一覧表!$H$314=0,\"\",選手一覧表!I314)","v":"河和田"},"失格",{"$f":"IF(Y26=\"\",\"\",RANK(Y26,$Y$24:$Y$35,1))","v":{"$error":"#VALUE!"}}]
[null,{"$f":"選手一覧表!$E$268","v":"加藤 みわ"},{"$f":"選手一覧表!$E$269","v":"柴田 実侑"},null,null,null,null,null,{"$f":"選手一覧表!$H$268","v":"出水彩花"},{"$f":"選手一覧表!$H$269","v":"西川梓央里"},null,null,null,null,{"$f":"選手一覧表!$E$316","v":"丸田　菜摘"},{"$f":"選手一覧表!$E$317","v":"瀧波　奈々"},null,null,null,null,null,{"$f":"選手一覧表!$H$316","v":"安達美悠"},{"$f":"選手一覧表!$H$317","v":"道屋愛菜"}]
[4,{"$f":"選手一覧表!$E$270","v":"清水真菜実"},{"$f":"選手一覧表!$E$271","v":"田辺　雪乃"},{"$f":"IF(選手一覧表!$E$270=0,\"\",選手一覧表!$F$270)","v":"進　徳"},63.7,{"$f":"IF(E28=\"\",\"\",RANK(E28,$E$24:$E$35,1))","v":3},null,4,{"$f":"選手一覧表!$H$270","v":"飯田美樹"},{"$f":"選手一覧表!$H$271","v":"冨樫陽菜"},{"$f":"IF(選手一覧表!$H$270=0,\"\",選手一覧表!$I$270)","v":"惜　陰"},66.599999999999994,{"$f":"IF(L28=\"\",\"\",RANK(L28,$L$24:$L$35,1))","v":4},4,{"$f":"選手一覧表!$E$318","v":"高野仁愛"},{"$f":"選手一覧表!$E$319","v":"山本晏"},{"$f":"IF(選手一覧表!$E$318=0,\"\",選手一覧表!F318)","v":"鳥　羽"},61.7,{"$f":"IF(R28=\"\",\"\",RANK(R28,$R$24:$R$35,1))","v":2},null,4,{"$f":"選手一覧表!$H$318","v":"助田夕夏"},{"$f":"選手一覧表!$H$319","v":"岩壁十和"},{"$f":"IF(選手一覧表!$H$318=0,\"\",選手一覧表!I318)","v":"惜　陰"},62.2,{"$f":"IF(Y28=\"\",\"\",RANK(Y28,$Y$24:$Y$35,1))","v":3}]
[null,{"$f":"選手一覧表!$E$272","v":"揚原　桃花"},{"$f":"選手一覧表!$E$273","v":"細川　彩夏"},null,null,null,null,null,{"$f":"選手一覧表!$H$272","v":"田中唯茉"},{"$f":"選手一覧表!$H$273","v":"髙橋優香"},null,null,null,null,{"$f":"選手一覧表!$E$320","v":"田村祐佳"},{"$f":"選手一覧表!$E$321","v":"城山心那"},null,null,null,null,null,{"$f":"選手一覧表!$H$320","v":"谷田理鳳"},{"$f":"選手一覧表!$H$321","v":"佐藤晴瑠菜"}]
[5,{"$f":"選手一覧表!$E$274","v":"中川詩央里"},{"$f":"選手一覧表!$E$275","v":"澤田笑唯奈"},{"$f":"IF(選手一覧表!$E$274=0,\"\",選手一覧表!$F$274)","v":"河和田"},62.81,{"$f":"IF(E30=\"\",\"\",RANK(E30,$E$24:$E$35,1))","v":2},null,5,{"$f":"選手一覧表!$H$274","v":"嶋崎想子"},{"$f":"選手一覧表!$H$275","v":"吉田帆麻里"},{"$f":"IF(選手一覧表!$H$274=0,\"\",選手一覧表!$I$274)","v":"鳥　羽"},62.9,{"$f":"IF(L30=\"\",\"\",RANK(L30,$L$24:$L$35,1))","v":2},5,{"$f":"選手一覧表!$E$322","v":"田辺　栞"},{"$f":"選手一覧表!$E$323","v":"徳橋美咲"},{"$f":"IF(選手一覧表!$E$322=0,\"\",選手一覧表!F322)","v":" 豊 "},63.7,{"$f":"IF(R30=\"\",\"\",RANK(R30,$R$24:$R$35,1))","v":6},null,5,{"$f":"選手一覧表!$H$322","v":"飯田瑞紀"},{"$f":"選手一覧表!$H$323","v":"齋藤鈴夏"},{"$f":"IF(選手一覧表!$H$322=0,\"\",選手一覧表!I322)","v":"中　河"},63.3,{"$f":"IF(Y30=\"\",\"\",RANK(Y30,$Y$24:$Y$35,1))","v":5}]
[null,{"$f":"選手一覧表!$E$276","v":"内田莉子"},{"$f":"選手一覧表!$E$277","v":"井上祐佳"},null,null,null,null,null,{"$f":"選手一覧表!$H$276","v":"宇野由莉香"},{"$f":"選手一覧表!$H$277","v":"齋藤可恋"},null,null,null,null,{"$f":"選手一覧表!$E$324","v":"中島琉星"},{"$f":"選手一覧表!$E$325","v":"池上亜季"},null,null,null,null,null,{"$f":"選手一覧表!$H$324","v":"齋藤智子"},{"$f":"選手一覧表!$H$325","v":"橋本一夏"}]
[6,{"$f":"選手一覧表!$E$278","v":"古谷果音"},{"$f":"選手一覧表!$E$279","v":"黒田美優"},{"$f":"IF(選手一覧表!$E$278=0,\"\",選手一覧表!$F$278)","v":"神　明"},65.900000000000006,{"$f":"IF(E32=\"\",\"\",RANK(E32,$E$24:$E$35,1))","v":6},null,6,{"$f":"選手一覧表!$H$278","v":"石塚咲季"},{"$f":"選手一覧表!$H$279","v":"田代愛莉"},{"$f":"選手一覧表!$I$278","v":"北中山"},"失格",{"$f":"IF(L32=\"\",\"\",RANK(L32,$L$24:$L$35,1))","v":{"$error":"#VALUE!"}},6,{"$f":"選手一覧表!$E$326","v":"佐々木香菜実"},{"$f":"選手一覧表!$E$327","v":"高橋こころ"},{"$f":"IF(選手一覧表!$E$326=0,\"\",選手一覧表!F326)","v":"北中山"},63.5,{"$f":"IF(R32=\"\",\"\",RANK(R32,$R$24:$R$35,1))","v":5},null,6,{"$f":"選手一覧表!$H$326","v":"福田来羽"},{"$f":"選手一覧表!$H$327","v":"島田和佳"},{"$f":"IF(選手一覧表!$H$326=0,\"\",選手一覧表!I326)","v":"片　上"},62.7,{"$f":"IF(Y32=\"\",\"\",RANK(Y32,$Y$24:$Y$35,1))","v":4}]
[null,{"$f":"IF(選手一覧表!$E$278=0,\"\",選手一覧表!$E$280)","v":"德本仁菜"},{"$f":"選手一覧表!$E$281","v":"上杉桜礼"},null,null,null,null,null,{"$f":"選手一覧表!$H$280","v":"西川伶奈"},{"$f":"選手一覧表!$H$281","v":"村岡佑霞"},null,null,null,null,{"$f":"選手一覧表!$E$328","v":"玉村莉瑚"},{"$f":"選手一覧表!$E$329","v":"黒田紅葉"},null,null,null,null,null,{"$f":"選手一覧表!$H$328","v":"安田奈央"},{"$f":"選手一覧表!$H$329","v":"清水葵生"}]
[7,{"$f":"選手一覧表!$E$282","v":"永坂まひる"},{"$f":"選手一覧表!$E$283","v":"手鹿ティナ"},{"$f":"IF(選手一覧表!$E$282=0,\"\",選手一覧表!$F$282)","v":" 豊 "},65.8,{"$f":"IF(E34=\"\",\"\",RANK(E34,$E$24:$E$35,1))","v":5},null,7,{"$f":"選手一覧表!$H$282","v":"小野夏紀"},{"$f":"選手一覧表!$H$283","v":"大塚凜"},{"$f":"IF(選手一覧表!$H$282=0,\"\",選手一覧表!$I$282)","v":"中　河"},64.400000000000006,{"$f":"IF(L34=\"\",\"\",RANK(L34,$L$24:$L$35,1))","v":3},7,{"$f":"選手一覧表!$E$330","v":"佐々木　希歩"},{"$f":"選手一覧表!$E$331","v":"和田絢柚子"},{"$f":"IF(選手一覧表!$E$330=0,\"\",選手一覧表!F330)","v":"神　明"},61.9,{"$f":"IF(R34=\"\",\"\",RANK(R34,$R$24:$R$35,1))","v":3},null,7,{"$f":"選手一覧表!$H$330","v":"清水　舞優"},{"$f":"選手一覧表!$H$331","v":"加藤　愛結"},{"$f":"IF(選手一覧表!$H$330=0,\"\",選手一覧表!I330)","v":"吉　川"},60.8,{"$f":"IF(Y34=\"\",\"\",RANK(Y34,$Y$24:$Y$35,1))","v":2}]
[null,{"$f":"選手一覧表!$E$284","v":"小倉咲月"},{"$f":"選手一覧表!$E$285","v":"片岡志菜"},null,null,null,null,null,{"$f":"選手一覧表!$H$284","v":"林ことな"},{"$f":"選手一覧表!$H$285","v":"中村桜"},null,null,null,null,{"$f":"選手一覧表!$E$332","v":"德本茉侑"},{"$f":"選手一覧表!$E$333","v":"田中奈菜"},null,null,null,null,null,{"$f":"選手一覧表!$H$332","v":"西川　汐音"},{"$f":"選手一覧表!$H$333","v":"川岸　ここ菜"}]
[]
["１　位",null,null,null,null,null,null,"４位",null,null,null,null,null,"１　位",null,null,null,null,null,null,"４位"]
["２　位",null,null,null,null,null,null,"５位",null,null,null,null,null,"２　位",null,null,null,null,null,null,"５位"]
["３　位",null,null,null,null,null,null,"６位",null,null,null,null,null,"３　位",null,null,null,null,null,null,"６位"]
[]
["－38－",null,null,null,null,null,null,null,null,null,null,null,null,"－39－"]

{"sheet":"ソート作業","index":8,"n_rows":122,"n_cols":48,"rows_kept":122,"cut":false,"hidden":true,"merged":[[5,19,16,19],[14,1,21,1],[5,1,12,1],[48,1,71,1],[73,1,96,1],[3,1,4,1],[23,1,46,1],[98,1,121,1],[1,4,1,9],[3,20,3,26],[3,34,3,40],[3,41,3,47],[3,2,3,5],[3,6,3,9],[3,10,3,13],[3,14,3,17],[3,27,3,33],[3,19,4,19]]}
[]
[null,"平成",28,"年度","鯖江市小学校連合体育大会"]
[]
[null,"種目","５年男子",null,null,null,"５年女子",null,null,null,"６年男子",null,null,null,"６年女子",null,null,null,null,"種目","５年男子",null,null,null,null,null,null,"５年女子",null,null,null,null,null,null,"６年男子",null,null,null,null,null,null,"６年女子"]
[null,null,"順位","名前","学校","記録","順位","名前","学校","記録","順位","名前","学校","記録","順位","名前","学校","記録",null,null,"順位","1走者","2走者","3走者","4走者","学校","記録","順位","1走者","2走者","3走者","4走者","学校","記録","順位","1走者","2走者","3走者","4走者","学校","記録","順位","1走者","2走者","3走者","4走者","学校","記録"]
[null,"１００ｍ",{"$f":"RANK(F6,F$6:F$13,1)","v":1},{"$f":"'１００ｍ'!D29","v":"中川貴空"},{"$f":"'１００ｍ'!F29","v":"鯖江東"},{"$f":"'１００ｍ'!H29","v":14.1},{"$f":"RANK(J6,J$6:J$13,1)","v":1},{"$f":"'１００ｍ'!O29","v":"吉田帆麻里"},{"$f":"'１００ｍ'!Q29","v":"鳥　羽"},{"$f":"'１００ｍ'!S29","v":14.9},{"$f":"RANK(N6,N$6:N$13,1)","v":1},{"$f":"'１００ｍ'!Z29","v":"片岡勇登"},{"$f":"'１００ｍ'!AB29","v":"鳥　羽"},{"$f":"'１００ｍ'!AD29","v":13.3},{"$f":"RANK(R6,R$6:R$13,1)","v":1},{"$f":"'１００ｍ'!AK29","v":"紫阿南"},{"$f":"'１００ｍ'!AM29","v":"立　待"},{"$f":"'１００ｍ'!AO29","v":14.1},null,"リレー",{"$f":"RANK(AA6,AA$6:AA$17,1)","v":1},{"$f":"リレー!$I$8","v":"中川貴空"},{"$f":"リレー!$J$8","v":"吉村司"},{"$f":"リレー!$I$9","v":"岩壁篤史"},{"$f":"リレー!$J$9","v":"齋藤修成"},{"$f":"リレー!$K$8","v":"鯖江東"},{"$f":"リレー!$L$8","v":58.2},{"$f":"RANK(AH6,AH$6:AH$17,1)","v":1},{"$f":"リレー!I$24","v":"吉田名瑠"},{"$f":"リレー!J$24","v":"堀結葉"},{"$f":"リレー!I$25","v":"石田愛翔"},{"$f":"リレー!J$25","v":"山岸あかり"},{"$f":"リレー!$K$24","v":"鯖江東"},{"$f":"リレー!$L$24","v":62},{"$f":"RANK(AO6,AO$6:AO$17,1)","v":1},{"$f":"リレー!V12","v":"吉田樹利"},{"$f":"リレー!W12","v":"片岡勇登"},{"$f":"リレー!V$13","v":"斎藤楽也"},{"$f":"リレー!W$13","v":"川江凜太郎"},{"$f":"リレー!$X$12","v":"鳥　羽"},{"$f":"リレー!$Y$12","v":55.7},{"$f":"RANK(AV6,AV$6:AV$17,1)","v":1},{"$f":"リレー!V$24","v":"西村緋那理"},{"$f":"リレー!W$24","v":"和泉英紗"},{"$f":"リレー!V$25","v":"西村栞"},{"$f":"リレー!W$25","v":"紫阿南"},{"$f":"リレー!$X$24","v":"立　待"},{"$f":"リレー!$Y$24","v":58.7}]
[null,null,2,{"$f":"'１００ｍ'!D30","v":"橋本泰平"},{"$f":"'１００ｍ'!F30","v":"神　明"},{"$f":"'１００ｍ'!H30","v":14.3},2,{"$f":"'１００ｍ'!O30","v":"井上祐佳"},{"$f":"'１００ｍ'!Q30","v":"河和田"},{"$f":"'１００ｍ'!S30","v":14.91},2,{"$f":"'１００ｍ'!Z30","v":"山本虎輝"},{"$f":"'１００ｍ'!AB30","v":"神　明"},{"$f":"'１００ｍ'!AD30","v":13.7},2,{"$f":"'１００ｍ'!AK30","v":"加藤　愛結"},{"$f":"'１００ｍ'!AM30","v":"吉　川"},{"$f":"'１００ｍ'!AO30","v":14.4},null,null,2,{"$f":"リレー!$B$6","v":"齋藤正義"},{"$f":"リレー!$C$6","v":"濵野孝教"},{"$f":"リレー!$B$7","v":"井上開斗"},{"$f":"リレー!$C$7","v":"田中優斗"},{"$f":"リレー!$D$6","v":"惜　陰"},{"$f":"リレー!$E$6","v":58.3},2,{"$f":"リレー!B24","v":"林愛莉"},{"$f":"リレー!C24","v":"川﨑野々香"},{"$f":"リレー!B$25","v":"木下璃想愛"},{"$f":"リレー!C$25","v":"尾武華蓮"},{"$f":"リレー!$D$24","v":"立　待"},{"$f":"リレー!$E$24","v":62.8},2,{"$f":"リレー!O$10","v":"瀧波和大"},{"$f":"リレー!P$10","v":"山本虎輝"},{"$f":"リレー!O$11","v":"和多田亮太"},{"$f":"リレー!P$11","v":"村島恭矢"},{"$f":"リレー!$Q$10","v":"神　明"},{"$f":"リレー!$R$10","v":56.5},2,{"$f":"リレー!O24","v":"辻真愛咲"},{"$f":"リレー!P24","v":"丸田琴音"},{"$f":"リレー!O$25","v":"山岸愛子"},{"$f":"リレー!P$25","v":"齋藤楓花"},{"$f":"リレー!$Q$24","v":"鯖江東"},{"$f":"リレー!$R$24","v":60.5}]
[null,null,3,{"$f":"'１００ｍ'!D28","v":"齋藤修成"},{"$f":"'１００ｍ'!F28","v":"鯖江東"},{"$f":"'１００ｍ'!H28","v":14.31},3,{"$f":"'１００ｍ'!O28","v":"吉田名瑠"},{"$f":"'１００ｍ'!Q28","v":"鯖江東"},{"$f":"'１００ｍ'!S28","v":15},3,{"$f":"'１００ｍ'!Z27","v":"山田広明"},{"$f":"'１００ｍ'!AB27","v":"北中山"},{"$f":"'１００ｍ'!AD27","v":13.8},3,{"$f":"'１００ｍ'!AK28","v":"西村緋那理"},{"$f":"'１００ｍ'!AM28","v":"立　待"},{"$f":"'１００ｍ'!AO28","v":14.8},null,null,3,{"$f":"リレー!$I$12","v":"落井優稀"},{"$f":"リレー!$J$12","v":"橋本泰平"},{"$f":"リレー!$I$13","v":"宮川太志"},{"$f":"リレー!$J$13","v":"加藤証"},{"$f":"リレー!$K$12","v":"神　明"},{"$f":"リレー!$L$12","v":59.5},3,{"$f":"リレー!B$30","v":"中川詩央里"},{"$f":"リレー!C$30","v":"澤田笑唯奈"},{"$f":"リレー!B$31","v":"内田莉子"},{"$f":"リレー!C$31","v":"井上祐佳"},{"$f":"リレー!$D$30","v":"河和田"},{"$f":"リレー!$E$30","v":62.81},3,{"$f":"リレー!V$8","v":"真柄　央"},{"$f":"リレー!W$8","v":"榊原尚希"},{"$f":"リレー!V$9","v":"坂井翔太郎"},{"$f":"リレー!W$9","v":"川上空大"},{"$f":"リレー!$X$8","v":" 豊 "},{"$f":"リレー!$Y$8","v":57.1},3,{"$f":"リレー!V$34","v":"清水　舞優"},{"$f":"リレー!W$34","v":"加藤　愛結"},{"$f":"リレー!V$35","v":"西川　汐音"},{"$f":"リレー!W$35","v":"川岸　ここ菜"},{"$f":"リレー!$X$34","v":"吉　川"},{"$f":"リレー!$Y$34","v":60.8}]
[null,null,4,{"$f":"'１００ｍ'!D31","v":"濵野孝教"},{"$f":"'１００ｍ'!F31","v":"惜　陰"},{"$f":"'１００ｍ'!H31","v":14.32},4,{"$f":"'１００ｍ'!O27","v":"揚原　桃花"},{"$f":"'１００ｍ'!Q27","v":"進　徳"},{"$f":"'１００ｍ'!S27","v":15.5},4,{"$f":"'１００ｍ'!Z28","v":"川上空大"},{"$f":"'１００ｍ'!AB28","v":" 豊 "},{"$f":"'１００ｍ'!AD28","v":13.9},4,{"$f":"'１００ｍ'!AK31","v":"齋藤楓花"},{"$f":"'１００ｍ'!AM31","v":"鯖江東"},{"$f":"'１００ｍ'!AO31","v":15},null,null,4,{"$f":"リレー!$B$10","v":"澤野 凌駕"},{"$f":"リレー!$C$10","v":"山崎 敏輝"},{"$f":"リレー!$B$11","v":"山口 羽琉"},{"$f":"リレー!$C$11","v":"山口 隼叶"},{"$f":"リレー!$D$10","v":"吉　川"},{"$f":"リレー!$E$10","v":61.2},4,{"$f":"リレー!I$30","v":"嶋崎想子"},{"$f":"リレー!J$30","v":"吉田帆麻里"},{"$f":"リレー!I$31","v":"宇野由莉香"},{"$f":"リレー!J$31","v":"齋藤可恋"},{"$f":"リレー!$K$30","v":"鳥　羽"},{"$f":"リレー!$L$30","v":62.9},4,{"$f":"リレー!O$12","v":"横瀨颯太"},{"$f":"リレー!P$12","v":"北道巧真"},{"$f":"リレー!O$13","v":"富山輝空 "},{"$f":"リレー!P$13","v":"齋藤周汰"},{"$f":"リレー!$Q$12","v":"立　待"},{"$f":"リレー!$R$12","v":57.3},4,{"$f":"リレー!O$28","v":"高野仁愛"},{"$f":"リレー!P$28","v":"山本晏"},{"$f":"リレー!O$29","v":"田村祐佳"},{"$f":"リレー!P$29","v":"城山心那"},{"$f":"リレー!$Q$28","v":"鳥　羽"},{"$f":"リレー!$R$28","v":61.7}]
[null,null,5,{"$f":"'１００ｍ'!D27","v":"田中優斗"},{"$f":"'１００ｍ'!F27","v":"惜　陰"},{"$f":"'１００ｍ'!H27","v":14.4},5,{"$f":"'１００ｍ'!O26","v":"黒田美優"},{"$f":"'１００ｍ'!Q26","v":"神　明"},{"$f":"'１００ｍ'!S26","v":15.6},5,{"$f":"'１００ｍ'!Z31","v":"河合　陽一"},{"$f":"'１００ｍ'!AB31","v":"進　徳"},{"$f":"'１００ｍ'!AD31","v":14},5,{"$f":"'１００ｍ'!AK27","v":"池上亜季"},{"$f":"'１００ｍ'!AM27","v":" 豊 "},{"$f":"'１００ｍ'!AO27","v":15.1},null,null,5,{"$f":"リレー!$B$14","v":"横村晴"},{"$f":"リレー!$C$14","v":"建石大和"},{"$f":"リレー!$B$15","v":"前田海翔"},{"$f":"リレー!$C$15","v":"清水丈一郎"},{"$f":"リレー!$D$14","v":"鳥　羽"},{"$f":"リレー!$E$14","v":61.6},5,{"$f":"リレー!B$28","v":"清水真菜実"},{"$f":"リレー!C$28","v":"田辺　雪乃"},{"$f":"リレー!B$29","v":"揚原　桃花"},{"$f":"リレー!C$29","v":"細川　彩夏"},{"$f":"リレー!$D$28","v":"進　徳"},{"$f":"リレー!$E$28","v":63.7},5,{"$f":"リレー!V$14","v":"高野桜河"},{"$f":"リレー!W$14","v":"谷口康介"},{"$f":"リレー!V$15","v":"冨田大翔"},{"$f":"リレー!W$15","v":"佐々木学道"},{"$f":"リレー!$X$14","v":"河和田"},{"$f":"リレー!$Y$14","v":57.5},5,{"$f":"リレー!O$34","v":"佐々木　希歩"},{"$f":"リレー!P$34","v":"和田絢柚子"},{"$f":"リレー!O$35","v":"德本茉侑"},{"$f":"リレー!P$35","v":"田中奈菜"},{"$f":"リレー!$Q$34","v":"神　明"},{"$f":"リレー!$R$34","v":61.9}]
[null,null,6,{"$f":"'１００ｍ'!D32","v":"山下悠磨"},{"$f":"'１００ｍ'!F32","v":" 豊 "},{"$f":"'１００ｍ'!H32","v":14.5},6,{"$f":"'１００ｍ'!O32","v":"齋藤可恋"},{"$f":"'１００ｍ'!Q32","v":"鳥　羽"},{"$f":"'１００ｍ'!S32","v":15.7},6,{"$f":"'１００ｍ'!Z32","v":"金粕武尊"},{"$f":"'１００ｍ'!AB32","v":"北中山"},{"$f":"'１００ｍ'!AD32","v":14.2},6,{"$f":"'１００ｍ'!AK32","v":"丸田琴音"},{"$f":"'１００ｍ'!AM32","v":"鯖江東"},{"$f":"'１００ｍ'!AO32","v":15.2},null,null,6,{"$f":"リレー!$I$10","v":"笠島隼矢"},{"$f":"リレー!$J$10","v":"垣本愛斗"},{"$f":"リレー!$I$11","v":"中村嘉宏"},{"$f":"リレー!$J$11","v":"有馬魁兜"},{"$f":"リレー!$K$10","v":"立　待"},{"$f":"リレー!$L$10","v":62.2},6,{"$f":"リレー!I$34","v":"小野夏紀"},{"$f":"リレー!J$34","v":"大塚凜"},{"$f":"リレー!I$35","v":"林ことな"},{"$f":"リレー!J$35","v":"中村桜"},{"$f":"リレー!$K$34","v":"中　河"},{"$f":"リレー!$L$34","v":64.400000000000006},6,{"$f":"リレー!O$14","v":"堀雅晴"},{"$f":"リレー!P$14","v":"山田広明"},{"$f":"リレー!O$15","v":"堀実琉"},{"$f":"リレー!P$15","v":"金粕武尊"},{"$f":"リレー!$Q$14","v":"北中山"},{"$f":"リレー!$R$14","v":57.6},6,{"$f":"リレー!V$28","v":"助田夕夏"},{"$f":"リレー!W$28","v":"岩壁十和"},{"$f":"リレー!V$29","v":"谷田理鳳"},{"$f":"リレー!W$29","v":"佐藤晴瑠菜"},{"$f":"リレー!$X$28","v":"惜　陰"},{"$f":"リレー!$Y$28","v":62.2}]
[null,null,7,{"$f":"'１００ｍ'!D26","v":"落井優稀"},{"$f":"'１００ｍ'!F26","v":"神　明"},{"$f":"'１００ｍ'!H26","v":14.8},7,{"$f":"'１００ｍ'!O33","v":"田辺　雪乃"},{"$f":"'１００ｍ'!Q33","v":"進　徳"},{"$f":"'１００ｍ'!S33","v":15.71},7,{"$f":"'１００ｍ'!Z26","v":"佐々木学道"},{"$f":"'１００ｍ'!AB26","v":"河和田"},{"$f":"'１００ｍ'!AD26","v":14.21},7,{"$f":"'１００ｍ'!AK26","v":"清水　舞優"},{"$f":"'１００ｍ'!AM26","v":"吉　川"},{"$f":"'１００ｍ'!AO26","v":15.3},null,null,7,{"$f":"リレー!$I$6","v":"山㟁 泰楽"},{"$f":"リレー!$J$6","v":"土田淳士"},{"$f":"リレー!$I$7","v":"蓑輪達灯"},{"$f":"リレー!$J$7","v":"多田大志"},{"$f":"リレー!$K$6","v":"河和田"},{"$f":"リレー!$L$6","v":62.3},7,{"$f":"リレー!B$26","v":"牧野 綺羅"},{"$f":"リレー!C$26","v":"元井 深友"},{"$f":"リレー!B$27","v":"加藤 みわ"},{"$f":"リレー!C$27","v":"柴田 実侑"},{"$f":"リレー!$D$26","v":"吉　川"},{"$f":"リレー!$E$26","v":65.099999999999994},7,{"$f":"リレー!V$4","v":"熊野　月音"},{"$f":"リレー!W$4","v":"河合　陽一"},{"$f":"リレー!V$5","v":"齋藤　大晟"},{"$f":"リレー!W$5","v":"水野　俊"},{"$f":"リレー!$X$4","v":"進　徳"},{"$f":"リレー!$Y$4","v":57.8},7,{"$f":"リレー!O$26","v":"原　日鶴"},{"$f":"リレー!P$26","v":"岩尾　春花"},{"$f":"リレー!O$27","v":"丸田　菜摘"},{"$f":"リレー!P$27","v":"瀧波　奈々"},{"$f":"リレー!$Q$26","v":"進　徳"},{"$f":"リレー!$R$26","v":62.6}]
[null,null,8,{"$f":"'１００ｍ'!D33","v":"平田　海智"},{"$f":"'１００ｍ'!F33","v":"進　徳"},{"$f":"'１００ｍ'!H33","v":15},8,{"$f":"'１００ｍ'!O31","v":"山岸あかり"},{"$f":"'１００ｍ'!Q31","v":"鯖江東"},{"$f":"'１００ｍ'!S31","v":20},8,{"$f":"'１００ｍ'!Z33","v":"川江凜太郎"},{"$f":"'１００ｍ'!AB33","v":"鳥　羽"},{"$f":"'１００ｍ'!AD33","v":14.3},8,{"$f":"'１００ｍ'!AK33","v":"山本晏"},{"$f":"'１００ｍ'!AM33","v":"鳥　羽"},{"$f":"'１００ｍ'!AO33","v":15.5},null,null,8,{"$f":"リレー!$B$8","v":"村岡飛翔"},{"$f":"リレー!$C$8","v":"樫原丈太郎"},{"$f":"リレー!$B$9","v":"栁田莉夢"},{"$f":"リレー!$C$9","v":"山下悠磨"},{"$f":"リレー!$D$8","v":" 豊 "},{"$f":"リレー!$E$8","v":62.5},8,{"$f":"リレー!B$34","v":"永坂まひる"},{"$f":"リレー!C$34","v":"手鹿ティナ"},{"$f":"リレー!B$35","v":"小倉咲月"},{"$f":"リレー!C$35","v":"片岡志菜"},{"$f":"リレー!$D$34","v":" 豊 "},{"$f":"リレー!$E$34","v":65.8},8,{"$f":"リレー!O$6","v":"久島　陽"},{"$f":"リレー!P$6","v":"向　航生"},{"$f":"リレー!O$7","v":"志村　碧"},{"$f":"リレー!P$7","v":"針原　歩"},{"$f":"リレー!$Q$6","v":"吉　川"},{"$f":"リレー!$R$6","v":58.8},8,{"$f":"リレー!V$32","v":"福田来羽"},{"$f":"リレー!W$32","v":"島田和佳"},{"$f":"リレー!V$33","v":"安田奈央"},{"$f":"リレー!W$33","v":"清水葵生"},{"$f":"リレー!$X$32","v":"片　上"},{"$f":"リレー!$Y$32","v":62.7}]
[null,null,"順位","名前","学校","記録","順位","名前","学校","記録","順位","名前","学校","記録","順位","名前","学校","記録",null,null,9,{"$f":"リレー!$I$4","v":"飯島　大翔"},{"$f":"リレー!$J$4","v":"津野　大悟"},{"$f":"リレー!$I$5","v":"熊野　陽仁"},{"$f":"リレー!$J$5","v":"平田　海智"},{"$f":"リレー!$K$4","v":"進　徳"},{"$f":"リレー!$L$4","v":62.8},9,{"$f":"リレー!B$32","v":"古谷果音"},{"$f":"リレー!C$32","v":"黒田美優"},{"$f":"リレー!B$33","v":"德本仁菜"},{"$f":"リレー!C$33","v":"上杉桜礼"},{"$f":"リレー!$D$32","v":"神　明"},{"$f":"リレー!$E$32","v":65.900000000000006},9,{"$f":"リレー!O$8","v":"岩壁優汰"},{"$f":"リレー!P$8","v":"山内一稀"},{"$f":"リレー!O$9","v":"上木龍二"},{"$f":"リレー!P$9","v":"森田結翔"},{"$f":"リレー!$Q$8","v":"鯖江東"},{"$f":"リレー!$R$8","v":59.1},9,{"$f":"リレー!V$30","v":"飯田瑞紀"},{"$f":"リレー!W$30","v":"齋藤鈴夏"},{"$f":"リレー!V$31","v":"齋藤智子"},{"$f":"リレー!W$31","v":"橋本一夏"},{"$f":"リレー!$X$30","v":"中　河"},{"$f":"リレー!$Y$30","v":63.3}]
[null,"80ＭＨ",{"$f":"RANK(F15,F$15:F$22,1)","v":1},{"$f":"'80MH'!D27","v":"細田遼"},{"$f":"'80MH'!F27","v":"鯖江東"},{"$f":"'80MH'!H27","v":15.2},{"$f":"RANK(J15,J$15:J$22,1)","v":1},{"$f":"'80MH'!O29","v":"揚原　桃花"},{"$f":"'80MH'!Q29","v":"進　徳"},{"$f":"'80MH'!S29","v":15.9},{"$f":"RANK(N15,N$15:N$22,1)","v":1},{"$f":"'80MH'!Z29","v":"村島恭矢"},{"$f":"'80MH'!AB29","v":"神　明"},{"$f":"'80MH'!AD29","v":13.1},{"$f":"RANK(R15,R$15:R$22,1)","v":1},{"$f":"'80MH'!AK32","v":"西村栞"},{"$f":"'80MH'!AM32","v":"立　待"},{"$f":"'80MH'!AO32","v":14.5},null,null,10,{"$f":"リレー!$I$14","v":"酒井夢雅"},{"$f":"リレー!$J$14","v":"山本敦広"},{"$f":"リレー!$I$15","v":"山内脩誠"},{"$f":"リレー!$J$15","v":"福岡匠海"},{"$f":"リレー!$K$14","v":"北中山"},{"$f":"リレー!$L$14","v":62.9},10,{"$f":"リレー!I$28","v":"飯田美樹"},{"$f":"リレー!J$28","v":"冨樫陽菜"},{"$f":"リレー!I$29","v":"田中唯茉"},{"$f":"リレー!J$29","v":"髙橋優香"},{"$f":"リレー!$K$28","v":"惜　陰"},{"$f":"リレー!$L$28","v":66.599999999999994},10,{"$f":"リレー!O4","v":"高野真采"},{"$f":"リレー!P4","v":"田中康晴"},{"$f":"リレー!O$5","v":"山森藍暁"},{"$f":"リレー!P$5","v":"井上朝日"},{"$f":"リレー!$Q$4","v":"惜　陰"},{"$f":"リレー!$R$4","v":60.8},10,{"$f":"リレー!O$32","v":"佐々木香菜実"},{"$f":"リレー!P$32","v":"高橋こころ"},{"$f":"リレー!O$33","v":"玉村莉瑚"},{"$f":"リレー!P$33","v":"黒田紅葉"},{"$f":"リレー!$Q$32","v":"北中山"},{"$f":"リレー!$R$32","v":63.5}]
[null,null,2,{"$f":"'80MH'!D28","v":"有馬魁兜"},{"$f":"'80MH'!F28","v":"立　待"},{"$f":"'80MH'!H28","v":15.21},2,{"$f":"'80MH'!O30","v":"大塚凜"},{"$f":"'80MH'!Q30","v":"中　河"},{"$f":"'80MH'!S30","v":16.8},2,{"$f":"'80MH'!Z30","v":"片岡勇登"},{"$f":"'80MH'!AB30","v":"鳥　羽"},{"$f":"'80MH'!AD30","v":13.3},1,{"$f":"'80MH'!AK29","v":"岸上花"},{"$f":"'80MH'!AM29","v":"立　待"},{"$f":"'80MH'!AO29","v":14.5},null,null,11,{"$f":"リレー!$B$12","v":"品川次郎"},{"$f":"リレー!$C$12","v":"上大門良樹"},{"$f":"リレー!$B$13","v":"大門千速"},{"$f":"リレー!$C$13","v":"増永大志郎"},{"$f":"リレー!$D$12","v":"中　河"},{"$f":"リレー!$E$12","v":63},11,{"$f":"リレー!I$26","v":"田村寧々"},{"$f":"リレー!J$26","v":"杉原歩佳"},{"$f":"リレー!I$27","v":"出水彩花"},{"$f":"リレー!J$27","v":"西川梓央里"},{"$f":"リレー!$K$26","v":"片　上"},{"$f":"リレー!$L$26","v":70.5},11,{"$f":"リレー!V$6","v":"中出颯空"},{"$f":"リレー!W$6","v":"山口了生"},{"$f":"リレー!V$7","v":"笠島優太"},{"$f":"リレー!W$7","v":"為永優希"},{"$f":"リレー!$X$6","v":"片　上"},{"$f":"リレー!$Y$6","v":62.3},11,{"$f":"リレー!O$30","v":"田辺　栞"},{"$f":"リレー!P$30","v":"徳橋美咲"},{"$f":"リレー!O$31","v":"中島琉星"},{"$f":"リレー!P$31","v":"池上亜季"},{"$f":"リレー!$Q$30","v":" 豊 "},{"$f":"リレー!$R$30","v":63.7}]
[null,null,3,{"$f":"'80MH'!D30","v":"小林宗揮"},{"$f":"'80MH'!F30","v":"惜　陰"},{"$f":"'80MH'!H30","v":15.22},3,{"$f":"'80MH'!O31","v":"宇野由莉香"},{"$f":"'80MH'!Q31","v":"鳥　羽"},{"$f":"'80MH'!S31","v":17.399999999999999},3,{"$f":"'80MH'!Z26","v":"向　航生"},{"$f":"'80MH'!AB26","v":"吉　川"},{"$f":"'80MH'!AD26","v":14.2},3,{"$f":"'80MH'!AK30","v":"徳橋美咲"},{"$f":"'80MH'!AM30","v":" 豊 "},{"$f":"'80MH'!AO30","v":15},null,null,12,{"$f":"リレー!$B4","v":"笠島竜位"},{"$f":"リレー!$C$4","v":"山﨑佑人"},{"$f":"リレー!$B$5","v":"齋藤晴一"},{"$f":"リレー!$C$5","v":"福島悠太　"},{"$f":"リレー!$D$4","v":"片　上"},{"$f":"リレー!$E$4","v":63.3},{"$error":"#VALUE!"},{"$f":"リレー!I$32","v":"石塚咲季"},{"$f":"リレー!J$32","v":"田代愛莉"},{"$f":"リレー!I$33","v":"西川伶奈"},{"$f":"リレー!J$33","v":"村岡佑霞"},{"$f":"リレー!$K$32","v":"北中山"},{"$f":"リレー!$L$32","v":"失格"},12,{"$f":"リレー!V$10","v":"大北陸"},{"$f":"リレー!W$10","v":"竹嶋樹生"},{"$f":"リレー!V$11","v":"佐々木謙太郎"},{"$f":"リレー!W$11","v":"山田圭悟"},{"$f":"リレー!$X$10","v":"中　河"},{"$f":"リレー!$Y$10","v":62.8},{"$error":"#VALUE!"},{"$f":"リレー!V$26","v":"増永安莉"},{"$f":"リレー!W$26","v":"内田杏実"},{"$f":"リレー!V$27","v":"安達美悠"},{"$f":"リレー!W$27","v":"道屋愛菜"},{"$f":"リレー!$X$26","v":"河和田"},{"$f":"リレー!$Y$26","v":"失格"}]
[null,null,4,{"$f":"'80MH'!D29","v":"細川皓成"},{"$f":"'80MH'!F29","v":"鯖江東"},{"$f":"'80MH'!H29","v":15.4},4,{"$f":"'80MH'!O28","v":"冨樫陽菜"},{"$f":"'80MH'!Q28","v":"惜　陰"},{"$f":"'80MH'!S28","v":17.600000000000001},4,{"$f":"'80MH'!Z31","v":"土合　章太"},{"$f":"'80MH'!AB31","v":"吉　川"},{"$f":"'80MH'!AD31","v":14.4},4,{"$f":"'80MH'!AK28","v":"田中奈菜"},{"$f":"'80MH'!AM28","v":"神　明"},{"$f":"'80MH'!AO28","v":15.4}]
[null,null,5,{"$f":"'80MH'!D31","v":"山口安樹"},{"$f":"'80MH'!F31","v":"神　明"},{"$f":"'80MH'!H31","v":16.399999999999999},5,{"$f":"'80MH'!O32","v":"千田さゆり"},{"$f":"'80MH'!Q32","v":"立　待"},{"$f":"'80MH'!S32","v":17.61},5,{"$f":"'80MH'!Z28","v":"堀雅晴"},{"$f":"'80MH'!AB28","v":"北中山"},{"$f":"'80MH'!AD28","v":14.41},5,{"$f":"'80MH'!AK31","v":"増永安莉"},{"$f":"'80MH'!AM31","v":"河和田"},{"$f":"'80MH'!AO31","v":15.6}]
[null,null,6,{"$f":"'80MH'!D26","v":"木野太陽"},{"$f":"'80MH'!F26","v":"惜　陰"},{"$f":"'80MH'!H26","v":16.899999999999999},6,{"$f":"'80MH'!O33","v":"齋藤可恋"},{"$f":"'80MH'!Q33","v":"鳥　羽"},{"$f":"'80MH'!S33","v":17.899999999999999},6,{"$f":"'80MH'!Z27","v":"上木龍二"},{"$f":"'80MH'!AB27","v":"鯖江東"},{"$f":"'80MH'!AD27","v":14.7},6,{"$f":"'80MH'!AK27","v":"飯田瑞紀"},{"$f":"'80MH'!AM27","v":"中　河"},{"$f":"'80MH'!AO27","v":16.100000000000001}]
[null,null,7,{"$f":"'80MH'!D32","v":"垣本愛斗"},{"$f":"'80MH'!F32","v":"立　待"},{"$f":"'80MH'!H32","v":17.399999999999999},7,{"$f":"'80MH'!O26","v":"中川詩央里"},{"$f":"'80MH'!Q26","v":"河和田"},{"$f":"'80MH'!S26","v":21.5},7,{"$f":"'80MH'!Z32","v":"斎藤楽也"},{"$f":"'80MH'!AB32","v":"鳥　羽"},{"$f":"'80MH'!AD32","v":14.71},7,{"$f":"'80MH'!AK26","v":"髙津　眞子"},{"$f":"'80MH'!AM26","v":"吉　川"},{"$f":"'80MH'!AO26","v":16.11}]
[null,null,8,{"$f":"'80MH'!D33","v":"建石大和"},{"$f":"'80MH'!F33","v":"鳥　羽"},{"$f":"'80MH'!H33","v":21.2},8,{"$f":"'80MH'!O27","v":"髙橋優香"},{"$f":"'80MH'!Q27","v":"惜　陰"},{"$f":"'80MH'!S27","v":33.4},8,{"$f":"'80MH'!Z33","v":"冨田大翔"},{"$f":"'80MH'!AB33","v":"河和田"},{"$f":"'80MH'!AD33","v":15.2},8,{"$f":"'80MH'!AK33","v":"望月心晴"},{"$f":"'80MH'!AM33","v":"鯖江東"},{"$f":"'80MH'!AO33","v":16.3}]
[null,null,"順位","名前","学校","記録","順位","名前","学校","記録","順位","名前","学校","記録","順位","名前","学校","記録"]
[null,"持久走",{"$f":"RANK(F24,F$24:F$47,1)","v":1},{"$f":"持久走!B23","v":"井上開斗"},{"$f":"持久走!C22","v":"惜　陰"},{"$f":"持久走!D23","v":"00:05:15.300"},{"$f":"RANK(J24,J$24:J$47,1)","v":1},{"$f":"持久走!H14","v":"堀結葉"},{"$f":"持久走!$I14","v":"鯖江東"},{"$f":"持久走!J14","v":"00:02:42.700"},{"$f":"RANK(N24,N$24:N$47,1)","v":1},{"$f":"持久走!M9","v":"井上朝日"},{"$f":"持久走!$N8","v":"惜　陰"},{"$f":"持久走!O9","v":"00:05:04"},{"$f":"RANK(R24,R$24:R$47,1)","v":1},{"$f":"持久走!S12","v":"城山心那"},{"$f":"持久走!$T12","v":"鳥　羽"},{"$f":"持久走!U12","v":"00:02:40.300"}]
[null,null,2,{"$f":"持久走!B26","v":"吉村司"},{"$f":"持久走!C26","v":"鯖江東"},{"$f":"持久走!D26","v":"00:05:23"},2,{"$f":"持久走!H4","v":"木下璃想愛"},{"$f":"持久走!$I4","v":"立　待"},{"$f":"持久走!J4","v":"00:02:47.100"},2,{"$f":"持久走!M18","v":"和多田亮太"},{"$f":"持久走!$N18","v":"神　明"},{"$f":"持久走!O18","v":"00:05:08"},2,{"$f":"持久走!S6","v":"清水葵生"},{"$f":"持久走!$T6","v":"片　上"},{"$f":"持久走!U6","v":"00:02:40.600"}]
[null,null,3,{"$f":"持久走!B27","v":"大友啓太朗"},{"$f":"持久走!C26","v":"鯖江東"},{"$f":"持久走!D27","v":"00:05:24"},3,{"$f":"持久走!H7","v":"嶋崎想子"},{"$f":"持久走!$I6","v":"鳥　羽"},{"$f":"持久走!J7","v":"00:02:50.700"},3,{"$f":"持久走!M4","v":"飯田　圭祐"},{"$f":"持久走!$N4","v":"吉　川"},{"$f":"持久走!O4","v":"00:05:10.600"},3,{"$f":"持久走!S4","v":"飯田瑞紀"},{"$f":"持久走!$T4","v":"中　河"},{"$f":"持久走!U4","v":"00:02:41.300"}]
[null,null,4,{"$f":"持久走!B8","v":"増永大志郎"},{"$f":"持久走!C8","v":"中　河"},{"$f":"持久走!D8","v":"00:05:25.600"},4,{"$f":"持久走!H6","v":"大谷万優理"},{"$f":"持久走!$I6","v":"鳥　羽"},{"$f":"持久走!J6","v":"00:02:53.300"},4,{"$f":"持久走!M13","v":"土井大翔"},{"$f":"持久走!$N12","v":"鳥　羽"},{"$f":"持久走!O13","v":"00:05:14"},4,{"$f":"持久走!S21","v":"佐藤晴瑠菜"},{"$f":"持久走!$T20","v":"惜　陰"},{"$f":"持久走!U21","v":"00:02:42"}]
[null,null,5,{"$f":"持久走!B24","v":"宮川太志"},{"$f":"持久走!C24","v":"神　明"},{"$f":"持久走!D24","v":"00:05:26.900"},5,{"$f":"持久走!H9","v":"中村桜"},{"$f":"持久走!$I8","v":"中　河"},{"$f":"持久走!J9","v":"00:02:57.900"},5,{"$f":"持久走!M24","v":"河合　陽一"},{"$f":"持久走!$N24","v":"進　徳"},{"$f":"持久走!O24","v":"00:05:14.200"},5,{"$f":"持久走!S15","v":"川岸　ここ菜"},{"$f":"持久走!$T14","v":"吉　川"},{"$f":"持久走!U15","v":"00:02:43.100"}]
[null,null,6,{"$f":"持久走!B12","v":"西野脩叶"},{"$f":"持久走!C12","v":"北中山"},{"$f":"持久走!D12","v":"00:05:27.800"},6,{"$f":"持久走!H15","v":"堀瑠海"},{"$f":"持久走!$I14","v":"鯖江東"},{"$f":"持久走!J15","v":"00:02:58.100"},6,{"$f":"持久走!M6","v":"堀啓太"},{"$f":"持久走!$N6","v":"鯖江東"},{"$f":"持久走!O6","v":"00:05:16.500"},6,{"$f":"持久走!S25","v":"酒井心希"},{"$f":"持久走!$T24","v":"北中山"},{"$f":"持久走!U25","v":"00:02:44.400"}]
[null,null,7,{"$f":"持久走!B10","v":"清水丈一郎"},{"$f":"持久走!C10","v":"鳥　羽"},{"$f":"持久走!D10","v":"00:05:28.900"},7,{"$f":"持久走!H16","v":"澤田 笑唯奈"},{"$f":"持久走!$I16","v":"河和田"},{"$f":"持久走!J16","v":"00:02:58.300"},7,{"$f":"持久走!M7","v":"伊藤大翔"},{"$f":"持久走!$N6","v":"鯖江東"},{"$f":"持久走!O7","v":"00:05:18.300"},7,{"$f":"持久走!S8","v":"佐々木希歩"},{"$f":"持久走!$T8","v":"神　明"},{"$f":"持久走!U8","v":"00:02:45"}]
[null,null,8,{"$f":"持久走!B11","v":"前田透海"},{"$f":"持久走!C10","v":"鳥　羽"},{"$f":"持久走!D11","v":"00:05:30.700"},8,{"$f":"持久走!H18","v":"細川　彩夏"},{"$f":"持久走!$I18","v":"進　徳"},{"$f":"持久走!J18","v":"00:02:59.400"},8,{"$f":"持久走!M12","v":"廣瀨彰栄"},{"$f":"持久走!$N12","v":"鳥　羽"},{"$f":"持久走!O12","v":"00:05:18.700"},8,{"$f":"持久走!S14","v":"清水　瑠愛"},{"$f":"持久走!$T14","v":"吉　川"},{"$f":"持久走!U14","v":"00:02:46.500"}]
[null,null,9,{"$f":"持久走!B22","v":"小林宗揮"},{"$f":"持久走!C22","v":"惜　陰"},{"$f":"持久走!D22","v":"00:05:32.600"},9,{"$f":"持久走!H8","v":"大塚凜"},{"$f":"持久走!$I8","v":"中　河"},{"$f":"持久走!J8","v":"00:02:59.600"},9,{"$f":"持久走!M25","v":"前田恭吾"},{"$f":"持久走!$N24","v":"進　徳"},{"$f":"持久走!O25","v":"00:05:18.900"},9,{"$f":"持久走!S22","v":"岡本夢花"},{"$f":"持久走!$T22","v":"鯖江東"},{"$f":"持久走!U22","v":"00:02:50.400"}]
[null,null,10,{"$f":"持久走!B19","v":"佐飛慎太郎"},{"$f":"持久走!C18","v":"立　待"},{"$f":"持久走!D19","v":"00:05:35.400"},10,{"$f":"持久走!H24","v":"鈴木 花奏"},{"$f":"持久走!$I24","v":"吉　川"},{"$f":"持久走!J24","v":"00:03:00.800"},10,{"$f":"持久走!M8","v":"齋藤浩樹"},{"$f":"持久走!$N8","v":"惜　陰"},{"$f":"持久走!O8","v":"00:05:19.800"},10,{"$f":"持久走!S23","v":"佐々木由良"},{"$f":"持久走!$T22","v":"鯖江東"},{"$f":"持久走!U23","v":"00:02:51"}]
[null,null,11,{"$f":"持久走!B25","v":"中山晋"},{"$f":"持久走!C24","v":"神　明"},{"$f":"持久走!D25","v":"00:05:36.300"},11,{"$f":"持久走!H22","v":"小嶋陽茉里"},{"$f":"持久走!$I22","v":"神　明"},{"$f":"持久走!J22","v":"00:03:01.900"},11,{"$f":"持久走!M5","v":"加藤　周"},{"$f":"持久走!$N4","v":"吉　川"},{"$f":"持久走!O5","v":"00:05:28.300"},11,{"$f":"持久走!S18","v":"加藤ほのか"},{"$f":"持久走!$T18","v":"立　待"},{"$f":"持久走!U18","v":"00:02:51.900"}]
[null,null,12,{"$f":"持久走!B6","v":"竹内 寛武"},{"$f":"持久走!C6","v":"吉　川"},{"$f":"持久走!D6","v":"00:05:37.300"},12,{"$f":"持久走!H5","v":"吉田真由"},{"$f":"持久走!$I4","v":"立　待"},{"$f":"持久走!J5","v":"00:03:02.900"},12,{"$f":"持久走!M26","v":"吉田圭悟"},{"$f":"持久走!$N26","v":"河和田"},{"$f":"持久走!O26","v":"00:05:28.500"},12,{"$f":"持久走!S19","v":"西崎光稀"},{"$f":"持久走!$T18","v":"立　待"},{"$f":"持久走!U19","v":"00:02:53.100"}]
[null,null,13,{"$f":"持久走!B4","v":"手賀柊太朗"},{"$f":"持久走!C4","v":" 豊 "},{"$f":"持久走!D4","v":"00:05:40.700"},13,{"$f":"持久走!H21","v":"小倉咲月"},{"$f":"持久走!$I20","v":" 豊 "},{"$f":"持久走!J21","v":"00:03:09.800"},13,{"$f":"持久走!M16","v":"清水涼"},{"$f":"持久走!$N16","v":"立　待"},{"$f":"持久走!O16","v":"00:05:32.800"},13,{"$f":"持久走!S7","v":"宮本唯衣"},{"$f":"持久走!$T6","v":"片　上"},{"$f":"持久走!U7","v":"00:02:53.600"}]
[null,null,14,{"$f":"持久走!B18","v":"吉村光平"},{"$f":"持久走!C18","v":"立　待"},{"$f":"持久走!D18","v":"00:05:43.200"},14,{"$f":"持久走!H17","v":"清水凜"},{"$f":"持久走!$I16","v":"河和田"},{"$f":"持久走!J17","v":"00:03:10"},14,{"$f":"持久走!M20","v":"山本志音"},{"$f":"持久走!$N20","v":" 豊 "},{"$f":"持久走!O20","v":"00:05:41.500"},14,{"$f":"持久走!S13","v":"高野仁愛"},{"$f":"持久走!$T12","v":"鳥　羽"},{"$f":"持久走!U13","v":"00:02:54.500"}]
[null,null,15,{"$f":"持久走!B16","v":"淵上一地"},{"$f":"持久走!C16","v":"河和田"},{"$f":"持久走!D16","v":"00:05:43.500"},15,{"$f":"持久走!H26","v":"杉原歩佳"},{"$f":"持久走!$I26","v":"片　上"},{"$f":"持久走!J26","v":"00:03:10.800"},15,{"$f":"持久走!M11","v":"水野雅人"},{"$f":"持久走!$N10","v":"北中山"},{"$f":"持久走!O11","v":"00:05:43.900"},15,{"$f":"持久走!S10","v":"内田杏実"},{"$f":"持久走!$T10","v":"河和田"},{"$f":"持久走!U10","v":"00:02:56.700"}]
[null,null,16,{"$f":"持久走!B5","v":"栁田莉夢"},{"$f":"持久走!C4","v":" 豊 "},{"$f":"持久走!D5","v":"00:05:50.300"},16,{"$f":"持久走!H20","v":"鈴木美寿"},{"$f":"持久走!$I20","v":" 豊 "},{"$f":"持久走!J20","v":"00:03:12.400"},16,{"$f":"持久走!M19","v":"前田桜輝"},{"$f":"持久走!$N18","v":"神　明"},{"$f":"持久走!O19","v":"00:05:45.200"},16,{"$f":"持久走!S9","v":"揚原里彩"},{"$f":"持久走!$T8","v":"神　明"},{"$f":"持久走!U9","v":"00:02:57.300"}]
[null,null,17,{"$f":"持久走!B20","v":"山﨑佑人"},{"$f":"持久走!C20","v":"片　上"},{"$f":"持久走!D20","v":"00:05:53"},17,{"$f":"持久走!H27","v":"田村寧々"},{"$f":"持久走!$I26","v":"片　上"},{"$f":"持久走!J27","v":"00:03:13.300"},17,{"$f":"持久走!M27","v":"安田圭汰"},{"$f":"持久走!$N26","v":"河和田"},{"$f":"持久走!O27","v":"00:05:47.900"},17,{"$f":"持久走!S17","v":"加藤綸菜"},{"$f":"持久走!$T16","v":" 豊 "},{"$f":"持久走!U17","v":"00:02:57.600"}]
[null,null,18,{"$f":"持久走!B14","v":"津野　大悟"},{"$f":"持久走!C14","v":"進　徳"},{"$f":"持久走!D14","v":"00:05:56.200"},18,{"$f":"持久走!H13","v":"大久保綾子"},{"$f":"持久走!$I12","v":"惜　陰"},{"$f":"持久走!J13","v":"00:03:13.500"},18,{"$f":"持久走!M17","v":"加藤颯斗"},{"$f":"持久走!$N16","v":"立　待"},{"$f":"持久走!O17","v":"00:05:48.700"},18,{"$f":"持久走!S24","v":"黒田紅葉"},{"$f":"持久走!$T24","v":"北中山"},{"$f":"持久走!U24","v":"00:03:01"}]
[null,null,19,{"$f":"持久走!B7","v":"河合 隼人"},{"$f":"持久走!C6","v":"吉　川"},{"$f":"持久走!D7","v":"00:05:58.800"},19,{"$f":"持久走!H23","v":"五百﨑楓"},{"$f":"持久走!$I22","v":"神　明"},{"$f":"持久走!J23","v":"00:03:15.700"},19,{"$f":"持久走!M14","v":"笠島優太"},{"$f":"持久走!$N14","v":"片　上"},{"$f":"持久走!O14","v":"00:05:51.900"},19,{"$f":"持久走!S11","v":"小辺愛理"},{"$f":"持久走!$T10","v":"河和田"},{"$f":"持久走!U11","v":"00:03:03.100"}]
[null,null,20,{"$f":"持久走!B13","v":"水野雄揮"},{"$f":"持久走!C12","v":"北中山"},{"$f":"持久走!D13","v":"00:06:08.600"},20,{"$f":"持久走!H19","v":"高棹はなの"},{"$f":"持久走!$I18","v":"進　徳"},{"$f":"持久走!J19","v":"00:03:16.500"},20,{"$f":"持久走!M23","v":"品川涼"},{"$f":"持久走!$N22","v":"中　河"},{"$f":"持久走!O23","v":"00:05:54.300"},20,{"$f":"持久走!S26","v":"長谷川鈴夏"},{"$f":"持久走!$T26","v":"進　徳"},{"$f":"持久走!U26","v":"00:03:04.400"}]
[null,null,21,{"$f":"持久走!B17","v":"蓑輪達灯"},{"$f":"持久走!C16","v":"河和田"},{"$f":"持久走!D17","v":"00:06:13.600"},21,{"$f":"持久走!H25","v":"大西 栞来"},{"$f":"持久走!$I24","v":"吉　川"},{"$f":"持久走!J25","v":"00:03:17.800"},21,{"$f":"持久走!M10","v":"田代健太郎"},{"$f":"持久走!$N10","v":"北中山"},{"$f":"持久走!O10","v":"00:05:56.900"},21,{"$f":"持久走!S5","v":"吉田美優"},{"$f":"持久走!$T4","v":"中　河"},{"$f":"持久走!U5","v":"00:03:05.100"}]
[null,null,22,{"$f":"持久走!B15","v":"石田　脩真"},{"$f":"持久走!C14","v":"進　徳"},{"$f":"持久走!D15","v":"00:06:19.300"},22,{"$f":"持久走!H12","v":"田中唯茉"},{"$f":"持久走!$I12","v":"惜　陰"},{"$f":"持久走!J12","v":"00:03:20.300"},22,{"$f":"持久走!M22","v":"山田圭悟"},{"$f":"持久走!$N22","v":"中　河"},{"$f":"持久走!O22","v":"00:06:01.800"},22,{"$f":"持久走!S27","v":"加藤　陽菜"},{"$f":"持久走!$T26","v":"進　徳"},{"$f":"持久走!U27","v":"00:03:07.100"}]
[null,null,23,{"$f":"持久走!B9","v":"湯口和季"},{"$f":"持久走!C8","v":"中　河"},{"$f":"持久走!D9","v":"00:06:21.100"},23,{"$f":"持久走!H10","v":"中川芽映"},{"$f":"持久走!$I10","v":"北中山"},{"$f":"持久走!J10","v":"00:03:31.800"},23,{"$f":"持久走!M21","v":"山内幸紀"},{"$f":"持久走!$N20","v":" 豊 "},{"$f":"持久走!O21","v":"00:06:04.200"},23,{"$f":"持久走!S16","v":"福岡　凜"},{"$f":"持久走!$T16","v":" 豊 "},{"$f":"持久走!U16","v":"00:03:09.400"}]
[null,null,24,{"$f":"持久走!B21","v":"笠島竜位"},{"$f":"持久走!C20","v":"片　上"},{"$f":"持久走!D21","v":"00:06:31.400"},24,{"$f":"持久走!H11","v":"西川伶奈"},{"$f":"持久走!$I10","v":"北中山"},{"$f":"持久走!J11","v":"00:03:34"},24,{"$f":"持久走!M15","v":"宮下知也"},{"$f":"持久走!$N14","v":"片　上"},{"$f":"持久走!O15","v":"00:06:05.800"},24,{"$f":"持久走!S20","v":"佐々木愛乃"},{"$f":"持久走!$T20","v":"惜　陰"},{"$f":"持久走!U20","v":"00:03:22.700"}]
[null,null,"順位","名前","学校","記録","順位","名前","学校","記録","順位","名前","学校","記録","順位","名前","学校","記録"]
[null,"走幅跳",{"$f":"RANK(F49,F$49:F$72,0)","v":1},{"$f":"走幅跳!B23","v":"細田遼"},{"$f":"走幅跳!C23","v":"鯖江東"},{"$f":"走幅跳!G23","v":393},{"$f":"RANK(J49,J$49:J$72,0)","v":1},{"$f":"走幅跳!J27","v":"井上祐佳"},{"$f":"走幅跳!K27","v":"河和田"},{"$f":"走幅跳!O27","v":368},{"$f":"RANK(N49,N$49:N$72,0)","v":1},{"$f":"走幅跳!R25","v":"杉本叶"},{"$f":"走幅跳!S25","v":"神　明"},{"$f":"走幅跳!W25","v":432},{"$f":"RANK(R49,R$49:R$72,0)","v":1},{"$f":"走幅跳!Z26","v":"山本陽愛"},{"$f":"走幅跳!AA26","v":"鳥　羽"},{"$f":"走幅跳!AE26","v":351}]
[null,null,2,{"$f":"走幅跳!B14","v":"加藤証"},{"$f":"走幅跳!C14","v":"神　明"},{"$f":"走幅跳!G14","v":392},2,{"$f":"走幅跳!J25","v":"吉田名瑠"},{"$f":"走幅跳!K25","v":"鯖江東"},{"$f":"走幅跳!O25","v":366},2,{"$f":"走幅跳!R4","v":"川江凜太郎"},{"$f":"走幅跳!S4","v":"鳥　羽"},{"$f":"走幅跳!W4","v":414},2,{"$f":"走幅跳!Z7","v":"田中　里璃"},{"$f":"走幅跳!AA7","v":"吉　川"},{"$f":"走幅跳!AE7","v":350}]
[null,null,3,{"$f":"走幅跳!B11","v":"吉村司"},{"$f":"走幅跳!C11","v":"鯖江東"},{"$f":"走幅跳!G11","v":373},3,{"$f":"走幅跳!J7","v":"柑本浩奈"},{"$f":"走幅跳!K7","v":"立　待"},{"$f":"走幅跳!O7","v":351},3,{"$f":"走幅跳!R15","v":"佐々木学道"},{"$f":"走幅跳!S15","v":"河和田"},{"$f":"走幅跳!W15","v":409},3,{"$f":"走幅跳!Z12","v":"和田絢柚子"},{"$f":"走幅跳!AA12","v":"神　明"},{"$f":"走幅跳!AE12","v":349}]
[null,null,4,{"$f":"走幅跳!B17","v":"藤井大暉"},{"$f":"走幅跳!C17","v":"立　待"},{"$f":"走幅跳!G17","v":370},4,{"$f":"走幅跳!J13","v":"堀結葉"},{"$f":"走幅跳!K13","v":"鯖江東"},{"$f":"走幅跳!O13","v":338},4,{"$f":"走幅跳!R17","v":"森田結翔"},{"$f":"走幅跳!S17","v":"鯖江東"},{"$f":"走幅跳!W17","v":402},4,{"$f":"走幅跳!Z20","v":"岩尾　春花"},{"$f":"走幅跳!AA20","v":"進　徳"},{"$f":"走幅跳!AE20","v":348}]
[null,null,5,{"$f":"走幅跳!B25","v":"山㟁 泰楽"},{"$f":"走幅跳!C25","v":"河和田"},{"$f":"走幅跳!G25","v":362},5,{"$f":"走幅跳!J4","v":"山田稚乃"},{"$f":"走幅跳!K4","v":"鳥　羽"},{"$f":"走幅跳!O4","v":334},5,{"$f":"走幅跳!R6","v":"北道巧真"},{"$f":"走幅跳!S6","v":"立　待"},{"$f":"走幅跳!W6","v":393},5,{"$f":"走幅跳!Z21","v":"林舞夢"},{"$f":"走幅跳!AA21","v":"立　待"},{"$f":"走幅跳!AE21","v":346}]
[null,null,6,{"$f":"走幅跳!B26","v":"吉川広大"},{"$f":"走幅跳!C26","v":"神　明"},{"$f":"走幅跳!G26","v":361},6,{"$f":"走幅跳!J23","v":"永坂まひる"},{"$f":"走幅跳!K23","v":" 豊 "},{"$f":"走幅跳!O23","v":326},6,{"$f":"走幅跳!R19","v":"榊原尚希"},{"$f":"走幅跳!S19","v":" 豊 "},{"$f":"走幅跳!W19","v":391},6,{"$f":"走幅跳!Z17","v":"笹木美羽"},{"$f":"走幅跳!AA17","v":"河和田"},{"$f":"走幅跳!AE17","v":336}]
[null,null,7,{"$f":"走幅跳!B4","v":"手鹿 蓮斗"},{"$f":"走幅跳!C4","v":"吉　川"},{"$f":"走幅跳!G4","v":359},7,{"$f":"走幅跳!J19","v":"高居美那"},{"$f":"走幅跳!K19","v":"立　待"},{"$f":"走幅跳!O19","v":324},7,{"$f":"走幅跳!R13","v":"瀧波和大"},{"$f":"走幅跳!S13","v":"神　明"},{"$f":"走幅跳!W13","v":389},7,{"$f":"走幅跳!Z18","v":"五十嵐美緒"},{"$f":"走幅跳!AA18","v":" 豊 "},{"$f":"走幅跳!AE18","v":333}]
[null,null,8,{"$f":"走幅跳!B21","v":"冨本龍我"},{"$f":"走幅跳!C21","v":"惜　陰"},{"$f":"走幅跳!G21","v":353.1},8,{"$f":"走幅跳!J20","v":"杉本有莉亜"},{"$f":"走幅跳!K20","v":"神　明"},{"$f":"走幅跳!O20","v":318},8,{"$f":"走幅跳!R26","v":"堀実琉"},{"$f":"走幅跳!S26","v":"北中山"},{"$f":"走幅跳!W26","v":387},8,{"$f":"走幅跳!Z23","v":"旭颯季"},{"$f":"走幅跳!AA23","v":"惜　陰"},{"$f":"走幅跳!AE23","v":332}]
[null,null,9,{"$f":"走幅跳!B13","v":"多田大志"},{"$f":"走幅跳!C13","v":"河和田"},{"$f":"走幅跳!G13","v":353},9,{"$f":"走幅跳!J6","v":"清水真菜実"},{"$f":"走幅跳!K6","v":"進　徳"},{"$f":"走幅跳!O6","v":315},9,{"$f":"走幅跳!R18","v":"富山輝空"},{"$f":"走幅跳!S18","v":"立　待"},{"$f":"走幅跳!W18","v":385},9,{"$f":"走幅跳!Z15","v":"齋藤智子"},{"$f":"走幅跳!AA15","v":"中　河"},{"$f":"走幅跳!AE15","v":326}]
[null,null,10,{"$f":"走幅跳!B27","v":"笠原彰紘"},{"$f":"走幅跳!C27","v":"鳥　羽"},{"$f":"走幅跳!G27","v":351},10,{"$f":"走幅跳!J22","v":"中村桜"},{"$f":"走幅跳!K22","v":"中　河"},{"$f":"走幅跳!O22","v":314},10,{"$f":"走幅跳!R16","v":"土井大翔"},{"$f":"走幅跳!S16","v":"鳥　羽"},{"$f":"走幅跳!W16","v":380},10,{"$f":"走幅跳!Z19","v":"白崎　望愛"},{"$f":"走幅跳!AA19","v":"吉　川"},{"$f":"走幅跳!AE19","v":322.10000000000002}]
[null,null,11,{"$f":"走幅跳!B6","v":"齋藤晴一"},{"$f":"走幅跳!C6","v":"片　上"},{"$f":"走幅跳!G6","v":347},11,{"$f":"走幅跳!J15","v":"山田陽菜"},{"$f":"走幅跳!K15","v":"河和田"},{"$f":"走幅跳!O15","v":302},11,{"$f":"走幅跳!R27","v":"冨田大翔"},{"$f":"走幅跳!S27","v":"河和田"},{"$f":"走幅跳!W27","v":375},11,{"$f":"走幅跳!Z25","v":"島田和佳"},{"$f":"走幅跳!AA25","v":"片　上"},{"$f":"走幅跳!AE25","v":322}]
[null,null,12,{"$f":"走幅跳!B8","v":"酒井夢雅"},{"$f":"走幅跳!C8","v":"北中山"},{"$f":"走幅跳!G8","v":346},12,{"$f":"走幅跳!J14","v":"石田 花凜"},{"$f":"走幅跳!K14","v":"吉　川"},{"$f":"走幅跳!O14","v":297},12,{"$f":"走幅跳!R10","v":"牧野　康太"},{"$f":"走幅跳!S10","v":"吉　川"},{"$f":"走幅跳!W10","v":370},12,{"$f":"走幅跳!Z22","v":"髙崎結羽"},{"$f":"走幅跳!AA22","v":"北中山"},{"$f":"走幅跳!AE22","v":321}]
[null,null,13,{"$f":"走幅跳!B9","v":"長谷川翔大"},{"$f":"走幅跳!C9","v":"惜　陰"},{"$f":"走幅跳!G9","v":345},13,{"$f":"走幅跳!J8","v":"大田夢彩"},{"$f":"走幅跳!K8","v":"神　明"},{"$f":"走幅跳!O8","v":294},13,{"$f":"走幅跳!R11","v":"齋藤　大晟"},{"$f":"走幅跳!S11","v":"進　徳"},{"$f":"走幅跳!W11","v":364},13,{"$f":"走幅跳!Z5","v":"増永安莉"},{"$f":"走幅跳!AA5","v":"河和田"},{"$f":"走幅跳!AE5","v":318}]
[null,null,14,{"$f":"走幅跳!B16","v":"熊野 隆一"},{"$f":"走幅跳!C16","v":"吉　川"},{"$f":"走幅跳!G16","v":338},14,{"$f":"走幅跳!J17","v":"浅野真矢"},{"$f":"走幅跳!K17","v":"惜　陰"},{"$f":"走幅跳!O17","v":293},14,{"$f":"走幅跳!R21","v":"為永優希"},{"$f":"走幅跳!S21","v":"片　上"},{"$f":"走幅跳!W21","v":363},14,{"$f":"走幅跳!Z11","v":"谷田理鳳"},{"$f":"走幅跳!AA11","v":"惜　陰"},{"$f":"走幅跳!AE11","v":316.10000000000002}]
[null,null,15,{"$f":"走幅跳!B19","v":"上大門良樹"},{"$f":"走幅跳!C19","v":"中　河"},{"$f":"走幅跳!G19","v":336},15,{"$f":"走幅跳!J18","v":"山本　芽依"},{"$f":"走幅跳!K18","v":"進　徳"},{"$f":"走幅跳!O18","v":289},15,{"$f":"走幅跳!R14","v":"木村泰千"},{"$f":"走幅跳!S14","v":"北中山"},{"$f":"走幅跳!W14","v":358},15,{"$f":"走幅跳!Z8","v":"瀧波　奈々"},{"$f":"走幅跳!AA8","v":"進　徳"},{"$f":"走幅跳!AE8","v":316}]
[null,null,16,{"$f":"走幅跳!B18","v":"山﨑佑人"},{"$f":"走幅跳!C18","v":"片　上"},{"$f":"走幅跳!G18","v":330},16,{"$f":"走幅跳!J5","v":"窪田乃々佳"},{"$f":"走幅跳!K5","v":"惜　陰"},{"$f":"走幅跳!O5","v":287},16,{"$f":"走幅跳!R23","v":"前田　達輝"},{"$f":"走幅跳!S23","v":"進　徳"},{"$f":"走幅跳!W23","v":355},16,{"$f":"走幅跳!Z27","v":"田中瑞姫"},{"$f":"走幅跳!AA27","v":"中　河"},{"$f":"走幅跳!AE27","v":314}]
[null,null,17,{"$f":"走幅跳!B5","v":"岩原更柊"},{"$f":"走幅跳!C5","v":"立　待"},{"$f":"走幅跳!G5","v":323},17,{"$f":"走幅跳!J21","v":"田代愛莉"},{"$f":"走幅跳!K21","v":"北中山"},{"$f":"走幅跳!O21","v":279},17,{"$f":"走幅跳!R5","v":"岩壁優汰"},{"$f":"走幅跳!S5","v":"鯖江東"},{"$f":"走幅跳!W5","v":353.1},17,{"$f":"走幅跳!Z10","v":"酒井心希"},{"$f":"走幅跳!AA10","v":"北中山"},{"$f":"走幅跳!AE10","v":312}]
[null,null,18,{"$f":"走幅跳!B7","v":"大平莉久"},{"$f":"走幅跳!C7","v":"中　河"},{"$f":"走幅跳!G7","v":321},18,{"$f":"走幅跳!J10","v":"小野夏紀"},{"$f":"走幅跳!K10","v":"中　河"},{"$f":"走幅跳!O10","v":276.10000000000002},18,{"$f":"走幅跳!R7","v":"真柄　央"},{"$f":"走幅跳!S7","v":" 豊 "},{"$f":"走幅跳!W7","v":353},18,{"$f":"走幅跳!Z16","v":"笠原夕楽"},{"$f":"走幅跳!AA16","v":"鯖江東"},{"$f":"走幅跳!AE16","v":310}]
[null,null,19,{"$f":"走幅跳!B22","v":"細川　和暉"},{"$f":"走幅跳!C22","v":"進　徳"},{"$f":"走幅跳!G22","v":320},19,{"$f":"走幅跳!J9","v":"玉村喜音"},{"$f":"走幅跳!K9","v":"北中山"},{"$f":"走幅跳!O9","v":276},19,{"$f":"走幅跳!R12","v":"秋元椋"},{"$f":"走幅跳!S12","v":"惜　陰"},{"$f":"走幅跳!W12","v":350},19,{"$f":"走幅跳!Z14","v":"山本晏"},{"$f":"走幅跳!AA14","v":"鳥　羽"},{"$f":"走幅跳!AE14","v":301}]
[null,null,20,{"$f":"走幅跳!B20","v":"山本敦広"},{"$f":"走幅跳!C20","v":"北中山"},{"$f":"走幅跳!G20","v":316},20,{"$f":"走幅跳!J11","v":"米沢日那"},{"$f":"走幅跳!K11","v":" 豊 "},{"$f":"走幅跳!O11","v":274},19,{"$f":"走幅跳!R22","v":"上杉　翼"},{"$f":"走幅跳!S22","v":"吉　川"},{"$f":"走幅跳!W22","v":350},20,{"$f":"走幅跳!Z13","v":"宮本唯衣"},{"$f":"走幅跳!AA13","v":"片　上"},{"$f":"走幅跳!AE13","v":296}]
[null,null,21,{"$f":"走幅跳!B15","v":"中川大聖"},{"$f":"走幅跳!C15","v":"鳥　羽"},{"$f":"走幅跳!G15","v":312},21,{"$f":"走幅跳!J16","v":"西村萠花"},{"$f":"走幅跳!K16","v":"鳥　羽"},{"$f":"走幅跳!O16","v":271},21,{"$f":"走幅跳!R9","v":"山口了生"},{"$f":"走幅跳!S9","v":"片　上"},{"$f":"走幅跳!W9","v":344},21,{"$f":"走幅跳!Z6","v":"髙間海友"},{"$f":"走幅跳!AA6","v":" 豊 "},{"$f":"走幅跳!AE6","v":295}]
[null,null,22,{"$f":"走幅跳!B12","v":"寺﨑凌雅"},{"$f":"走幅跳!C12","v":" 豊 "},{"$f":"走幅跳!G12","v":303},22,{"$f":"走幅跳!J26","v":"前谷 莉里"},{"$f":"走幅跳!K26","v":"吉　川"},{"$f":"走幅跳!O26","v":256},22,{"$f":"走幅跳!R24","v":"中村榛"},{"$f":"走幅跳!S24","v":"惜　陰"},{"$f":"走幅跳!W24","v":330},{"$error":"#VALUE!"},{"$f":"走幅跳!Z24","v":"貝本莉乃愛"},{"$f":"走幅跳!AA24","v":"神　明"},{"$f":"走幅跳!AE24","v":"N"}]
[null,null,23,{"$f":"走幅跳!B10","v":"関野　祐輔"},{"$f":"走幅跳!C10","v":"進　徳"},{"$f":"走幅跳!G10","v":297},23,{"$f":"走幅跳!J12","v":"西川梓央里"},{"$f":"走幅跳!K12","v":"片　上"},{"$f":"走幅跳!O12","v":250},23,{"$f":"走幅跳!R20","v":"牧真史"},{"$f":"走幅跳!S20","v":"中　河"},{"$f":"走幅跳!W20","v":322},{"$error":"#VALUE!"},{"$f":"走幅跳!Z9","v":"和泉英紗"},{"$f":"走幅跳!AA9","v":"立　待"},{"$f":"走幅跳!AE9","v":"N"}]
[null,null,24,{"$f":"走幅跳!B24","v":"橋本琉平"},{"$f":"走幅跳!C24","v":" 豊 "},{"$f":"走幅跳!G24","v":296},24,{"$f":"走幅跳!J24","v":0},{"$f":"走幅跳!K24","v":""},{"$f":"走幅跳!O24","v":0},24,{"$f":"走幅跳!R8","v":"佐々木謙太郎"},{"$f":"走幅跳!S8","v":"中　河"},{"$f":"走幅跳!W8","v":306},{"$error":"#VALUE!"},{"$f":"走幅跳!Z4","v":"山岸愛子"},{"$f":"走幅跳!AA4","v":"鯖江東"},{"$f":"走幅跳!AE4","v":"N"}]
[null,null,"順位","名前","学校","記録","順位","名前","学校","記録","順位","名前","学校","記録","順位","名前","学校","記録"]
[null,"走高跳",{"$f":"RANK(F74,F$74:F$97,0)","v":1},{"$f":"走高跳!B7","v":"野尻晃矢"},{"$f":"走高跳!C7","v":"神　明"},{"$f":"走高跳!D7","v":118},{"$f":"RANK(J74,J$74:J$97,0)","v":1},{"$f":"走高跳!H21","v":"吉田帆麻里"},{"$f":"走高跳!I21","v":"鳥　羽"},{"$f":"走高跳!J21","v":120.1},{"$f":"RANK(N74,N$74:N$97,0)","v":1},{"$f":"走高跳!M8","v":"田中翔"},{"$f":"走高跳!N8","v":"神　明"},{"$f":"走高跳!O8","v":130},{"$f":"RANK(R74,R$74:R$97,0)","v":1},{"$f":"走高跳!S19","v":"中島琉星"},{"$f":"走高跳!T19","v":" 豊 "},{"$f":"走高跳!U19","v":120.3}]
[null,null,2,{"$f":"走高跳!B14","v":"黒田啓介"},{"$f":"走高跳!C14","v":"北中山"},{"$f":"走高跳!D14","v":116.2},2,{"$f":"走高跳!H11","v":"飯田美樹"},{"$f":"走高跳!I11","v":"惜　陰"},{"$f":"走高跳!J11","v":120},2,{"$f":"走高跳!M27","v":"金粕武尊"},{"$f":"走高跳!N27","v":"北中山"},{"$f":"走高跳!O27","v":125},2,{"$f":"走高跳!S17","v":"小林みゅう"},{"$f":"走高跳!T17","v":"鳥　羽"},{"$f":"走高跳!U17","v":120.2}]
[null,null,3,{"$f":"走高跳!B15","v":"滝純志郎"},{"$f":"走高跳!C15","v":"惜　陰"},{"$f":"走高跳!D15","v":116.1},3,{"$f":"走高跳!H20","v":"中村夏菜"},{"$f":"走高跳!I20","v":" 豊 "},{"$f":"走高跳!J20","v":115},3,{"$f":"走高跳!M12","v":"廣瀨彰栄"},{"$f":"走高跳!N12","v":"鳥　羽"},{"$f":"走高跳!O12","v":120.6},3,{"$f":"走高跳!S25","v":"德本茉侑"},{"$f":"走高跳!T25","v":"神　明"},{"$f":"走高跳!U25","v":120.1}]
[null,null,4,{"$f":"走高跳!B4","v":"杉山 聖"},{"$f":"走高跳!C4","v":"吉　川"},{"$f":"走高跳!D4","v":110.4},4,{"$f":"走高跳!H12","v":"権藤あずみ"},{"$f":"走高跳!I12","v":"神　明"},{"$f":"走高跳!J12","v":110.3},3,{"$f":"走高跳!M24","v":"寺崎颯汰"},{"$f":"走高跳!N24","v":"鳥　羽"},{"$f":"走高跳!O24","v":120.6},4,{"$f":"走高跳!S21","v":"岩壁十和"},{"$f":"走高跳!T21","v":"惜　陰"},{"$f":"走高跳!U21","v":120}]
[null,null,4,{"$f":"走高跳!B19","v":"加藤証"},{"$f":"走高跳!C19","v":"神　明"},{"$f":"走高跳!D19","v":110.4},4,{"$f":"走高跳!H27","v":"川﨑野々香"},{"$f":"走高跳!I27","v":"立　待"},{"$f":"走高跳!J27","v":110.3},5,{"$f":"走高跳!M17","v":"三田村悠大"},{"$f":"走高跳!N17","v":"鯖江東"},{"$f":"走高跳!O17","v":120.5},5,{"$f":"走高跳!S11","v":"紫阿南"},{"$f":"走高跳!T11","v":"立　待"},{"$f":"走高跳!U11","v":115.4}]
[null,null,4,{"$f":"走高跳!B6","v":"髙橋飛翔"},{"$f":"走高跳!C6","v":"鳥　羽"},{"$f":"走高跳!D6","v":110.4},6,{"$f":"走高跳!H26","v":"佐野こころ"},{"$f":"走高跳!I26","v":"進　徳"},{"$f":"走高跳!J26","v":110.2},6,{"$f":"走高跳!M25","v":"伊藤優羽太"},{"$f":"走高跳!N25","v":"立　待"},{"$f":"走高跳!O25","v":120.4},6,{"$f":"走高跳!S18","v":"佐々木由良"},{"$f":"走高跳!T18","v":"鯖江東"},{"$f":"走高跳!U18","v":115.3}]
[null,null,7,{"$f":"走高跳!B18","v":"蓑輪翼"},{"$f":"走高跳!C18","v":"鳥　羽"},{"$f":"走高跳!D18","v":110.3},7,{"$f":"走高跳!H6","v":"澤田 笑唯奈"},{"$f":"走高跳!I6","v":"河和田"},{"$f":"走高跳!J6","v":105.2},7,{"$f":"走高跳!M13","v":"田口友翔"},{"$f":"走高跳!N13","v":"立　待"},{"$f":"走高跳!O13","v":120.3},7,{"$f":"走高跳!S7","v":"戸谷有菜"},{"$f":"走高跳!T7","v":" 豊 "},{"$f":"走高跳!U7","v":115.2}]
[null,null,8,{"$f":"走高跳!B13","v":"岩壁篤史"},{"$f":"走高跳!C13","v":"鯖江東"},{"$f":"走高跳!D13","v":110.2},8,{"$f":"走高跳!H19","v":"柴田 実侑"},{"$f":"走高跳!I19","v":"吉　川"},{"$f":"走高跳!J19","v":105.1},8,{"$f":"走高跳!M6","v":"志村　碧"},{"$f":"走高跳!N6","v":"吉　川"},{"$f":"走高跳!O6","v":120.2},8,{"$f":"走高跳!S13","v":"松本茉央"},{"$f":"走高跳!T13","v":"神　明"},{"$f":"走高跳!U13","v":115.1}]
[null,null,8,{"$f":"走高跳!B16","v":"石川 景慈郎"},{"$f":"走高跳!C16","v":"吉　川"},{"$f":"走高跳!D16","v":110.2},8,{"$f":"走高跳!H24","v":"瓜生彩華"},{"$f":"走高跳!I24","v":"神　明"},{"$f":"走高跳!J24","v":105.1},9,{"$f":"走高跳!M10","v":"吉村乙輝"},{"$f":"走高跳!N10","v":"中　河"},{"$f":"走高跳!O10","v":115},9,{"$f":"走高跳!S14","v":"安田奈央"},{"$f":"走高跳!T14","v":"片　上"},{"$f":"走高跳!U14","v":110}]
[null,null,10,{"$f":"走高跳!B27","v":"齋藤正義"},{"$f":"走高跳!C27","v":"惜　陰"},{"$f":"走高跳!D27","v":110.1},10,{"$f":"走高跳!H18","v":"山田陽菜"},{"$f":"走高跳!I18","v":"河和田"},{"$f":"走高跳!J18","v":105},9,{"$f":"走高跳!M16","v":"水野　俊"},{"$f":"走高跳!N16","v":"進　徳"},{"$f":"走高跳!O16","v":115},9,{"$f":"走高跳!S5","v":"山田樹希"},{"$f":"走高跳!T5","v":"鳥　羽"},{"$f":"走高跳!U5","v":110}]
[null,null,10,{"$f":"走高跳!B21","v":"大門千速"},{"$f":"走高跳!C21","v":"中　河"},{"$f":"走高跳!D21","v":110.1},11,{"$f":"走高跳!H10","v":"堀由羅"},{"$f":"走高跳!I10","v":"中　河"},{"$f":"走高跳!J10","v":100},11,{"$f":"走高跳!M15","v":"五十子琳望"},{"$f":"走高跳!N15","v":"北中山"},{"$f":"走高跳!O15","v":110},9,{"$f":"走高跳!S23","v":"林舞夢"},{"$f":"走高跳!T23","v":"立　待"},{"$f":"走高跳!U23","v":110}]
[null,null,12,{"$f":"走高跳!B25","v":"内田琢也"},{"$f":"走高跳!C25","v":"鯖江東"},{"$f":"走高跳!D25","v":110},11,{"$f":"走高跳!H9","v":"竹内心和"},{"$f":"走高跳!I9","v":"鳥　羽"},{"$f":"走高跳!J9","v":100},11,{"$f":"走高跳!M4","v":"近藤大空"},{"$f":"走高跳!N4","v":"進　徳"},{"$f":"走高跳!O4","v":110},9,{"$f":"走高跳!S4","v":"渡辺　鈴藍"},{"$f":"走高跳!T4","v":"吉　川"},{"$f":"走高跳!U4","v":110}]
[null,null,13,{"$f":"走高跳!B12","v":"増永龍之介"},{"$f":"走高跳!C12","v":"立　待"},{"$f":"走高跳!D12","v":105.4},11,{"$f":"走高跳!H13","v":"嶋田真観"},{"$f":"走高跳!I13","v":"鯖江東"},{"$f":"走高跳!J13","v":100},11,{"$f":"走高跳!M5","v":"上木龍二"},{"$f":"走高跳!N5","v":"鯖江東"},{"$f":"走高跳!O5","v":110},9,{"$f":"走高跳!S22","v":"道屋愛菜"},{"$f":"走高跳!T22","v":"河和田"},{"$f":"走高跳!U22","v":110}]
[null,null,14,{"$f":"走高跳!B22","v":"山本　駈"},{"$f":"走高跳!C22","v":" 豊 "},{"$f":"走高跳!D22","v":105},11,{"$f":"走高跳!H7","v":"山口 可暖"},{"$f":"走高跳!I7","v":"吉　川"},{"$f":"走高跳!J7","v":100},11,{"$f":"走高跳!M18","v":"針原　歩"},{"$f":"走高跳!N18","v":"吉　川"},{"$f":"走高跳!O18","v":110},9,{"$f":"走高跳!S9","v":"大土呂碧"},{"$f":"走高跳!T9","v":"惜　陰"},{"$f":"走高跳!U9","v":110}]
[null,null,14,{"$f":"走高跳!B10","v":"橋本直樹"},{"$f":"走高跳!C10","v":" 豊 "},{"$f":"走高跳!D10","v":105},11,{"$f":"走高跳!H22","v":"山田望結"},{"$f":"走高跳!I22","v":"中　河"},{"$f":"走高跳!J22","v":100},11,{"$f":"走高跳!M21","v":"為永優希"},{"$f":"走高跳!N21","v":"片　上"},{"$f":"走高跳!O21","v":110},9,{"$f":"走高跳!S10","v":"渡辺みなと"},{"$f":"走高跳!T10","v":"河和田"},{"$f":"走高跳!U10","v":110}]
[null,null,14,{"$f":"走高跳!B26","v":"山内脩誠"},{"$f":"走高跳!C26","v":"北中山"},{"$f":"走高跳!D26","v":105},11,{"$f":"走高跳!H15","v":"五十嵐愛莉"},{"$f":"走高跳!I15","v":"立　待"},{"$f":"走高跳!J15","v":100},11,{"$f":"走高跳!M14","v":"髙野桜河"},{"$f":"走高跳!N14","v":"河和田"},{"$f":"走高跳!O14","v":110},9,{"$f":"走高跳!S6","v":"齋藤楓花"},{"$f":"走高跳!T6","v":"鯖江東"},{"$f":"走高跳!U6","v":110}]
[null,null,17,{"$f":"走高跳!B5","v":"市橋大和"},{"$f":"走高跳!C5","v":"河和田"},{"$f":"走高跳!D5","v":100},17,{"$f":"走高跳!H14","v":"大川美空"},{"$f":"走高跳!I14","v":"進　徳"},{"$f":"走高跳!J14","v":95},11,{"$f":"走高跳!M20","v":"木本凌輔"},{"$f":"走高跳!N20","v":"神　明"},{"$f":"走高跳!O20","v":110},17,{"$f":"走高跳!S15","v":"酒井優良"},{"$f":"走高跳!T15","v":"北中山"},{"$f":"走高跳!U15","v":105}]
[null,null,18,{"$f":"走高跳!B23","v":"竹内　孝介"},{"$f":"走高跳!C23","v":"進　徳"},{"$f":"走高跳!D23","v":0},17,{"$f":"走高跳!H4","v":"西川梓央里"},{"$f":"走高跳!I4","v":"片　上"},{"$f":"走高跳!J4","v":95},11,{"$f":"走高跳!M23","v":"堀江遼大"},{"$f":"走高跳!N23","v":"惜　陰"},{"$f":"走高跳!O23","v":110},17,{"$f":"走高跳!S24","v":"中村晴"},{"$f":"走高跳!T24","v":"中　河"},{"$f":"走高跳!U24","v":105}]
[null,null,18,{"$f":"走高跳!B24","v":"小原空"},{"$f":"走高跳!C24","v":"立　待"},{"$f":"走高跳!D24","v":0},17,{"$f":"走高跳!H5","v":"大森眞子"},{"$f":"走高跳!I5","v":"北中山"},{"$f":"走高跳!J5","v":95},11,{"$f":"走高跳!M22","v":"西澤龍星"},{"$f":"走高跳!N22","v":"中　河"},{"$f":"走高跳!O22","v":110},17,{"$f":"走高跳!S12","v":"田中晴乃"},{"$f":"走高跳!T12","v":"中　河"},{"$f":"走高跳!U12","v":105}]
[null,null,18,{"$f":"走高跳!B11","v":"松田啓太郎"},{"$f":"走高跳!C11","v":"進　徳"},{"$f":"走高跳!D11","v":0},20,{"$f":"走高跳!H8","v":"黒木莉央"},{"$f":"走高跳!I8","v":" 豊 "},{"$f":"走高跳!J8","v":0},11,{"$f":"走高跳!M19","v":"宝泉雄飛"},{"$f":"走高跳!N19","v":" 豊 "},{"$f":"走高跳!O19","v":110},17,{"$f":"走高跳!S8","v":"蓑輪　紗里"},{"$f":"走高跳!T8","v":"進　徳"},{"$f":"走高跳!U8","v":105}]
[null,null,18,{"$f":"走高跳!B20","v":"小山虎流"},{"$f":"走高跳!C20","v":"片　上"},{"$f":"走高跳!D20","v":0},20,{"$f":"走高跳!H17","v":"西川伶奈"},{"$f":"走高跳!I17","v":"北中山"},{"$f":"走高跳!J17","v":0},11,{"$f":"走高跳!M11","v":"田辺豊城"},{"$f":"走高跳!N11","v":"惜　陰"},{"$f":"走高跳!O11","v":110},17,{"$f":"走高跳!S20","v":"牧野　楓香"},{"$f":"走高跳!T20","v":"進　徳"},{"$f":"走高跳!U20","v":105}]
[null,null,18,{"$f":"走高跳!B8","v":"為国龍矢"},{"$f":"走高跳!C8","v":"片　上"},{"$f":"走高跳!D8","v":0},20,{"$f":"走高跳!H25","v":"宮田七奈"},{"$f":"走高跳!I25","v":"鯖江東"},{"$f":"走高跳!J25","v":0},11,{"$f":"走高跳!M9","v":"中出颯空"},{"$f":"走高跳!N9","v":"片　上"},{"$f":"走高跳!O9","v":110},22,{"$f":"走高跳!S27","v":"今小路瑞華子"},{"$f":"走高跳!T27","v":"北中山"},{"$f":"走高跳!U27","v":0}]
[null,null,18,{"$f":"走高跳!B17","v":"相馬直哉"},{"$f":"走高跳!C17","v":"河和田"},{"$f":"走高跳!D17","v":0},20,{"$f":"走高跳!H23","v":"鈴木胡音"},{"$f":"走高跳!I23","v":"惜　陰"},{"$f":"走高跳!J23","v":0},23,{"$f":"走高跳!M7","v":"橋本眞那士"},{"$f":"走高跳!N7","v":" 豊 "},{"$f":"走高跳!O7","v":0},22,{"$f":"走高跳!S16","v":"刀祢　梨加　"},{"$f":"走高跳!T16","v":"吉　川"},{"$f":"走高跳!U16","v":0}]
[null,null,18,{"$f":"走高跳!B9","v":"木林凱飛"},{"$f":"走高跳!C9","v":"中　河"},{"$f":"走高跳!D9","v":0},20,{"$f":"走高跳!H16","v":0},{"$f":"走高跳!I16","v":""},{"$f":"走高跳!J16","v":0},23,{"$f":"走高跳!M26","v":"武田海佑"},{"$f":"走高跳!N26","v":"河和田"},{"$f":"走高跳!O26","v":0},22,{"$f":"走高跳!S26","v":"前田芙羽"},{"$f":"走高跳!T26","v":"片　上"},{"$f":"走高跳!U26","v":0}]
[null,null,"順位","名前","学校","記録","順位","名前","学校","記録","順位","名前","学校","記録","順位","名前","学校","記録"]
[null,"ボール投げ",{"$f":"RANK(F99,F$99:F$122,0)","v":1},{"$f":"ボール投げ!B6","v":"井上颯太"},{"$f":"ボール投げ!C6","v":" 豊 "},{"$f":"ボール投げ!D6","v":54.1},{"$f":"RANK(J99,J$99:J$122,0)","v":1},{"$f":"ボール投げ!H11","v":"三上埜乃花"},{"$f":"ボール投げ!I11","v":"立　待"},{"$f":"ボール投げ!J11","v":38.630000000000003},{"$f":"RANK(N99,N$99:N$122,0)","v":1},{"$f":"ボール投げ!M13","v":"吉田樹利"},{"$f":"ボール投げ!N13","v":"鳥　羽"},{"$f":"ボール投げ!O13","v":59},{"$f":"RANK(R99,R$99:R$122,0)","v":1},{"$f":"ボール投げ!S8","v":"島田和佳"},{"$f":"ボール投げ!T8","v":"片　上"},{"$f":"ボール投げ!U8","v":41.88}]
[null,null,2,{"$f":"ボール投げ!B25","v":"濵野孝教"},{"$f":"ボール投げ!C25","v":"惜　陰"},{"$f":"ボール投げ!D25","v":53.39},2,{"$f":"ボール投げ!H5","v":"山下桜空"},{"$f":"ボール投げ!I5","v":"鯖江東"},{"$f":"ボール投げ!J5","v":34.5},2,{"$f":"ボール投げ!M26","v":"谷口康介"},{"$f":"ボール投げ!N26","v":"河和田"},{"$f":"ボール投げ!O26","v":54.98},2,{"$f":"ボール投げ!S6","v":"玉村莉瑚"},{"$f":"ボール投げ!T6","v":"北中山"},{"$f":"ボール投げ!U6","v":37.549999999999997}]
[null,null,3,{"$f":"ボール投げ!B11","v":"木津 慎之介"},{"$f":"ボール投げ!C11","v":"吉　川"},{"$f":"ボール投げ!D11","v":48.6},3,{"$f":"ボール投げ!H12","v":"簑輪七海"},{"$f":"ボール投げ!I12","v":"鳥　羽"},{"$f":"ボール投げ!J12","v":30.65},3,{"$f":"ボール投げ!M7","v":"山内一稀"},{"$f":"ボール投げ!N7","v":"鯖江東"},{"$f":"ボール投げ!O7","v":52.3},3,{"$f":"ボール投げ!S5","v":"川崎　百恵"},{"$f":"ボール投げ!T5","v":"吉　川"},{"$f":"ボール投げ!U5","v":36.119999999999997}]
[null,null,4,{"$f":"ボール投げ!B12","v":"惣宇利翔太"},{"$f":"ボール投げ!C12","v":"神　明"},{"$f":"ボール投げ!D12","v":48.5},4,{"$f":"ボール投げ!H27","v":"吉田桜子"},{"$f":"ボール投げ!I27","v":"惜　陰"},{"$f":"ボール投げ!J27","v":29.99},4,{"$f":"ボール投げ!M27","v":"坂井翔太郎"},{"$f":"ボール投げ!N27","v":" 豊 "},{"$f":"ボール投げ!O27","v":51.72},4,{"$f":"ボール投げ!S10","v":"岡本夢花"},{"$f":"ボール投げ!T10","v":"鯖江東"},{"$f":"ボール投げ!U10","v":35.479999999999997}]
[null,null,5,{"$f":"ボール投げ!B8","v":"前田海翔"},{"$f":"ボール投げ!C8","v":"鳥　羽"},{"$f":"ボール投げ!D8","v":47.82},5,{"$f":"ボール投げ!H17","v":"石田愛翔"},{"$f":"ボール投げ!I17","v":"鯖江東"},{"$f":"ボール投げ!J17","v":29.53},5,{"$f":"ボール投げ!M4","v":"板倉聖"},{"$f":"ボール投げ!N4","v":"立　待"},{"$f":"ボール投げ!O4","v":51.52},5,{"$f":"ボール投げ!S23","v":"永田未唯"},{"$f":"ボール投げ!T23","v":" 豊 "},{"$f":"ボール投げ!U23","v":33.33}]
[null,null,6,{"$f":"ボール投げ!B5","v":"山根慎之介"},{"$f":"ボール投げ!C5","v":"鯖江東"},{"$f":"ボール投げ!D5","v":46.1},6,{"$f":"ボール投げ!H8","v":"橋本ちはる"},{"$f":"ボール投げ!I8","v":"神　明"},{"$f":"ボール投げ!J8","v":29.39},6,{"$f":"ボール投げ!M6","v":"山田広明"},{"$f":"ボール投げ!N6","v":"北中山"},{"$f":"ボール投げ!O6","v":50.06},6,{"$f":"ボール投げ!S26","v":"吉村緋那"},{"$f":"ボール投げ!T26","v":"神　明"},{"$f":"ボール投げ!U26","v":33.159999999999997}]
[null,null,7,{"$f":"ボール投げ!B24","v":"友田泰成"},{"$f":"ボール投げ!C24","v":"神　明"},{"$f":"ボール投げ!D24","v":45.8},7,{"$f":"ボール投げ!H21","v":"中川芽映"},{"$f":"ボール投げ!I21","v":"北中山"},{"$f":"ボール投げ!J21","v":28.69},7,{"$f":"ボール投げ!M14","v":"武田海佑"},{"$f":"ボール投げ!N14","v":"河和田"},{"$f":"ボール投げ!O14","v":49.9},7,{"$f":"ボール投げ!S11","v":"吉田咲空"},{"$f":"ボール投げ!T11","v":" 豊 "},{"$f":"ボール投げ!U11","v":33.08}]
[null,null,8,{"$f":"ボール投げ!B13","v":"中村勝"},{"$f":"ボール投げ!C13","v":"惜　陰"},{"$f":"ボール投げ!D13","v":45.65},8,{"$f":"ボール投げ!H15","v":"田村春菜"},{"$f":"ボール投げ!I15","v":"惜　陰"},{"$f":"ボール投げ!J15","v":27.8},8,{"$f":"ボール投げ!M8","v":"山口陽暉"},{"$f":"ボール投げ!N8","v":"神　明"},{"$f":"ボール投げ!O8","v":49.27},8,{"$f":"ボール投げ!S4","v":"鈴木麻央"},{"$f":"ボール投げ!T4","v":"立　待"},{"$f":"ボール投げ!U4","v":32.6}]
[null,null,9,{"$f":"ボール投げ!B7","v":"淵上一地"},{"$f":"ボール投げ!C7","v":"河和田"},{"$f":"ボール投げ!D7","v":44.38},9,{"$f":"ボール投げ!H24","v":"森本真央"},{"$f":"ボール投げ!I24","v":"鳥　羽"},{"$f":"ボール投げ!J24","v":27.5},9,{"$f":"ボール投げ!M15","v":"村上慎之介"},{"$f":"ボール投げ!N15","v":" 豊 "},{"$f":"ボール投げ!O15","v":48.93},9,{"$f":"ボール投げ!S22","v":"三田村優里"},{"$f":"ボール投げ!T22","v":"鯖江東"},{"$f":"ボール投げ!U22","v":32.1}]
[null,null,10,{"$f":"ボール投げ!B19","v":"能村和志"},{"$f":"ボール投げ!C19","v":"河和田"},{"$f":"ボール投げ!D19","v":42.1},10,{"$f":"ボール投げ!H10","v":"中川詩央里"},{"$f":"ボール投げ!I10","v":"河和田"},{"$f":"ボール投げ!J10","v":27.1},10,{"$f":"ボール投げ!M19","v":"橋本快斗"},{"$f":"ボール投げ!N19","v":"鯖江東"},{"$f":"ボール投げ!O19","v":47.82},10,{"$f":"ボール投げ!S20","v":"前田芙羽"},{"$f":"ボール投げ!T20","v":"片　上"},{"$f":"ボール投げ!U20","v":31.85}]
[null,null,11,{"$f":"ボール投げ!B17","v":"木下仁志"},{"$f":"ボール投げ!C17","v":"鯖江東"},{"$f":"ボール投げ!D17","v":40.950000000000003},11,{"$f":"ボール投げ!H4","v":"出水彩花"},{"$f":"ボール投げ!I4","v":"片　上"},{"$f":"ボール投げ!J4","v":26.85},11,{"$f":"ボール投げ!M16","v":"南研磨"},{"$f":"ボール投げ!N16","v":"立　待"},{"$f":"ボール投げ!O16","v":47.13},11,{"$f":"ボール投げ!S14","v":"坂川結咲"},{"$f":"ボール投げ!T14","v":"神　明"},{"$f":"ボール投げ!U14","v":31.35}]
[null,null,12,{"$f":"ボール投げ!B14","v":"渡邉駿介"},{"$f":"ボール投げ!C14","v":"立　待"},{"$f":"ボール投げ!D14","v":40.799999999999997},12,{"$f":"ボール投げ!H19","v":"森橋　美穂"},{"$f":"ボール投げ!I19","v":"進　徳"},{"$f":"ボール投げ!J19","v":26.59},12,{"$f":"ボール投げ!M12","v":"島津　翔吾"},{"$f":"ボール投げ!N12","v":"吉　川"},{"$f":"ボール投げ!O12","v":46.88},12,{"$f":"ボール投げ!S27","v":"太田ゆき"},{"$f":"ボール投げ!T27","v":"鳥　羽"},{"$f":"ボール投げ!U27","v":31.06}]
[null,null,13,{"$f":"ボール投げ!B4","v":"増永大志郎"},{"$f":"ボール投げ!C4","v":"中　河"},{"$f":"ボール投げ!D4","v":40.619999999999997},13,{"$f":"ボール投げ!H20","v":"上杉桜礼"},{"$f":"ボール投げ!I20","v":"神　明"},{"$f":"ボール投げ!J20","v":26.5},13,{"$f":"ボール投げ!M24","v":"堀内　拳士郎"},{"$f":"ボール投げ!N24","v":"吉　川"},{"$f":"ボール投げ!O24","v":46.06},13,{"$f":"ボール投げ!S12","v":"山本茉瑚"},{"$f":"ボール投げ!T12","v":"惜　陰"},{"$f":"ボール投げ!U12","v":30.02}]
[null,null,14,{"$f":"ボール投げ!B21","v":"山本敦広"},{"$f":"ボール投げ!C21","v":"北中山"},{"$f":"ボール投げ!D21","v":40.5},14,{"$f":"ボール投げ!H25","v":"武田衣咲"},{"$f":"ボール投げ!I25","v":"中　河"},{"$f":"ボール投げ!J25","v":26.2},14,{"$f":"ボール投げ!M5","v":"大北陸"},{"$f":"ボール投げ!N5","v":"中　河"},{"$f":"ボール投げ!O5","v":44.7},14,{"$f":"ボール投げ!S17","v":"水嶋　美咲"},{"$f":"ボール投げ!T17","v":"吉　川"},{"$f":"ボール投げ!U17","v":29.27}]
[null,null,15,{"$f":"ボール投げ!B20","v":"清水丈一郎"},{"$f":"ボール投げ!C20","v":"鳥　羽"},{"$f":"ボール投げ!D20","v":39.69},15,{"$f":"ボール投げ!H13","v":"福嶋詩乃"},{"$f":"ボール投げ!I13","v":"中　河"},{"$f":"ボール投げ!J13","v":25.1},15,{"$f":"ボール投げ!M25","v":"田畑祈志"},{"$f":"ボール投げ!N25","v":"鳥　羽"},{"$f":"ボール投げ!O25","v":44.3},15,{"$f":"ボール投げ!S15","v":"小林みゅう"},{"$f":"ボール投げ!T15","v":"鳥　羽"},{"$f":"ボール投げ!U15","v":28.02}]
[null,null,16,{"$f":"ボール投げ!B27","v":"笠島竜位"},{"$f":"ボール投げ!C27","v":"片　上"},{"$f":"ボール投げ!D27","v":39.049999999999997},16,{"$f":"ボール投げ!H7","v":"末本　響"},{"$f":"ボール投げ!I7","v":"進　徳"},{"$f":"ボール投げ!J7","v":25.05},16,{"$f":"ボール投げ!M10","v":"前川翔英"},{"$f":"ボール投げ!N10","v":"片　上"},{"$f":"ボール投げ!O10","v":42.66},16,{"$f":"ボール投げ!S24","v":"大柳美心"},{"$f":"ボール投げ!T24","v":"惜　陰"},{"$f":"ボール投げ!U24","v":27.82}]
[null,null,17,{"$f":"ボール投げ!B16","v":"笠嶋想太"},{"$f":"ボール投げ!C16","v":"中　河"},{"$f":"ボール投げ!D16","v":38.96},17,{"$f":"ボール投げ!H14","v":"加藤 歩音"},{"$f":"ボール投げ!I14","v":"吉　川"},{"$f":"ボール投げ!J14","v":24.97},17,{"$f":"ボール投げ!M20","v":"菊野晴輝"},{"$f":"ボール投げ!N20","v":"神　明"},{"$f":"ボール投げ!O20","v":41.36},17,{"$f":"ボール投げ!S7","v":"山本結香"},{"$f":"ボール投げ!T7","v":"中　河"},{"$f":"ボール投げ!U7","v":26.1}]
[null,null,18,{"$f":"ボール投げ!B10","v":"平田　海智"},{"$f":"ボール投げ!C10","v":"進　徳"},{"$f":"ボール投げ!D10","v":37.32},18,{"$f":"ボール投げ!H23","v":"渡辺実里"},{"$f":"ボール投げ!I23","v":"立　待"},{"$f":"ボール投げ!J23","v":24.82},18,{"$f":"ボール投げ!M23","v":"山森藍暁"},{"$f":"ボール投げ!N23","v":"惜　陰"},{"$f":"ボール投げ!O23","v":40.340000000000003},18,{"$f":"ボール投げ!S9","v":"渡辺みなと"},{"$f":"ボール投げ!T9","v":"河和田"},{"$f":"ボール投げ!U9","v":25.55}]
[null,null,19,{"$f":"ボール投げ!B9","v":"福岡匠海"},{"$f":"ボール投げ!C9","v":"北中山"},{"$f":"ボール投げ!D9","v":36.700000000000003},19,{"$f":"ボール投げ!H6","v":"鈴木美寿"},{"$f":"ボール投げ!I6","v":" 豊 "},{"$f":"ボール投げ!J6","v":23.67},19,{"$f":"ボール投げ!M18","v":"石塚隼"},{"$f":"ボール投げ!N18","v":"北中山"},{"$f":"ボール投げ!O18","v":39.9},19,{"$f":"ボール投げ!S13","v":"河野　桜子"},{"$f":"ボール投げ!T13","v":"進　徳"},{"$f":"ボール投げ!U13","v":24.83}]
[null,null,20,{"$f":"ボール投げ!B23","v":"竹嶋 健杜"},{"$f":"ボール投げ!C23","v":"吉　川"},{"$f":"ボール投げ!D23","v":35.799999999999997},20,{"$f":"ボール投げ!H26","v":"松宮 由奈"},{"$f":"ボール投げ!I26","v":"吉　川"},{"$f":"ボール投げ!J26","v":22.9},20,{"$f":"ボール投げ!M17","v":"熊野恵汰"},{"$f":"ボール投げ!N17","v":"中　河"},{"$f":"ボール投げ!O17","v":38.869999999999997},20,{"$f":"ボール投げ!S16","v":"藪瑚々那"},{"$f":"ボール投げ!T16","v":"立　待"},{"$f":"ボール投げ!U16","v":23.87}]
[null,null,21,{"$f":"ボール投げ!B26","v":"古庄陽心"},{"$f":"ボール投げ!C26","v":"立　待"},{"$f":"ボール投げ!D26","v":35.14},21,{"$f":"ボール投げ!H18","v":"嶋川風花"},{"$f":"ボール投げ!I18","v":" 豊 "},{"$f":"ボール投げ!J18","v":21.8},21,{"$f":"ボール投げ!M21","v":"前田　恭吾"},{"$f":"ボール投げ!N21","v":"進　徳"},{"$f":"ボール投げ!O21","v":38.29},21,{"$f":"ボール投げ!S21","v":"丸山夏歩"},{"$f":"ボール投げ!T21","v":"河和田"},{"$f":"ボール投げ!U21","v":22.93}]
[null,null,22,{"$f":"ボール投げ!B22","v":"関野　祐輔"},{"$f":"ボール投げ!C22","v":"進　徳"},{"$f":"ボール投げ!D22","v":34.82},22,{"$f":"ボール投げ!H9","v":"石塚咲季"},{"$f":"ボール投げ!I9","v":"北中山"},{"$f":"ボール投げ!J9","v":21.73},22,{"$f":"ボール投げ!M11","v":"山田悠斗"},{"$f":"ボール投げ!N11","v":"惜　陰"},{"$f":"ボール投げ!O11","v":34.78},22,{"$f":"ボール投げ!S25","v":"牧野　楓香"},{"$f":"ボール投げ!T25","v":"進　徳"},{"$f":"ボール投げ!U25","v":22.62}]
[null,null,23,{"$f":"ボール投げ!B18","v":"吾田咲人"},{"$f":"ボール投げ!C18","v":" 豊 "},{"$f":"ボール投げ!D18","v":34.619999999999997},23,{"$f":"ボール投げ!H22","v":"漆崎優香"},{"$f":"ボール投げ!I22","v":"河和田"},{"$f":"ボール投げ!J22","v":20.47},23,{"$f":"ボール投げ!M9","v":"近藤　大空"},{"$f":"ボール投げ!N9","v":"進　徳"},{"$f":"ボール投げ!O9","v":34.630000000000003},23,{"$f":"ボール投げ!S19","v":"関心葉"},{"$f":"ボール投げ!T19","v":"中　河"},{"$f":"ボール投げ!U19","v":21.36}]
[null,null,24,{"$f":"ボール投げ!B15","v":"川上輝人"},{"$f":"ボール投げ!C15","v":"片　上"},{"$f":"ボール投げ!D15","v":33.15},24,{"$f":"ボール投げ!H16","v":0},{"$f":"ボール投げ!I16","v":""},{"$f":"ボール投げ!J16","v":0},24,{"$f":"ボール投げ!M22","v":"笠島優太"},{"$f":"ボール投げ!N22","v":"片　上"},{"$f":"ボール投げ!O22","v":31.33},24,{"$f":"ボール投げ!S18","v":"森井綾菜"},{"$f":"ボール投げ!T18","v":"北中山"},{"$f":"ボール投げ!U18","v":18.02}]

{"sheet":"成績一覧表","index":9,"n_rows":173,"n_cols":35,"rows_kept":173,"cut":false,"hidden":false,"merged":[[161,26,164,26],[45,31,50,34],[131,7,136,8],[131,9,136,9],[131,10,136,10],[161,21,164,21],[161,22,164,22],[161,23,162,23],[161,24,162,24],[163,23,164,23],[163,24,164,24],[161,17,164,17],[161,18,164,18],[161,19,162,19],[161,20,162,20],[163,19,164,19],[163,20,164,20],[161,13,164,13],[161,14,164,14],[161,15,162,15],[161,16,162,16],[163,15,164,15],[163,16,164,16],[163,11,164,11],[163,12,164,12],[121,25,124,25],[121,16,122,16],[123,15,124,15],[123,16,124,16],[123,7,124,7],[123,8,124,8],[121,9,124,9],[121,10,124,10],[121,11,122,11],[121,12,122,12],[123,11,124,11],[123,12,124,12],[137,10,142,10],[137,11,142,12],[137,13,142,13],[137,14,142,14],[161,25,164,25],[161,3,162,3],[161,4,162,4],[163,3,164,3],[163,4,164,4],[161,5,164,5],[161,6,164,6],[161,7,162,7],[161,8,162,8],[121,21,124,21],[121,17,124,17],[121,18,124,18],[121,19,122,19],[121,20,122,20],[123,19,124,19],[123,20,124,20],[121,13,124,13],[121,14,124,14],[121,15,122,15],[163,7,164,7],[163,8,164,8],[161,9,164,9],[161,10,164,10],[161,11,162,11],[161,12,162,12],[123,3,124,3],[123,4,124,4],[121,5,124,5],[121,6,124,6],[121,7,122,7],[121,8,122,8],[81,21,84,21],[81,22,84,22],[81,23,82,23],[83,23,84,23],[81,17,84,17],[81,18,84,18],[81,19,82,19],[81,20,82,20],[83,19,84,19],[83,20,84,20],[81,13,84,13],[81,14,84,14],[121,22,124,22],[121,23,122,23],[123,23,124,23],[81,10,84,10],[81,11,82,11],[81,12,82,12],[83,11,84,11],[83,12,84,12],[81,25,84,25],[81,26,84,26],[121,3,122,3],[121,4,122,4],[81,24,82,24],[83,24,84,24],[121,26,124,26],[121,24,122,24],[123,24,124,24],[83,3,84,3],[83,4,84,4],[81,5,84,5],[81,6,84,6],[81,7,82,7],[81,8,82,8],[83,7,84,7],[41,22,44,22],[41,23,42,23],[43,23,44,23],[41,18,44,18],[41,19,42,19],[41,20,42,20],[43,19,44,19],[43,20,44,20],[41,21,44,21],[41,14,44,14],[41,15,42,15],[81,15,82,15],[81,16,82,16],[83,15,84,15],[83,16,84,16],[83,8,84,8],[81,9,84,9],[155,29,160,29],[155,30,160,30],[155,31,160,32],[155,6,160,6],[155,7,160,8],[155,9,160,9],[155,10,160,10],[155,11,160,12],[115,23,120,24],[115,25,120,25],[115,26,120,26],[115,27,120,28],[115,29,120,29],[115,30,120,30],[115,15,120,16],[115,17,120,17],[115,18,120,18],[115,19,120,20],[155,33,160,33],[155,34,160,34],[41,3,42,3],[41,4,42,4],[43,3,44,3],[43,4,44,4],[41,5,44,5],[155,21,160,21],[155,22,160,22],[155,23,160,24],[155,25,160,25],[155,26,160,26],[155,27,160,28],[155,13,160,13],[155,14,160,14],[155,15,160,16],[155,17,160,17],[155,18,160,18],[155,19,160,20],[115,31,120,32],[115,33,120,33],[115,34,120,34],[155,3,160,4],[155,5,160,5],[75,34,80,34],[115,3,120,4],[115,5,120,5],[115,6,120,6],[115,7,120,8],[115,9,120,9],[115,10,120,10],[115,11,120,12],[115,13,120,13],[115,14,120,14],[75,26,80,26],[75,27,80,28],[75,29,80,29],[75,30,80,30],[75,31,80,32],[75,33,80,33],[75,18,80,18],[75,19,80,20],[75,21,80,21],[75,22,80,22],[75,23,80,24],[75,25,80,25],[81,3,82,3],[81,4,82,4],[75,14,80,14],[75,15,80,16],[75,17,80,17],[35,29,40,29],[35,30,40,30],[35,31,40,32],[63,15,68,16],[63,17,68,17],[51,30,56,30],[51,31,56,32],[45,25,50,25],[45,26,50,26],[45,27,50,28],[45,29,50,29],[45,14,50,14],[45,15,50,16],[45,17,50,17],[45,18,50,18],[45,19,50,20],[45,21,50,21],[41,16,42,16],[43,15,44,15],[43,16,44,16],[41,17,44,17],[35,33,40,33],[35,34,40,34],[75,3,80,4],[75,5,80,5],[75,6,80,6],[75,7,80,8],[75,9,80,9],[35,21,40,21],[35,22,40,22],[35,23,40,24],[35,25,40,25],[35,26,40,26],[35,27,40,28],[35,13,40,13],[35,14,40,14],[35,15,40,16],[35,17,40,17],[35,18,40,18],[35,19,40,20],[69,33,71,33],[72,33,74,33],[69,34,71,34],[72,34,74,34],[72,15,74,16],[149,31,154,32],[149,33,154,33],[149,34,154,34],[35,3,40,4],[35,5,40,5],[35,6,40,6],[35,7,40,8],[35,9,40,9],[35,10,40,10],[35,11,40,12],[149,23,154,24],[149,25,154,25],[149,26,154,26],[149,27,154,28],[149,29,154,29],[149,30,154,30],[149,15,154,16],[149,17,154,17],[149,18,154,18],[149,19,154,20],[149,21,154,21],[149,22,154,22],[109,34,114,34],[149,3,154,4],[149,5,154,5],[149,6,154,6],[149,7,154,8],[149,9,154,9],[149,10,154,10],[149,11,154,12],[149,13,154,13],[149,14,154,14],[109,26,114,26],[109,10,114,10],[109,11,111,12],[112,11,114,12],[109,13,111,13],[112,13,114,13],[109,14,111,14],[112,14,114,14],[143,6,148,6],[143,7,148,8],[143,9,148,9],[143,10,148,10],[137,5,142,5],[137,6,142,6],[137,7,142,8],[137,9,142,9],[69,35,74,38],[109,3,114,4],[109,5,114,5],[109,6,114,6],[109,7,114,8],[109,9,114,9],[69,25,74,25],[69,26,74,26],[69,27,74,28],[69,29,74,29],[69,30,74,30],[69,31,71,32],[72,31,74,32],[69,17,71,17],[72,17,74,17],[69,18,71,18],[72,18,74,18],[69,19,74,22],[69,23,74,24],[69,10,74,10],[69,11,74,12],[69,13,74,13],[69,14,74,14],[69,15,71,16],[29,33,31,33],[32,33,34,33],[29,34,31,34],[32,34,34,34],[29,35,34,38],[69,3,74,4],[69,5,74,5],[69,6,74,6],[69,7,74,8],[69,9,74,9],[29,19,34,22],[29,23,34,26],[29,27,34,28],[29,29,34,29],[29,30,34,30],[29,31,31,32],[32,31,34,32],[29,17,30,17],[31,17,32,17],[33,17,34,17],[29,18,30,18],[31,18,32,18],[33,18,34,18],[29,10,34,10],[143,29,148,29],[143,30,148,30],[143,31,148,32],[143,11,148,12],[103,23,108,24],[103,25,108,25],[103,26,108,26],[103,27,108,28],[103,29,108,29],[103,30,108,30],[103,15,108,16],[103,17,108,17],[103,18,108,18],[103,19,108,20],[103,21,108,21],[103,22,108,22],[109,27,114,28],[109,29,114,29],[109,30,114,30],[109,31,114,32],[109,15,114,18],[109,19,114,20],[109,21,114,21],[109,22,114,22],[143,33,148,33],[143,34,148,34],[29,3,34,4],[29,5,34,5],[29,6,34,6],[29,7,34,8],[29,9,34,9],[143,21,148,21],[143,22,148,22],[143,23,148,24],[143,25,148,25],[143,26,148,26],[143,27,148,28],[143,13,148,13],[143,14,148,14],[143,15,148,16],[143,17,148,17],[143,18,148,18],[143,19,148,20],[103,31,108,32],[103,33,108,33],[103,34,108,34],[143,3,148,4],[143,5,148,5],[63,33,68,33],[63,18,68,18],[63,19,68,20],[63,21,68,21],[63,22,68,22],[63,23,68,24],[63,25,68,25],[63,10,68,10],[63,11,68,12],[63,13,68,13],[63,14,68,14],[103,3,108,4],[103,5,108,5],[103,6,108,6],[103,7,108,8],[103,9,108,9],[103,10,108,10],[103,11,108,12],[103,13,108,13],[103,14,108,14],[23,31,28,32],[23,33,28,33],[23,34,28,34],[63,3,68,4],[63,5,68,5],[63,6,68,6],[63,7,68,8],[63,9,68,9],[23,21,28,21],[23,22,28,22],[23,23,28,24],[23,25,28,25],[23,26,28,26],[23,27,28,28],[23,13,28,13],[23,14,28,14],[23,15,28,16],[23,17,28,17],[23,18,28,18],[23,19,28,20],[57,33,62,33],[57,34,62,34],[63,34,68,34],[63,26,68,26],[137,34,142,34],[23,3,28,4],[23,5,28,5],[23,6,28,6],[23,7,28,8],[23,9,28,9],[23,10,28,10],[23,11,28,12],[137,23,142,24],[137,25,142,25],[137,26,142,26],[137,27,142,28],[137,29,142,29],[137,30,142,30],[137,15,142,16],[137,17,142,17],[137,18,142,18],[137,19,142,20],[137,21,142,21],[137,22,142,22],[97,34,102,34],[137,3,142,4],[23,29,28,29],[23,30,28,30],[97,33,102,33],[97,18,102,18],[97,19,102,20],[97,21,102,21],[97,22,102,22],[97,23,102,24],[97,25,102,25],[137,31,142,32],[137,33,142,33],[109,33,114,33],[109,23,114,24],[109,25,114,25],[115,21,120,21],[115,22,120,22],[57,29,62,29],[57,30,62,30],[57,31,62,32],[57,26,62,26],[57,27,62,28],[91,31,96,32],[85,31,90,32],[97,26,102,26],[97,27,102,28],[97,29,102,29],[97,30,102,30],[97,31,102,32],[63,27,68,28],[63,29,68,29],[63,30,68,30],[63,31,68,32],[97,3,102,4],[97,5,102,5],[97,6,102,6],[97,7,102,8],[97,9,102,9],[57,21,62,21],[57,22,62,22],[57,23,62,24],[57,25,62,25],[57,13,62,13],[57,14,62,14],[57,15,62,16],[57,17,62,17],[57,18,62,18],[57,19,62,20],[97,10,102,10],[97,11,102,12],[97,13,102,13],[97,14,102,14],[97,15,102,16],[97,17,102,17],[75,10,80,10],[75,11,80,12],[75,13,80,13],[17,31,22,32],[17,33,22,33],[17,34,22,34],[57,3,62,4],[57,5,62,5],[57,6,62,6],[57,7,62,8],[57,9,62,9],[57,10,62,10],[57,11,62,12],[17,23,22,24],[17,25,22,25],[17,26,22,26],[17,27,22,28],[17,29,22,29],[17,30,22,30],[17,15,22,16],[17,17,22,17],[17,18,22,18],[17,19,22,20],[17,21,22,21],[17,22,22,22],[51,27,56,28],[51,29,56,29],[131,34,136,34],[17,3,22,4],[17,5,22,5],[17,6,22,6],[17,7,22,8],[17,9,22,9],[17,10,22,10],[17,11,22,12],[17,13,22,13],[17,14,22,14],[131,26,136,26],[131,27,136,28],[131,29,136,29],[131,30,136,30],[131,31,136,32],[131,33,136,33],[131,18,136,18],[131,19,136,20],[131,21,136,21],[131,22,136,22],[131,23,136,24],[131,25,136,25],[131,11,136,12],[131,13,136,13],[131,14,136,14],[131,15,136,16],[131,17,136,17],[131,3,136,4],[131,5,136,5],[131,6,136,6],[91,27,96,28],[91,29,96,29],[91,30,96,30],[91,3,96,4],[91,5,96,5],[91,6,96,6],[91,7,96,8],[91,9,96,9],[91,10,96,10],[125,27,130,28],[125,29,130,29],[125,30,130,30],[125,11,130,12],[125,13,130,13],[125,14,130,14],[125,15,130,16],[125,17,130,17],[125,18,130,18],[91,33,96,33],[91,34,96,34],[91,19,96,20],[91,21,96,21],[91,22,96,22],[91,23,96,24],[91,25,96,25],[91,26,96,26],[91,11,96,12],[91,13,96,13],[91,14,96,14],[91,15,96,16],[91,17,96,17],[91,18,96,18],[51,33,56,33],[51,34,56,34],[51,19,56,20],[51,21,56,21],[51,22,56,22],[51,23,56,24],[51,25,56,25],[51,26,56,26],[51,11,56,12],[51,13,56,13],[51,14,56,14],[51,15,56,16],[51,17,56,17],[51,18,56,18],[11,3,16,4],[11,5,16,5],[11,6,16,6],[11,7,16,8],[11,9,16,9],[11,10,16,10],[45,30,50,30],[45,22,50,22],[45,23,50,24],[29,11,34,12],[29,13,34,13],[29,14,34,14],[29,15,30,16],[31,15,32,16],[33,15,34,16],[41,6,44,6],[41,7,42,7],[41,8,42,8],[43,7,44,7],[43,8,44,8],[41,9,44,9],[41,10,44,10],[41,11,42,11],[41,12,42,12],[51,7,56,8],[51,9,56,9],[51,10,56,10],[11,27,16,28],[11,29,16,29],[11,30,16,30],[11,11,16,12],[11,13,16,13],[11,14,16,14],[11,15,16,16],[11,17,16,17],[11,18,16,18],[43,11,44,11],[43,12,44,12],[41,13,44,13],[41,26,44,26],[41,24,42,24],[43,24,44,24],[41,25,44,25],[11,31,16,32],[11,33,16,33],[11,34,16,34],[11,19,16,20],[11,21,16,21],[11,22,16,22],[11,23,16,24],[11,25,16,25],[11,26,16,26],[125,31,130,32],[125,33,130,33],[125,34,130,34],[125,19,130,20],[125,21,130,21],[125,22,130,22],[125,23,130,24],[125,25,130,25],[125,26,130,26],[85,33,90,33],[85,34,90,34],[85,19,90,20],[85,21,90,21],[85,22,90,22],[85,23,90,24],[85,25,90,25],[85,26,90,26],[85,11,90,12],[85,13,90,13],[85,14,90,14],[85,15,90,16],[85,17,90,17],[85,18,90,18],[85,27,90,28],[85,29,90,29],[85,30,90,30],[5,31,10,32],[5,17,10,17],[5,18,10,18],[5,19,10,20],[5,21,10,21],[5,22,10,22],[5,23,10,24],[5,9,10,9],[5,10,10,10],[5,1,44,1],[45,1,84,1],[45,2,50,2],[51,2,56,2],[57,2,62,2],[41,2,44,2],[35,2,40,2],[23,2,28,2],[5,11,10,12],[17,2,22,2],[5,3,10,4],[5,5,10,5],[5,6,10,6],[5,7,10,8],[45,3,50,4],[45,5,50,5],[45,6,50,6],[45,7,50,8],[45,9,50,9],[45,10,50,10],[45,11,50,12],[51,3,56,4],[51,5,56,5],[51,6,56,6],[125,1,164,1],[125,2,130,2],[131,2,136,2],[137,2,142,2],[85,1,124,1],[161,2,164,2],[155,2,160,2],[149,2,154,2],[143,2,148,2],[115,2,120,2],[109,2,114,2],[121,2,124,2],[4,31,4,34],[1,2,1,5],[1,9,1,14],[1,17,1,21],[69,2,74,2],[63,2,68,2],[4,3,4,6],[29,2,34,2],[5,2,10,2],[11,2,16,2],[5,13,10,13],[5,14,10,14],[5,15,10,16],[4,23,4,26],[4,7,4,10],[4,11,4,14],[4,15,4,18],[4,19,4,22],[5,33,10,33],[5,34,10,34],[45,13,50,13],[5,25,10,25],[5,26,10,26],[5,27,10,28],[168,2,170,2],[171,2,173,2],[166,2,166,4],[4,27,4,30],[81,2,84,2],[97,2,102,2],[75,2,80,2],[103,2,108,2],[85,2,90,2],[91,2,96,2],[5,29,10,29],[5,30,10,30],[125,3,130,4],[125,5,130,5],[125,6,130,6],[125,7,130,8],[125,9,130,9],[125,10,130,10],[85,3,90,4],[85,5,90,5],[85,6,90,6],[85,7,90,8],[85,9,90,9],[85,10,90,10]]}
[]
[null,null,{"$f":"NOW()","v":"2016-09-16T16:50:39.470"},null,null,null,"第",52,"回","鯖江市小学校連合体育大会",null,null,null,null,null,null,"会場"," 鯖江市東公園陸上競技場",null,null,null,null,null,null,null,null,null,"◎","○"]
[]
[]
[null,null,"種目","１　　　位",null,null,null,"２　　　位",null,null,null,"３　　　位",null,null,null,"４　　　位",null,null,null,"５　　　位",null,null,null,"６　　　位",null,null,null,"７　　　位",null,null,null,"８　　　位"]
[null,"５　年　男　子","１００ｍ","中川貴空",null,"鯖江東",14.1,"橋本泰平",null,"神　明",14.3,"齋藤修成",null,"鯖江東",14.31,"濵野孝教",null,"惜　陰",14.32,"田中優斗",null,"惜　陰",14.4,"山下悠磨",null," 豊 ",14.5,"落井優稀",null,"神　明",14.8,"平田　海智",null,"進　徳",15]
[]
[]
[]
[]
[]
[null,null,"８０ｍＨ","細田遼",null,"鯖江東",15.2,"有馬魁兜",null,"立　待",15.21,"小林宗揮",null,"惜　陰",15.22,"細川皓成",null,"鯖江東",15.4,"山口安樹",null,"神　明",16.399999999999999,"木野太陽",null,"惜　陰",16.899999999999999,"垣本愛斗",null,"立　待",17.399999999999999,"建石大和",null,"鳥　羽",21.2]
[]
[]
[]
[]
[]
[null,null,"1500ｍ","井上開斗",null,"惜　陰","00:05:15.300","吉村司",null,"鯖江東","00:05:23","大友啓太朗",null,"鯖江東","00:05:24","増永大志郎",null,"中　河","00:05:25.600","宮川太志",null,"神　明","00:05:26.900","西野脩叶",null,"北中山","00:05:27.800","清水丈一郎",null,"鳥　羽","00:05:28.900","前田透海",null,"鳥　羽","00:05:30.700"]
[]
[]
[]
[]
[]
[null,null,"走幅跳","細田遼",null,"鯖江東",393,"加藤証",null,"神　明",392,"吉村司",null,"鯖江東",373,"藤井大暉",null,"立　待",370,"山㟁 泰楽",null,"河和田",362,"吉川広大",null,"神　明",361,"手鹿 蓮斗",null,"吉　川",359,"冨本龍我",null,"惜　陰",353.1]
[]
[]
[]
[]
[]
[null,null,"走高跳","野尻晃矢",null,"神　明",118,"黒田啓介",null,"北中山",116.2,"滝純志郎",null,"惜　陰",116.1,"杉山 聖",null,"吉　川",110.4,null,null,null,null,null,null,null,null,"蓑輪翼",null,"鳥　羽",110.3,"岩壁篤史",null,"鯖江東",110.2]
[]
[null,null,null,null,null,null,null,null,null,null,null,null,null,null,null,"加藤証",null,"神　明",110.4]
[null,null,null,null,null,null,null,null,null,null,null,null,null,null,null,null,null,null,null,null,null,null,null,null,null,null,null,null,null,null,null,"石川 景慈郎",null,"吉　川",110.2]
[null,null,null,null,null,null,null,null,null,null,null,null,null,null,null,"髙橋飛翔",null,"鳥　羽",110.4]
[]
[null,null,"ボール投げ","井上颯太",null," 豊 ",54.1,"濵野孝教",null,"惜　陰",53.39,"木津 慎之介",null,"吉　川",48.6,"惣宇利翔太",null,"神　明",48.5,"前田海翔",null,"鳥　羽",47.82,"山根慎之介",null,"鯖江東",46.1,"友田泰成",null,"神　明",45.8,"中村勝",null,"惜　陰",45.65]
[]
[]
[]
[]
[]
[null,null,"リレー","中川貴空","吉村司","鯖江東",58.2,"齋藤正義","濵野孝教","惜　陰",58.3,"落井優稀","橋本泰平","神　明",59.5,"澤野 凌駕","山崎 敏輝","吉　川",61.2,"横村晴","建石大和","鳥　羽",61.6,"笠島隼矢","垣本愛斗","立　待",62.2]
[]
[null,null,null,"岩壁篤史","齋藤修成",null,null,"井上開斗","田中優斗",null,null,"宮川太志","加藤証",null,null,"山口 羽琉","山口 隼叶",null,null,"前田海翔","清水丈一郎",null,null,"中村嘉宏","有馬魁兜"]
[]
[null,"５　年　女　子","１００ｍ","吉田帆麻里",null,"鳥　羽",14.9,"井上祐佳",null,"河和田",14.91,"吉田名瑠",null,"鯖江東",15,"揚原　桃花",null,"進　徳",15.5,"黒田美優",null,"神　明",15.6,"齋藤可恋",null,"鳥　羽",15.7,"田辺　雪乃",null,"進　徳",15.71,"山岸あかり"]
[]
[]
[]
[]
[]
[null,null,"８０ｍＨ","揚原　桃花",null,"進　徳",15.9,"大塚凜",null,"中　河",16.8,"宇野由莉香",null,"鳥　羽",17.399999999999999,"冨樫陽菜",null,"惜　陰",17.600000000000001,"千田さゆり",null,"立　待",17.61,"齋藤可恋",null,"鳥　羽",17.899999999999999,"中川詩央里",null,"河和田",21.5,"髙橋優香",null,"惜　陰",33.4]
[]
[]
[]
[]
[]
[null,null,"800ｍ","◎堀　結葉",null,"鯖江東","00:02:42.700","木下璃想愛",null,"立　待","00:02:47.100","嶋崎想子",null,"鳥　羽","00:02:50.700","大谷万優理",null,"鳥　羽","00:02:53.300","中村桜",null,"中　河","00:02:57.900","堀瑠海",null,"鯖江東","00:02:58.100","澤田 笑唯奈",null,"河和田","00:02:58.300","細川　彩夏",null,"進　徳","00:02:59.400"]
[]
[]
[]
[]
[]
[null,null,"走幅跳","井上祐佳",null,"河和田",368,"吉田名瑠",null,"鯖江東",366,"柑本浩奈",null,"立　待",351,"堀結葉",null,"鯖江東",338,"山田稚乃",null,"鳥　羽",334,"永坂まひる",null," 豊 ",326,"高居美那",null,"立　待",324,"杉本有莉亜",null,"神　明",318]
[]
[]
[]
[]
[]
[null,null,"走高跳","吉田帆麻里",null,"鳥　羽",120.1,"飯田美樹",null,"惜　陰",120,"中村夏菜",null," 豊 ",115,"権藤あずみ",null,"神　明",110.3,null,null,null,null,"佐野こころ",null,"進　徳",110.2,"澤田 笑唯奈",null,"河和田",105.2,"柴田 実侑",null,"吉　川",105]
[]
[]
[null,null,null,null,null,null,null,null,null,null,null,null,null,null,null,"川﨑野々香",null,"立　待",110.3,null,null,null,null,null,null,null,null,null,null,null,null,"瓜生彩華",null,"神　明",105]
[]
[]
[null,null,"ボール投げ","三上埜乃花",null,"立　待",38.630000000000003,"山下桜空",null,"鯖江東",34.5,"簑輪七海",null,"鳥　羽",30.65,"吉田桜子",null,"惜　陰",29.99,"石田愛翔",null,"鯖江東",29.53,"橋本ちはる",null,"神　明",29.39,"中川芽映",null,"北中山",28.69,"田村春菜",null,"惜　陰",27.8]
[]
[]
[]
[]
[]
[null,null,"リレー","吉田名瑠","堀結葉","鯖江東",62,"林愛莉","川﨑野々香","立　待",62.8,"中川詩央里","澤田笑唯奈","河和田",62.81,"嶋崎想子","吉田帆麻里","鳥　羽",62.9,"清水真菜実","田辺　雪乃","進　徳",63.7,"小野夏紀","大塚凜","中　河",64.400000000000006]
[]
[null,null,null,"石田愛翔","堀瑠海",null,null,"木下璃想愛","尾武華蓮",null,null,"内田莉子","井上祐佳",null,null,"宇野由莉香","齋藤可恋",null,null,"揚原　桃花","細川　彩夏",null,null,"林ことな","中村桜"]
[]
[null,"６　年　男　子","１００ｍ","片岡勇登",null,"鳥　羽",13.3,"山本虎輝",null,"神　明",13.7,"山田広明",null,"北中山",13.8,"川上空大",null," 豊 ",13.9,"河合　陽一",null,"進　徳",14,"金粕武尊",null,"北中山",14.2,"佐々木学道",null,"河和田",14.21,"川江凜太郎",null,"鳥　羽",14.3]
[]
[]
[]
[]
[]
[null,null,"８０ｍＨ","村島恭矢",null,"神　明",13.1,"片岡勇登",null,"鳥　羽",13.3,"向　航生",null,"吉　川",14.2,"土合　章太",null,"吉　川",14.4,"堀雅晴",null,"北中山",14.41,"上木龍二",null,"鯖江東",14.7,"斎藤楽也",null,"鳥　羽",14.71,"冨田大翔",null,"河和田",15.2]
[]
[]
[]
[]
[]
[null,null,"1500ｍ","井上朝日",null,"惜　陰","00:05:04","和多田亮太",null,"神　明","00:05:08","飯田　圭祐",null,"吉　川","00:05:10.600","土井大翔",null,"鳥　羽","00:05:14","河合　陽一",null,"進　徳","00:05:14.200","堀啓太",null,"鯖江東","00:05:16.500","伊藤大翔",null,"鯖江東","00:05:18.300","廣瀨彰栄",null,"鳥　羽","00:05:18.700"]
[]
[]
[]
[]
[]
[null,null,"走幅跳","杉本叶",null,"神　明",432,"川江凜太郎",null,"鳥　羽",414,"佐々木学道",null,"河和田",409,"森田結翔",null,"鯖江東",402,"北道巧真",null,"立　待",393,"榊原尚希",null," 豊 ",391,"瀧波和大",null,"神　明",389,"堀実琉",null,"北中山",387]
[]
[]
[]
[]
[]
[null,null,"走高跳","田中翔",null,"神　明",130,"金粕武尊",null,"北中山",125,"廣瀨彰栄",null,"鳥　羽",120,null,null,null,null,"三田村悠大",null,"鯖江東",120,"伊藤優羽太",null,"立　待",120.4,"田口友翔",null,"立　待",120.3,"志村　碧",null,"吉　川",120.2]
[]
[]
[null,null,null,null,null,null,null,null,null,null,null,"寺崎颯汰",null,"鳥　羽",120]
[]
[]
[null,null,"ボール投げ","吉田樹利",null,"鳥　羽",59,"谷口康介",null,"河和田",54.98,"山内一稀",null,"鯖江東",52.3,"坂井翔太郎",null," 豊 ",51.72,"板倉聖",null,"立　待",51.52,"山田広明",null,"北中山",50.06,"武田海佑",null,"河和田",49.9,"山口陽暉",null,"神　明",49.27]
[]
[]
[]
[]
[]
[null,null,"リレー","吉田樹利","片岡勇登","鳥　羽",55.7,"瀧波和大","山本虎輝","神　明",56.5,"真柄　央","榊原尚希"," 豊 ",57.1,"横瀨颯太","北道巧真","立　待",57.3,"高野桜河","谷口康介","河和田",57.5,"堀雅晴","山田広明","北中山",57.6]
[]
[null,null,null,"斎藤楽也","川江凜太郎",null,null,"和多田亮太","村島恭矢",null,null,"坂井翔太郎","川上空大",null,null,"富山輝空 ","齋藤周汰",null,null,"冨田大翔","佐々木学道",null,null,"堀実琉","金粕武尊"]
[]
[null,"６　年　女　子","１００ｍ","紫阿南",null,"立　待",14.1,"加藤　愛結",null,"吉　川",14.4,"西村緋那理",null,"立　待",14.8,"齋藤楓花",null,"鯖江東",15,"池上亜季",null," 豊 ",15.1,"丸田琴音",null,"鯖江東",15.2,"清水　舞優",null,"吉　川",15.3,"山本晏",null,"鳥　羽",15.5]
[]
[]
[]
[]
[]
[null,null,"８０ｍＨ","西村栞",null,"立　待",14.5,"岸上花",null,"立　待",14.5,"徳橋美咲",null," 豊 ",15,"田中奈菜",null,"神　明",15.4,"増永安莉",null,"河和田",15.6,"飯田瑞紀",null,"中　河",16.100000000000001,"髙津　眞子",null,"吉　川",16.11,"望月心晴",null,"鯖江東",16.3]
[]
[]
[]
[]
[]
[null,null,"800ｍ","城山心那",null,"鳥　羽","00:02:40.300","清水葵生",null,"片　上","00:02:40.600","飯田瑞紀",null,"中　河","00:02:41.300","佐藤晴瑠菜",null,"惜　陰","00:02:42","川岸　ここ菜",null,"吉　川","00:02:43.100","酒井心希",null,"北中山","00:02:44.400","佐々木希歩",null,"神　明","00:02:45","清水　瑠愛",null,"吉　川","00:02:46.500"]
[]
[]
[]
[]
[]
[null,null,"走幅跳","山本陽愛",null,"鳥　羽",351,"田中　里璃",null,"吉　川",350,"和田絢柚子",null,"神　明",349,"岩尾　春花",null,"進　徳",348,"林舞夢",null,"立　待",346,"笹木美羽",null,"河和田",336,"五十嵐美緒",null," 豊 ",333,"旭颯季",null,"惜　陰",332]
[]
[]
[]
[]
[]
[null,null,"走高跳","中島琉星",null," 豊 ",120.3,"小林みゅう",null,"鳥　羽",120.2,"德本茉侑",null,"神　明",120.1,"岩壁十和",null,"惜　陰",120,"紫阿南",null,"立　待",115.4,"佐々木由良",null,"鯖江東",115.3,"戸谷有菜",null," 豊 ",115.2,"松本茉央",null,"神　明",115.1]
[]
[]
[]
[]
[]
[null,null,"ボール投げ","島田和佳",null,"片　上",41.88,"玉村莉瑚",null,"北中山",37.549999999999997,"川崎　百恵",null,"吉　川",36.119999999999997,"岡本夢花",null,"鯖江東",35.479999999999997,"永田未唯",null," 豊 ",33.33,"吉村緋那",null,"神　明",33.159999999999997,"吉田咲空",null," 豊 ",33.08,"鈴木麻央",null,"立　待",32.6]
[]
[]
[]
[]
[]
[null,null,"リレー","西村緋那理","和泉英紗","立　待",58.7,"辻真愛咲","丸田琴音","鯖江東",60.5,"清水　舞優","加藤　愛結","吉　川",60.8,"高野仁愛","山本晏","鳥　羽",61.7,"佐々木　希歩","和田絢柚子","神　明",61.9,"助田夕夏","岩壁十和","惜　陰",62.2]
[]
[null,null,null,"西村栞","紫阿南",null,null,"山岸愛子","齋藤楓花",null,null,"西川　汐音","川岸　ここ菜",null,null,"田村祐佳","城山心那",null,null,"德本茉侑","田中奈菜",null,null,"谷田理鳳","佐藤晴瑠菜"]
[]
[]
[null,null,"敢闘賞　受賞者"]
[null,null,null,"５年男子","学校",null,"５年女子","学校",null,"６年男子","学校",null,"６年女子","学校"]
[null,null,"１００Ｍ走","建石大和","鳥羽",null,"山岸あかり","鯖江東"]
[null,null,null,"福岡匠海","北中山"]
[]
[null,null,"８０ＭＨ",null,null,null,null,null,null,null,null,null,"岩尾春花","進徳"]
[null,null,null,null,null,null,null,null,null,null,null,null,"丸田菜摘","進徳"]

{"sheet":"選手一覧表","index":10,"n_rows":357,"n_cols":15,"rows_kept":357,"cut":false,"hidden":true,"merged":[[3,0,4,0],[3,6,3,8],[0,0,0,14],[333,2,356,2],[309,2,332,2],[261,1,356,1],[261,2,284,2],[285,2,308,2],[1,2,1,3],[1,5,1,9],[1,10,1,12],[3,9,3,11],[3,12,3,14],[5,1,36,1],[5,2,12,2],[13,2,20,2],[21,2,28,2],[29,2,36,2],[3,1,4,1],[3,2,4,2],[3,3,3,5],[37,1,68,1],[37,2,44,2],[45,2,52,2],[53,2,60,2],[61,2,68,2],[117,1,164,1],[117,2,128,2],[129,2,140,2],[141,2,152,2],[153,2,164,2],[69,1,116,1],[69,2,80,2],[81,2,92,2],[93,2,104,2],[105,2,116,2],[213,1,260,1],[213,2,224,2],[225,2,236,2],[237,2,248,2],[249,2,260,2],[165,1,212,1],[165,2,176,2],[177,2,188,2],[189,2,200,2],[201,2,212,2],[71,3,72,3],[71,5,72,5],[71,6,72,6],[71,8,72,8],[69,3,70,3],[69,5,70,5],[69,6,70,6],[69,8,70,8],[75,3,76,3],[75,5,76,5],[75,6,76,6],[75,8,76,8],[73,3,74,3],[73,5,74,5],[73,6,74,6],[73,8,74,8],[79,3,80,3],[79,5,80,5],[79,6,80,6],[79,8,80,8],[77,3,78,3],[77,5,78,5],[77,6,78,6],[77,8,78,8],[83,3,84,3],[83,5,84,5],[83,6,84,6],[83,8,84,8],[81,3,82,3],[81,5,82,5],[81,6,82,6],[81,8,82,8],[87,3,88,3],[87,5,88,5],[87,6,88,6],[87,8,88,8],[85,3,86,3],[85,5,86,5],[85,6,86,6],[85,8,86,8],[91,3,92,3],[91,5,92,5],[91,6,92,6],[91,8,92,8],[89,3,90,3],[89,5,90,5],[89,6,90,6],[89,8,90,8],[95,3,96,3],[95,5,96,5],[95,6,96,6],[95,8,96,8],[93,3,94,3],[93,5,94,5],[93,6,94,6],[93,8,94,8],[99,3,100,3],[99,5,100,5],[99,6,100,6],[99,8,100,8],[97,3,98,3],[97,5,98,5],[97,6,98,6],[97,8,98,8],[103,3,104,3],[103,5,104,5],[103,6,104,6],[103,8,104,8],[101,3,102,3],[101,5,102,5],[101,6,102,6],[101,8,102,8],[107,3,108,3],[107,5,108,5],[107,6,108,6],[107,8,108,8],[105,3,106,3],[105,5,106,5],[105,6,106,6],[105,8,106,8],[111,3,112,3],[111,5,112,5],[111,6,112,6],[111,8,112,8],[109,3,110,3],[109,5,110,5],[109,6,110,6],[109,8,110,8],[115,3,116,3],[115,5,116,5],[115,6,116,6],[115,8,116,8],[113,3,114,3],[113,5,114,5],[113,6,114,6],[113,8,114,8],[261,9,264,9],[261,11,264,11],[261,12,264,12],[261,14,264,14],[261,3,264,3],[261,5,264,5],[261,6,264,6],[261,8,264,8],[265,9,268,9],[265,11,268,11],[265,12,268,12],[265,14,268,14],[265,3,268,3],[265,5,268,5],[265,6,268,6],[265,8,268,8],[269,9,272,9],[269,11,272,11],[269,12,272,12],[269,14,272,14],[269,3,272,3],[269,5,272,5],[269,6,272,6],[269,8,272,8],[273,9,276,9],[273,11,276,11],[273,12,276,12],[273,14,276,14],[273,3,276,3],[273,5,276,5],[273,6,276,6],[273,8,276,8],[277,9,280,9],[277,11,280,11],[277,12,280,12],[277,14,280,14],[277,3,280,3],[277,5,280,5],[277,6,280,6],[277,8,280,8],[281,9,284,9],[281,11,284,11],[281,12,284,12],[281,14,284,14],[281,3,284,3],[281,5,284,5],[281,6,284,6],[281,8,284,8],[285,9,288,9],[285,11,288,11],[285,12,288,12],[285,14,288,14],[285,3,288,3],[285,5,288,5],[285,6,288,6],[285,8,288,8],[289,9,292,9],[289,11,292,11],[289,12,292,12],[289,14,292,14],[289,3,292,3],[289,5,292,5],[289,6,292,6],[289,8,292,8],[293,9,296,9],[293,11,296,11],[293,12,296,12],[293,14,296,14],[293,3,296,3],[293,5,296,5],[293,6,296,6],[293,8,296,8],[297,9,300,9],[297,11,300,11],[297,12,300,12],[297,14,300,14],[297,3,300,3],[297,5,300,5],[297,6,300,6],[297,8,300,8],[301,9,304,9],[301,11,304,11],[301,12,304,12],[301,14,304,14],[301,3,304,3],[301,5,304,5],[301,6,304,6],[301,8,304,8],[305,9,308,9],[305,11,308,11],[305,12,308,12],[305,14,308,14],[305,3,308,3],[305,5,308,5],[305,6,308,6],[305,8,308,8],[309,9,312,9],[309,11,312,11],[309,12,312,12],[309,14,312,14],[309,3,312,3],[309,5,312,5],[309,6,312,6],[309,8,312,8],[313,9,316,9],[313,11,316,11],[313,12,316,12],[313,14,316,14],[313,3,316,3],[313,5,316,5],[313,6,316,6],[313,8,316,8],[317,9,320,9],[317,11,320,11],[317,12,320,12],[317,14,320,14],[317,3,320,3],[317,5,320,5],[317,6,320,6],[317,8,320,8],[321,9,324,9],[321,11,324,11],[321,12,324,12],[321,14,324,14],[321,3,324,3],[321,5,324,5],[321,6,324,6],[321,8,324,8],[325,9,328,9],[325,11,328,11],[325,12,328,12],[325,14,328,14],[325,3,328,3],[325,5,328,5],[325,6,328,6],[325,8,328,8],[329,9,332,9],[329,11,332,11],[329,12,332,12],[329,14,332,14],[329,3,332,3],[329,5,332,5],[329,6,332,6],[329,8,332,8],[333,9,336,9],[333,11,336,11],[333,12,336,12],[333,14,336,14],[333,3,336,3],[333,5,336,5],[333,6,336,6],[333,8,336,8],[337,9,340,9],[337,11,340,11],[337,12,340,12],[337,14,340,14],[337,3,340,3],[337,5,340,5],[337,6,340,6],[337,8,340,8],[341,9,344,9],[341,11,344,11],[341,12,344,12],[341,14,344,14],[341,3,344,3],[341,5,344,5],[341,6,344,6],[341,8,344,8],[345,9,348,9],[345,11,348,11],[345,12,348,12],[345,14,348,14],[345,3,348,3],[345,5,348,5],[345,6,348,6],[345,8,348,8],[349,9,352,9],[349,11,352,11],[349,12,352,12],[349,14,352,14],[349,3,352,3],[349,5,352,5],[349,6,352,6],[349,8,352,8],[353,9,356,9],[353,11,356,11],[353,12,356,12],[353,14,356,14],[353,3,356,3],[353,5,356,5],[353,6,356,6],[353,8,356,8]]}
["訂正がある場合、関数表示バーに関数が表示されますが、無視してセルに直接入力して訂正してください。"]
[null,"平成",28,null,"年度","鯖江市小学校連合体育大会",null,null,null,null,"選手決定一覧表"]
[]
["番号","種目","学年","１組",null,null,"２組",null,null,"３組",null,null,"４組"]
[null,null,null,"学校番号","氏名","学校","学校番号","氏名","学校","学校番号","氏名","学校","学校番号","氏名","学校"]
[1,"100M","５年女子",{"$f":"'[1]１００Ｍ'!A40","v":6},{"$f":"'[1]１００Ｍ'!B40","v":"小野夏紀"},{"$f":"'[1]１００Ｍ'!C40","v":"中　河"},{"$f":"'[1]１００Ｍ'!D40","v":12},{"$f":"'[1]１００Ｍ'!E40","v":"井上祐佳"},{"$f":"'[1]１００Ｍ'!F40","v":"河和田"},{"$f":"'[1]１００Ｍ'!G40","v":8},{"$f":"'[1]１００Ｍ'!H40","v":"高間穂奈美"},{"$f":"'[1]１００Ｍ'!I40","v":"立　待"}]
[2,null,null,{"$f":"'[1]１００Ｍ'!A41","v":10},{"$f":"'[1]１００Ｍ'!B41","v":"上田那奈"},{"$f":"'[1]１００Ｍ'!C41","v":" 豊 "},{"$f":"'[1]１００Ｍ'!D41","v":8},{"$f":"'[1]１００Ｍ'!E41","v":"林愛莉"},{"$f":"'[1]１００Ｍ'!F41","v":"立　待"},{"$f":"'[1]１００Ｍ'!G41","v":12},{"$f":"'[1]１００Ｍ'!H41","v":"内田莉子"},{"$f":"'[1]１００Ｍ'!I41","v":"河和田"}]
[3,null,null,{"$f":"'[1]１００Ｍ'!A42","v":5},{"$f":"'[1]１００Ｍ'!B42","v":"吉田帆麻里"},{"$f":"'[1]１００Ｍ'!C42","v":"鳥　羽"},{"$f":"'[1]１００Ｍ'!D42","v":11},{"$f":"'[1]１００Ｍ'!E42","v":"田代愛莉"},{"$f":"'[1]１００Ｍ'!F42","v":"北中山"},{"$f":"'[1]１００Ｍ'!G42","v":7},{"$f":"'[1]１００Ｍ'!H42","v":"杉原歩佳"},{"$f":"'[1]１００Ｍ'!I42","v":"片　上"}]
[4,null,null,{"$f":"'[1]１００Ｍ'!A43","v":9},{"$f":"'[1]１００Ｍ'!B43","v":"牧野 綺羅"},{"$f":"'[1]１００Ｍ'!C43","v":"吉　川"},{"$f":"'[1]１００Ｍ'!D43","v":1},{"$f":"'[1]１００Ｍ'!E43","v":"髙橋優香"},{"$f":"'[1]１００Ｍ'!F43","v":"惜　陰"},{"$f":"'[1]１００Ｍ'!G43","v":3},{"$f":"'[1]１００Ｍ'!H43","v":"吉田名瑠"},{"$f":"'[1]１００Ｍ'!I43","v":"鯖江東"}]
[5,null,null,{"$f":"'[1]１００Ｍ'!A44","v":7},{"$f":"'[1]１００Ｍ'!B44","v":"田村寧々"},{"$f":"'[1]１００Ｍ'!C44","v":"片　上"},{"$f":"'[1]１００Ｍ'!D44","v":6},{"$f":"'[1]１００Ｍ'!E44","v":"林ことな"},{"$f":"'[1]１００Ｍ'!F44","v":"中　河"},{"$f":"'[1]１００Ｍ'!G44","v":5},{"$f":"'[1]１００Ｍ'!H44","v":"齋藤可恋"},{"$f":"'[1]１００Ｍ'!I44","v":"鳥　羽"}]
[6,null,null,{"$f":"'[1]１００Ｍ'!A45","v":3},{"$f":"'[1]１００Ｍ'!B45","v":"山岸あかり"},{"$f":"'[1]１００Ｍ'!C45","v":"鯖江東"},{"$f":"'[1]１００Ｍ'!D45","v":2},{"$f":"'[1]１００Ｍ'!E45","v":"揚原　桃花"},{"$f":"'[1]１００Ｍ'!F45","v":"進　徳"},{"$f":"'[1]１００Ｍ'!G45","v":9},{"$f":"'[1]１００Ｍ'!H45","v":"元井 深友"},{"$f":"'[1]１００Ｍ'!I45","v":"吉　川"}]
[7,null,null,{"$f":"'[1]１００Ｍ'!A46","v":4},{"$f":"'[1]１００Ｍ'!B46","v":"古谷果音"},{"$f":"'[1]１００Ｍ'!C46","v":"神　明"},{"$f":"'[1]１００Ｍ'!D46","v":4},{"$f":"'[1]１００Ｍ'!E46","v":"黒田美優"},{"$f":"'[1]１００Ｍ'!F46","v":"神　明"},{"$f":"'[1]１００Ｍ'!G46","v":1},{"$f":"'[1]１００Ｍ'!H46","v":"飯田美樹"},{"$f":"'[1]１００Ｍ'!I46","v":"惜　陰"}]
[8,null,null,{"$f":"'[1]１００Ｍ'!A47","v":2},{"$f":"'[1]１００Ｍ'!B47","v":"田辺　雪乃"},{"$f":"'[1]１００Ｍ'!C47","v":"進　徳"},{"$f":"'[1]１００Ｍ'!D47","v":10},{"$f":"'[1]１００Ｍ'!E47","v":"片岡志菜"},{"$f":"'[1]１００Ｍ'!F47","v":" 豊 "},{"$f":"'[1]１００Ｍ'!G47","v":11},{"$f":"'[1]１００Ｍ'!H47","v":"村岡佑霞"},{"$f":"'[1]１００Ｍ'!I47","v":"北中山"}]
[9,null,"５年男子",{"$f":"'[1]１００Ｍ'!A50","v":11},{"$f":"'[1]１００Ｍ'!B50","v":"山内脩誠"},{"$f":"'[1]１００Ｍ'!C50","v":"北中山"},{"$f":"'[1]１００Ｍ'!D50","v":7},{"$f":"'[1]１００Ｍ'!E50","v":"福島悠太"},{"$f":"'[1]１００Ｍ'!F50","v":"片　上"},{"$f":"'[1]１００Ｍ'!G50","v":4},{"$f":"'[1]１００Ｍ'!H50","v":"橋本泰平"},{"$f":"'[1]１００Ｍ'!I50","v":"神　明"}]
[10,null,null,{"$f":"'[1]１００Ｍ'!A51","v":6},{"$f":"'[1]１００Ｍ'!B51","v":"上大門良樹"},{"$f":"'[1]１００Ｍ'!C51","v":"中　河"},{"$f":"'[1]１００Ｍ'!D51","v":1},{"$f":"'[1]１００Ｍ'!E51","v":"田中優斗"},{"$f":"'[1]１００Ｍ'!F51","v":"惜　陰"},{"$f":"'[1]１００Ｍ'!G51","v":7},{"$f":"'[1]１００Ｍ'!H51","v":"黒田劉夷"},{"$f":"'[1]１００Ｍ'!I51","v":"片　上"}]
[11,null,null,{"$f":"'[1]１００Ｍ'!A52","v":3},{"$f":"'[1]１００Ｍ'!B52","v":"齋藤修成"},{"$f":"'[1]１００Ｍ'!C52","v":"鯖江東"},{"$f":"'[1]１００Ｍ'!D52","v":9},{"$f":"'[1]１００Ｍ'!E52","v":"山崎 敏輝"},{"$f":"'[1]１００Ｍ'!F52","v":"吉　川"},{"$f":"'[1]１００Ｍ'!G52","v":1},{"$f":"'[1]１００Ｍ'!H52","v":"濵野孝教"},{"$f":"'[1]１００Ｍ'!I52","v":"惜　陰"}]
[12,null,null,{"$f":"'[1]１００Ｍ'!A53","v":5},{"$f":"'[1]１００Ｍ'!B53","v":"建石大和"},{"$f":"'[1]１００Ｍ'!C53","v":"鳥　羽"},{"$f":"'[1]１００Ｍ'!D53","v":2},{"$f":"'[1]１００Ｍ'!E53","v":"平田　海智"},{"$f":"'[1]１００Ｍ'!F53","v":"進　徳"},{"$f":"'[1]１００Ｍ'!G53","v":10},{"$f":"'[1]１００Ｍ'!H53","v":"樫原丈太郎"},{"$f":"'[1]１００Ｍ'!I53","v":" 豊 "}]
[13,null,null,{"$f":"'[1]１００Ｍ'!A54","v":4},{"$f":"'[1]１００Ｍ'!B54","v":"落井優稀"},{"$f":"'[1]１００Ｍ'!C54","v":"神　明"},{"$f":"'[1]１００Ｍ'!D54","v":8},{"$f":"'[1]１００Ｍ'!E54","v":"笠島隼矢"},{"$f":"'[1]１００Ｍ'!F54","v":"立　待"},{"$f":"'[1]１００Ｍ'!G54","v":11},{"$f":"'[1]１００Ｍ'!H54","v":"福岡匠海"},{"$f":"'[1]１００Ｍ'!I54","v":"北中山"}]
[14,null,null,{"$f":"'[1]１００Ｍ'!A55","v":10},{"$f":"'[1]１００Ｍ'!B55","v":"山下悠磨"},{"$f":"'[1]１００Ｍ'!C55","v":" 豊 "},{"$f":"'[1]１００Ｍ'!D55","v":12},{"$f":"'[1]１００Ｍ'!E55","v":"木村 聡寛"},{"$f":"'[1]１００Ｍ'!F55","v":"河和田"},{"$f":"'[1]１００Ｍ'!G55","v":5},{"$f":"'[1]１００Ｍ'!H55","v":"横村晴"},{"$f":"'[1]１００Ｍ'!I55","v":"鳥　羽"}]
[15,null,null,{"$f":"'[1]１００Ｍ'!A56","v":8},{"$f":"'[1]１００Ｍ'!B56","v":"中村嘉宏"},{"$f":"'[1]１００Ｍ'!C56","v":"立　待"},{"$f":"'[1]１００Ｍ'!D56","v":3},{"$f":"'[1]１００Ｍ'!E56","v":"中川貴空"},{"$f":"'[1]１００Ｍ'!F56","v":"鯖江東"},{"$f":"'[1]１００Ｍ'!G56","v":2},{"$f":"'[1]１００Ｍ'!H56","v":"飯島　大翔"},{"$f":"'[1]１００Ｍ'!I56","v":"進　徳"}]
[16,null,null,{"$f":"'[1]１００Ｍ'!A57","v":12},{"$f":"'[1]１００Ｍ'!B57","v":"多田大志"},{"$f":"'[1]１００Ｍ'!C57","v":"河和田"},{"$f":"'[1]１００Ｍ'!D57","v":6},{"$f":"'[1]１００Ｍ'!E57","v":"品川次郎"},{"$f":"'[1]１００Ｍ'!F57","v":"中　河"},{"$f":"'[1]１００Ｍ'!G57","v":9},{"$f":"'[1]１００Ｍ'!H57","v":"澤野 凌駕"},{"$f":"'[1]１００Ｍ'!I57","v":"吉　川"}]
[17,null,"６年女子",{"$f":"'[1]１００Ｍ'!A60","v":8},{"$f":"'[1]１００Ｍ'!B60","v":"西村緋那理"},{"$f":"'[1]１００Ｍ'!C60","v":"立　待"},{"$f":"'[1]１００Ｍ'!D60","v":1},{"$f":"'[1]１００Ｍ'!E60","v":"山本素良伽"},{"$f":"'[1]１００Ｍ'!F60","v":"惜　陰"},{"$f":"'[1]１００Ｍ'!G60","v":3},{"$f":"'[1]１００Ｍ'!H60","v":"齋藤楓花"},{"$f":"'[1]１００Ｍ'!I60","v":"鯖江東"}]
[18,null,null,{"$f":"'[1]１００Ｍ'!A61","v":7},{"$f":"'[1]１００Ｍ'!B61","v":"安田奈央"},{"$f":"'[1]１００Ｍ'!C61","v":"片　上"},{"$f":"'[1]１００Ｍ'!D61","v":4},{"$f":"'[1]１００Ｍ'!E61","v":"幸川詩奈"},{"$f":"'[1]１００Ｍ'!F61","v":"神　明"},{"$f":"'[1]１００Ｍ'!G61","v":1},{"$f":"'[1]１００Ｍ'!H61","v":"助田夕夏"},{"$f":"'[1]１００Ｍ'!I61","v":"惜　陰"}]
[19,null,null,{"$f":"'[1]１００Ｍ'!A62","v":9},{"$f":"'[1]１００Ｍ'!B62","v":"清水　舞優"},{"$f":"'[1]１００Ｍ'!C62","v":"吉　川"},{"$f":"'[1]１００Ｍ'!D62","v":12},{"$f":"'[1]１００Ｍ'!E62","v":"道屋愛菜"},{"$f":"'[1]１００Ｍ'!F62","v":"河和田"},{"$f":"'[1]１００Ｍ'!G62","v":10},{"$f":"'[1]１００Ｍ'!H62","v":"池上亜季"},{"$f":"'[1]１００Ｍ'!I62","v":" 豊 "}]
[20,null,null,{"$f":"'[1]１００Ｍ'!A63","v":5},{"$f":"'[1]１００Ｍ'!B63","v":"山本晏"},{"$f":"'[1]１００Ｍ'!C63","v":"鳥　羽"},{"$f":"'[1]１００Ｍ'!D63","v":3},{"$f":"'[1]１００Ｍ'!E63","v":"丸田琴音"},{"$f":"'[1]１００Ｍ'!F63","v":"鯖江東"},{"$f":"'[1]１００Ｍ'!G63","v":12},{"$f":"'[1]１００Ｍ'!H63","v":"内田杏実"},{"$f":"'[1]１００Ｍ'!I63","v":"河和田"}]
[21,null,null,{"$f":"'[1]１００Ｍ'!A64","v":2},{"$f":"'[1]１００Ｍ'!B64","v":"原　日鶴"},{"$f":"'[1]１００Ｍ'!C64","v":"進　徳"},{"$f":"'[1]１００Ｍ'!D64","v":9},{"$f":"'[1]１００Ｍ'!E64","v":"加藤　愛結"},{"$f":"'[1]１００Ｍ'!F64","v":"吉　川"},{"$f":"'[1]１００Ｍ'!G64","v":8},{"$f":"'[1]１００Ｍ'!H64","v":"紫阿南"},{"$f":"'[1]１００Ｍ'!I64","v":"立　待"}]
[22,null,null,{"$f":"'[1]１００Ｍ'!A65","v":11},{"$f":"'[1]１００Ｍ'!B65","v":"黒田紅葉"},{"$f":"'[1]１００Ｍ'!C65","v":"北中山"},{"$f":"'[1]１００Ｍ'!D65","v":11},{"$f":"'[1]１００Ｍ'!E65","v":"高橋こころ"},{"$f":"'[1]１００Ｍ'!F65","v":"北中山"},{"$f":"'[1]１００Ｍ'!G65","v":5},{"$f":"'[1]１００Ｍ'!H65","v":"城山心那"},{"$f":"'[1]１００Ｍ'!I65","v":"鳥　羽"}]
[23,null,null,{"$f":"'[1]１００Ｍ'!A66","v":10},{"$f":"'[1]１００Ｍ'!B66","v":"黒田百合恵"},{"$f":"'[1]１００Ｍ'!C66","v":" 豊 "},{"$f":"'[1]１００Ｍ'!D66","v":2},{"$f":"'[1]１００Ｍ'!E66","v":"瀧波　奈々"},{"$f":"'[1]１００Ｍ'!F66","v":"進　徳"},{"$f":"'[1]１００Ｍ'!G66","v":4},{"$f":"'[1]１００Ｍ'!H66","v":"吉澤万桜"},{"$f":"'[1]１００Ｍ'!I66","v":"神　明"}]
[24,null,null,{"$f":"'[1]１００Ｍ'!A67","v":6},{"$f":"'[1]１００Ｍ'!B67","v":"橋本一夏"},{"$f":"'[1]１００Ｍ'!C67","v":"中　河"},{"$f":"'[1]１００Ｍ'!D67","v":6},{"$f":"'[1]１００Ｍ'!E67","v":"齋藤鈴夏"},{"$f":"'[1]１００Ｍ'!F67","v":"中　河"},{"$f":"'[1]１００Ｍ'!G67","v":7},{"$f":"'[1]１００Ｍ'!H67","v":"清水葵生"},{"$f":"'[1]１００Ｍ'!I67","v":"片　上"}]
[25,null,"６年男子",{"$f":"'[1]１００Ｍ'!A70","v":11},{"$f":"'[1]１００Ｍ'!B70","v":"金粕武尊"},{"$f":"'[1]１００Ｍ'!C70","v":"北中山"},{"$f":"'[1]１００Ｍ'!D70","v":5},{"$f":"'[1]１００Ｍ'!E70","v":"片岡勇登"},{"$f":"'[1]１００Ｍ'!F70","v":"鳥　羽"},{"$f":"'[1]１００Ｍ'!G70","v":3},{"$f":"'[1]１００Ｍ'!H70","v":"森田結翔"},{"$f":"'[1]１００Ｍ'!I70","v":"鯖江東"}]
[26,null,null,{"$f":"'[1]１００Ｍ'!A71","v":7},{"$f":"'[1]１００Ｍ'!B71","v":"田中晴"},{"$f":"'[1]１００Ｍ'!C71","v":"片　上"},{"$f":"'[1]１００Ｍ'!D71","v":3},{"$f":"'[1]１００Ｍ'!E71","v":"岩壁優汰"},{"$f":"'[1]１００Ｍ'!F71","v":"鯖江東"},{"$f":"'[1]１００Ｍ'!G71","v":5},{"$f":"'[1]１００Ｍ'!H71","v":"川江凜太郎"},{"$f":"'[1]１００Ｍ'!I71","v":"鳥　羽"}]
[27,null,null,{"$f":"'[1]１００Ｍ'!A72","v":10},{"$f":"'[1]１００Ｍ'!B72","v":"戸谷聡汰"},{"$f":"'[1]１００Ｍ'!C72","v":" 豊 "},{"$f":"'[1]１００Ｍ'!D72","v":2},{"$f":"'[1]１００Ｍ'!E72","v":"河合　陽一"},{"$f":"'[1]１００Ｍ'!F72","v":"進　徳"},{"$f":"'[1]１００Ｍ'!G72","v":6},{"$f":"'[1]１００Ｍ'!H72","v":"山田圭悟"},{"$f":"'[1]１００Ｍ'!I72","v":"中　河"}]
[28,null,null,{"$f":"'[1]１００Ｍ'!A73","v":12},{"$f":"'[1]１００Ｍ'!B73","v":"谷口康介"},{"$f":"'[1]１００Ｍ'!C73","v":"河和田"},{"$f":"'[1]１００Ｍ'!D73","v":6},{"$f":"'[1]１００Ｍ'!E73","v":"竹嶋樹生"},{"$f":"'[1]１００Ｍ'!F73","v":"中　河"},{"$f":"'[1]１００Ｍ'!G73","v":8},{"$f":"'[1]１００Ｍ'!H73","v":"富山輝空"},{"$f":"'[1]１００Ｍ'!I73","v":"立　待"}]
[29,null,null,{"$f":"'[1]１００Ｍ'!A74","v":1},{"$f":"'[1]１００Ｍ'!B74","v":"高野真采"},{"$f":"'[1]１００Ｍ'!C74","v":"惜　陰"},{"$f":"'[1]１００Ｍ'!D74","v":4},{"$f":"'[1]１００Ｍ'!E74","v":"山本虎輝"},{"$f":"'[1]１００Ｍ'!F74","v":"神　明"},{"$f":"'[1]１００Ｍ'!G74","v":10},{"$f":"'[1]１００Ｍ'!H74","v":"川上空大"},{"$f":"'[1]１００Ｍ'!I74","v":" 豊 "}]
[30,null,null,{"$f":"'[1]１００Ｍ'!A75","v":8},{"$f":"'[1]１００Ｍ'!B75","v":"北道巧真"},{"$f":"'[1]１００Ｍ'!C75","v":"立　待"},{"$f":"'[1]１００Ｍ'!D75","v":12},{"$f":"'[1]１００Ｍ'!E75","v":"佐々木学道"},{"$f":"'[1]１００Ｍ'!F75","v":"河和田"},{"$f":"'[1]１００Ｍ'!G75","v":2},{"$f":"'[1]１００Ｍ'!H75","v":"熊野　月音"},{"$f":"'[1]１００Ｍ'!I75","v":"進　徳"}]
[31,null,null,{"$f":"'[1]１００Ｍ'!A76","v":4},{"$f":"'[1]１００Ｍ'!B76","v":"金平"},{"$f":"'[1]１００Ｍ'!C76","v":"神　明"},{"$f":"'[1]１００Ｍ'!D76","v":11},{"$f":"'[1]１００Ｍ'!E76","v":"山田広明"},{"$f":"'[1]１００Ｍ'!F76","v":"北中山"},{"$f":"'[1]１００Ｍ'!G76","v":1},{"$f":"'[1]１００Ｍ'!H76","v":"渡邉健斗"},{"$f":"'[1]１００Ｍ'!I76","v":"惜　陰"}]
[32,null,null,{"$f":"'[1]１００Ｍ'!A77","v":9},{"$f":"'[1]１００Ｍ'!B77","v":"久島　陽"},{"$f":"'[1]１００Ｍ'!C77","v":"吉　川"},{"$f":"'[1]１００Ｍ'!D77","v":9},{"$f":"'[1]１００Ｍ'!E77","v":"坂下　一斗"},{"$f":"'[1]１００Ｍ'!F77","v":"吉　川"},{"$f":"'[1]１００Ｍ'!G77","v":7},{"$f":"'[1]１００Ｍ'!H77","v":"中出颯空"},{"$f":"'[1]１００Ｍ'!I77","v":"片　上"}]
[1,"80MH","５年女子",{"$f":"'[1]80Ｍハードル'!A40","v":8},{"$f":"'[1]80Ｍハードル'!B40","v":"尾武華蓮"},{"$f":"'[1]80Ｍハードル'!C40","v":"立　待"},{"$f":"'[1]80Ｍハードル'!D40","v":10},{"$f":"'[1]80Ｍハードル'!E40","v":"片岡志菜"},{"$f":"'[1]80Ｍハードル'!F40","v":" 豊 "},{"$f":"'[1]80Ｍハードル'!G40","v":9},{"$f":"'[1]80Ｍハードル'!H40","v":"加藤 みわ"},{"$f":"'[1]80Ｍハードル'!I40","v":"吉　川"}]
[2,null,null,{"$f":"'[1]80Ｍハードル'!A41","v":11},{"$f":"'[1]80Ｍハードル'!B41","v":"石塚咲季"},{"$f":"'[1]80Ｍハードル'!C41","v":"北中山"},{"$f":"'[1]80Ｍハードル'!D41","v":5},{"$f":"'[1]80Ｍハードル'!E41","v":"齋藤可恋"},{"$f":"'[1]80Ｍハードル'!F41","v":"鳥　羽"},{"$f":"'[1]80Ｍハードル'!G41","v":6},{"$f":"'[1]80Ｍハードル'!H41","v":"大塚凜"},{"$f":"'[1]80Ｍハードル'!I41","v":"中　河"}]
[3,null,null,{"$f":"'[1]80Ｍハードル'!A42","v":4},{"$f":"'[1]80Ｍハードル'!B42","v":"德本仁菜"},{"$f":"'[1]80Ｍハードル'!C42","v":"神　明"},{"$f":"'[1]80Ｍハードル'!D42","v":2},{"$f":"'[1]80Ｍハードル'!E42","v":"出口　愛子"},{"$f":"'[1]80Ｍハードル'!F42","v":"進　徳"},{"$f":"'[1]80Ｍハードル'!G42","v":4},{"$f":"'[1]80Ｍハードル'!H42","v":"佐々木千奈"},{"$f":"'[1]80Ｍハードル'!I42","v":"神　明"}]
[4,null,null,{"$f":"'[1]80Ｍハードル'!A43","v":6},{"$f":"'[1]80Ｍハードル'!B43","v":"林ことな"},{"$f":"'[1]80Ｍハードル'!C43","v":"中　河"},{"$f":"'[1]80Ｍハードル'!D43","v":12},{"$f":"'[1]80Ｍハードル'!E43","v":"清水凜"},{"$f":"'[1]80Ｍハードル'!F43","v":"河和田"},{"$f":"'[1]80Ｍハードル'!G43","v":10},{"$f":"'[1]80Ｍハードル'!H43","v":"手鹿ティナ"},{"$f":"'[1]80Ｍハードル'!I43","v":" 豊 "}]
[5,null,null,{"$f":"'[1]80Ｍハードル'!A44","v":7},{"$f":"'[1]80Ｍハードル'!B44","v":0},{"$f":"'[1]80Ｍハードル'!C44","v":"片　上"},{"$f":"'[1]80Ｍハードル'!D44","v":8},{"$f":"'[1]80Ｍハードル'!E44","v":"千田さゆり"},{"$f":"'[1]80Ｍハードル'!F44","v":"立　待"},{"$f":"'[1]80Ｍハードル'!G44","v":5},{"$f":"'[1]80Ｍハードル'!H44","v":"宇野由莉香"},{"$f":"'[1]80Ｍハードル'!I44","v":"鳥　羽"}]
[6,null,null,{"$f":"'[1]80Ｍハードル'!A45","v":3},{"$f":"'[1]80Ｍハードル'!B45","v":"馬場友里菜"},{"$f":"'[1]80Ｍハードル'!C45","v":"鯖江東"},{"$f":"'[1]80Ｍハードル'!D45","v":3},{"$f":"'[1]80Ｍハードル'!E45","v":"山岸あかり"},{"$f":"'[1]80Ｍハードル'!F45","v":"鯖江東"},{"$f":"'[1]80Ｍハードル'!G45","v":11},{"$f":"'[1]80Ｍハードル'!H45","v":"玉村喜音"},{"$f":"'[1]80Ｍハードル'!I45","v":"北中山"}]
[7,null,null,{"$f":"'[1]80Ｍハードル'!A46","v":9},{"$f":"'[1]80Ｍハードル'!B46","v":"上野 晏沙歌"},{"$f":"'[1]80Ｍハードル'!C46","v":"吉　川"},{"$f":"'[1]80Ｍハードル'!D46","v":7},{"$f":"'[1]80Ｍハードル'!E46","v":"出水彩花"},{"$f":"'[1]80Ｍハードル'!F46","v":"片　上"},{"$f":"'[1]80Ｍハードル'!G46","v":12},{"$f":"'[1]80Ｍハードル'!H46","v":"中川詩央里"},{"$f":"'[1]80Ｍハードル'!I46","v":"河和田"}]
[8,null,null,{"$f":"'[1]80Ｍハードル'!A47","v":1},{"$f":"'[1]80Ｍハードル'!B47","v":"冨樫陽菜"},{"$f":"'[1]80Ｍハードル'!C47","v":"惜　陰"},{"$f":"'[1]80Ｍハードル'!D47","v":1},{"$f":"'[1]80Ｍハードル'!E47","v":"髙橋優香"},{"$f":"'[1]80Ｍハードル'!F47","v":"惜　陰"},{"$f":"'[1]80Ｍハードル'!G47","v":2},{"$f":"'[1]80Ｍハードル'!H47","v":"揚原　桃花"},{"$f":"'[1]80Ｍハードル'!I47","v":"進　徳"}]
[9,null,"５年男子",{"$f":"'[1]80Ｍハードル'!A50","v":3},{"$f":"'[1]80Ｍハードル'!B50","v":"細川皓成"},{"$f":"'[1]80Ｍハードル'!C50","v":"鯖江東"},{"$f":"'[1]80Ｍハードル'!D50","v":11},{"$f":"'[1]80Ｍハードル'!E50","v":"黒田啓介"},{"$f":"'[1]80Ｍハードル'!F50","v":"北中山"},{"$f":"'[1]80Ｍハードル'!G50","v":3},{"$f":"'[1]80Ｍハードル'!H50","v":"細田遼"},{"$f":"'[1]80Ｍハードル'!I50","v":"鯖江東"}]
[10,null,null,{"$f":"'[1]80Ｍハードル'!A51","v":12},{"$f":"'[1]80Ｍハードル'!B51","v":"土田淳士"},{"$f":"'[1]80Ｍハードル'!C51","v":"河和田"},{"$f":"'[1]80Ｍハードル'!D51","v":4},{"$f":"'[1]80Ｍハードル'!E51","v":"勝木獅堂"},{"$f":"'[1]80Ｍハードル'!F51","v":"神　明"},{"$f":"'[1]80Ｍハードル'!G51","v":5},{"$f":"'[1]80Ｍハードル'!H51","v":"佐野陸"},{"$f":"'[1]80Ｍハードル'!I51","v":"鳥　羽"}]
[11,null,null,{"$f":"'[1]80Ｍハードル'!A52","v":10},{"$f":"'[1]80Ｍハードル'!B52","v":"村岡飛翔"},{"$f":"'[1]80Ｍハードル'!C52","v":" 豊 "},{"$f":"'[1]80Ｍハードル'!D52","v":5},{"$f":"'[1]80Ｍハードル'!E52","v":"建石大和"},{"$f":"'[1]80Ｍハードル'!F52","v":"鳥　羽"},{"$f":"'[1]80Ｍハードル'!G52","v":1},{"$f":"'[1]80Ｍハードル'!H52","v":"木野太陽"},{"$f":"'[1]80Ｍハードル'!I52","v":"惜　陰"}]
[12,null,null,{"$f":"'[1]80Ｍハードル'!A53","v":8},{"$f":"'[1]80Ｍハードル'!B53","v":"有馬魁兜"},{"$f":"'[1]80Ｍハードル'!C53","v":"立　待"},{"$f":"'[1]80Ｍハードル'!D53","v":9},{"$f":"'[1]80Ｍハードル'!E53","v":"田中 琉世"},{"$f":"'[1]80Ｍハードル'!F53","v":"吉　川"},{"$f":"'[1]80Ｍハードル'!G53","v":11},{"$f":"'[1]80Ｍハードル'!H53","v":"松井晏慈"},{"$f":"'[1]80Ｍハードル'!I53","v":"北中山"}]
[13,null,null,{"$f":"'[1]80Ｍハードル'!A54","v":1},{"$f":"'[1]80Ｍハードル'!B54","v":"小林宗揮"},{"$f":"'[1]80Ｍハードル'!C54","v":"惜　陰"},{"$f":"'[1]80Ｍハードル'!D54","v":10},{"$f":"'[1]80Ｍハードル'!E54","v":"三田村駿"},{"$f":"'[1]80Ｍハードル'!F54","v":" 豊 "},{"$f":"'[1]80Ｍハードル'!G54","v":9},{"$f":"'[1]80Ｍハードル'!H54","v":"伊藤 悠仁"},{"$f":"'[1]80Ｍハードル'!I54","v":"吉　川"}]
[14,null,null,{"$f":"'[1]80Ｍハードル'!A55","v":6},{"$f":"'[1]80Ｍハードル'!B55","v":"大門千速"},{"$f":"'[1]80Ｍハードル'!C55","v":"中　河"},{"$f":"'[1]80Ｍハードル'!D55","v":12},{"$f":"'[1]80Ｍハードル'!E55","v":"廣瀬 颯大"},{"$f":"'[1]80Ｍハードル'!F55","v":"河和田"},{"$f":"'[1]80Ｍハードル'!G55","v":8},{"$f":"'[1]80Ｍハードル'!H55","v":"垣本愛斗"},{"$f":"'[1]80Ｍハードル'!I55","v":"立　待"}]
[15,null,null,{"$f":"'[1]80Ｍハードル'!A56","v":2},{"$f":"'[1]80Ｍハードル'!B56","v":"熊野　陽仁"},{"$f":"'[1]80Ｍハードル'!C56","v":"進　徳"},{"$f":"'[1]80Ｍハードル'!D56","v":2},{"$f":"'[1]80Ｍハードル'!E56","v":"一島聡一郎"},{"$f":"'[1]80Ｍハードル'!F56","v":"進　徳"},{"$f":"'[1]80Ｍハードル'!G56","v":4},{"$f":"'[1]80Ｍハードル'!H56","v":"山口安樹"},{"$f":"'[1]80Ｍハードル'!I56","v":"神　明"}]
[16,null,null,{"$f":"'[1]80Ｍハードル'!A57","v":7},{"$f":"'[1]80Ｍハードル'!B57","v":"川上輝人"},{"$f":"'[1]80Ｍハードル'!C57","v":"片　上"},{"$f":"'[1]80Ｍハードル'!D57","v":6},{"$f":"'[1]80Ｍハードル'!E57","v":"木林凱飛"},{"$f":"'[1]80Ｍハードル'!F57","v":"中　河"},{"$f":"'[1]80Ｍハードル'!G57","v":7},{"$f":"'[1]80Ｍハードル'!H57","v":"福島悠太"},{"$f":"'[1]80Ｍハードル'!I57","v":"片　上"}]
[17,null,"６年女子",{"$f":"'[1]80Ｍハードル'!A60","v":8},{"$f":"'[1]80Ｍハードル'!B60","v":"西村栞"},{"$f":"'[1]80Ｍハードル'!C60","v":"立　待"},{"$f":"'[1]80Ｍハードル'!D60","v":7},{"$f":"'[1]80Ｍハードル'!E60","v":"福田来羽"},{"$f":"'[1]80Ｍハードル'!F60","v":"片　上"},{"$f":"'[1]80Ｍハードル'!G60","v":3},{"$f":"'[1]80Ｍハードル'!H60","v":"望月心晴"},{"$f":"'[1]80Ｍハードル'!I60","v":"鯖江東"}]
[18,null,null,{"$f":"'[1]80Ｍハードル'!A61","v":2},{"$f":"'[1]80Ｍハードル'!B61","v":"岩尾　春花"},{"$f":"'[1]80Ｍハードル'!C61","v":"進　徳"},{"$f":"'[1]80Ｍハードル'!D61","v":6},{"$f":"'[1]80Ｍハードル'!E61","v":"飯田瑞紀"},{"$f":"'[1]80Ｍハードル'!F61","v":"中　河"},{"$f":"'[1]80Ｍハードル'!G61","v":5},{"$f":"'[1]80Ｍハードル'!H61","v":"加藤ひめ乃"},{"$f":"'[1]80Ｍハードル'!I61","v":"鳥　羽"}]
[19,null,null,{"$f":"'[1]80Ｍハードル'!A62","v":11},{"$f":"'[1]80Ｍハードル'!B62","v":"髙木夢果"},{"$f":"'[1]80Ｍハードル'!C62","v":"北中山"},{"$f":"'[1]80Ｍハードル'!D62","v":4},{"$f":"'[1]80Ｍハードル'!E62","v":"田中奈菜"},{"$f":"'[1]80Ｍハードル'!F62","v":"神　明"},{"$f":"'[1]80Ｍハードル'!G62","v":11},{"$f":"'[1]80Ｍハードル'!H62","v":"佐々木香菜実"},{"$f":"'[1]80Ｍハードル'!I62","v":"北中山"}]
[20,null,null,{"$f":"'[1]80Ｍハードル'!A63","v":1},{"$f":"'[1]80Ｍハードル'!B63","v":"窪田彩佑"},{"$f":"'[1]80Ｍハードル'!C63","v":"惜　陰"},{"$f":"'[1]80Ｍハードル'!D63","v":3},{"$f":"'[1]80Ｍハードル'!E63","v":"笠原夕楽"},{"$f":"'[1]80Ｍハードル'!F63","v":"鯖江東"},{"$f":"'[1]80Ｍハードル'!G63","v":7},{"$f":"'[1]80Ｍハードル'!H63","v":"山内日菜"},{"$f":"'[1]80Ｍハードル'!I63","v":"片　上"}]
[21,null,null,{"$f":"'[1]80Ｍハードル'!A64","v":10},{"$f":"'[1]80Ｍハードル'!B64","v":"田辺　栞"},{"$f":"'[1]80Ｍハードル'!C64","v":" 豊 "},{"$f":"'[1]80Ｍハードル'!D64","v":8},{"$f":"'[1]80Ｍハードル'!E64","v":"岸上花"},{"$f":"'[1]80Ｍハードル'!F64","v":"立　待"},{"$f":"'[1]80Ｍハードル'!G64","v":9},{"$f":"'[1]80Ｍハードル'!H64","v":"髙津　眞子"},{"$f":"'[1]80Ｍハードル'!I64","v":"吉　川"}]
[22,null,null,{"$f":"'[1]80Ｍハードル'!A65","v":5},{"$f":"'[1]80Ｍハードル'!B65","v":"田村祐佳"},{"$f":"'[1]80Ｍハードル'!C65","v":"鳥　羽"},{"$f":"'[1]80Ｍハードル'!D65","v":2},{"$f":"'[1]80Ｍハードル'!E65","v":"丸田　菜摘"},{"$f":"'[1]80Ｍハードル'!F65","v":"進　徳"},{"$f":"'[1]80Ｍハードル'!G65","v":12},{"$f":"'[1]80Ｍハードル'!H65","v":"三崎晃希"},{"$f":"'[1]80Ｍハードル'!I65","v":"河和田"}]
[23,null,null,{"$f":"'[1]80Ｍハードル'!A66","v":9},{"$f":"'[1]80Ｍハードル'!B66","v":"田邉　花怜"},{"$f":"'[1]80Ｍハードル'!C66","v":"吉　川"},{"$f":"'[1]80Ｍハードル'!D66","v":10},{"$f":"'[1]80Ｍハードル'!E66","v":"徳橋美咲"},{"$f":"'[1]80Ｍハードル'!F66","v":" 豊 "},{"$f":"'[1]80Ｍハードル'!G66","v":6},{"$f":"'[1]80Ｍハードル'!H66","v":"橋本一夏"},{"$f":"'[1]80Ｍハードル'!I66","v":"中　河"}]
[24,null,null,{"$f":"'[1]80Ｍハードル'!A67","v":12},{"$f":"'[1]80Ｍハードル'!B67","v":"増永安莉"},{"$f":"'[1]80Ｍハードル'!C67","v":"河和田"},{"$f":"'[1]80Ｍハードル'!D67","v":1},{"$f":"'[1]80Ｍハードル'!E67","v":"遠野琴菜"},{"$f":"'[1]80Ｍハードル'!F67","v":"惜　陰"},{"$f":"'[1]80Ｍハードル'!G67","v":4},{"$f":"'[1]80Ｍハードル'!H67","v":"大久保妃菜"},{"$f":"'[1]80Ｍハードル'!I67","v":"神　明"}]
[25,null,"６年男子",{"$f":"'[1]80Ｍハードル'!A70","v":10},{"$f":"'[1]80Ｍハードル'!B70","v":"牧野由憲"},{"$f":"'[1]80Ｍハードル'!C70","v":" 豊 "},{"$f":"'[1]80Ｍハードル'!D70","v":7},{"$f":"'[1]80Ｍハードル'!E70","v":"山口了生"},{"$f":"'[1]80Ｍハードル'!F70","v":"片　上"},{"$f":"'[1]80Ｍハードル'!G70","v":4},{"$f":"'[1]80Ｍハードル'!H70","v":"村島恭矢"},{"$f":"'[1]80Ｍハードル'!I70","v":"神　明"}]
[26,null,null,{"$f":"'[1]80Ｍハードル'!A71","v":9},{"$f":"'[1]80Ｍハードル'!B71","v":"土合　章太"},{"$f":"'[1]80Ｍハードル'!C71","v":"吉　川"},{"$f":"'[1]80Ｍハードル'!D71","v":12},{"$f":"'[1]80Ｍハードル'!E71","v":"吉田圭悟"},{"$f":"'[1]80Ｍハードル'!F71","v":"河和田"},{"$f":"'[1]80Ｍハードル'!G71","v":8},{"$f":"'[1]80Ｍハードル'!H71","v":"齋藤周汰"},{"$f":"'[1]80Ｍハードル'!I71","v":"立　待"}]
[27,null,null,{"$f":"'[1]80Ｍハードル'!A72","v":11},{"$f":"'[1]80Ｍハードル'!B72","v":"青木大良"},{"$f":"'[1]80Ｍハードル'!C72","v":"北中山"},{"$f":"'[1]80Ｍハードル'!D72","v":5},{"$f":"'[1]80Ｍハードル'!E72","v":"片岡勇登"},{"$f":"'[1]80Ｍハードル'!F72","v":"鳥　羽"},{"$f":"'[1]80Ｍハードル'!G72","v":12},{"$f":"'[1]80Ｍハードル'!H72","v":"冨田大翔"},{"$f":"'[1]80Ｍハードル'!I72","v":"河和田"}]
[28,null,null,{"$f":"'[1]80Ｍハードル'!A73","v":2},{"$f":"'[1]80Ｍハードル'!B73","v":"水野　俊"},{"$f":"'[1]80Ｍハードル'!C73","v":"進　徳"},{"$f":"'[1]80Ｍハードル'!D73","v":4},{"$f":"'[1]80Ｍハードル'!E73","v":"赤川草太"},{"$f":"'[1]80Ｍハードル'!F73","v":"神　明"},{"$f":"'[1]80Ｍハードル'!G73","v":7},{"$f":"'[1]80Ｍハードル'!H73","v":"田中晴"},{"$f":"'[1]80Ｍハードル'!I73","v":"片　上"}]
[29,null,null,{"$f":"'[1]80Ｍハードル'!A74","v":3},{"$f":"'[1]80Ｍハードル'!B74","v":"上木龍二"},{"$f":"'[1]80Ｍハードル'!C74","v":"鯖江東"},{"$f":"'[1]80Ｍハードル'!D74","v":10},{"$f":"'[1]80Ｍハードル'!E74","v":"岩原　陽"},{"$f":"'[1]80Ｍハードル'!F74","v":" 豊 "},{"$f":"'[1]80Ｍハードル'!G74","v":11},{"$f":"'[1]80Ｍハードル'!H74","v":"堀雅晴"},{"$f":"'[1]80Ｍハードル'!I74","v":"北中山"}]
[30,null,null,{"$f":"'[1]80Ｍハードル'!A75","v":8},{"$f":"'[1]80Ｍハードル'!B75","v":"横瀨颯太"},{"$f":"'[1]80Ｍハードル'!C75","v":"立　待"},{"$f":"'[1]80Ｍハードル'!D75","v":6},{"$f":"'[1]80Ｍハードル'!E75","v":"大北陸"},{"$f":"'[1]80Ｍハードル'!F75","v":"中　河"},{"$f":"'[1]80Ｍハードル'!G75","v":9},{"$f":"'[1]80Ｍハードル'!H75","v":"向　航生"},{"$f":"'[1]80Ｍハードル'!I75","v":"吉　川"}]
[31,null,null,{"$f":"'[1]80Ｍハードル'!A76","v":1},{"$f":"'[1]80Ｍハードル'!B76","v":"田中康晴"},{"$f":"'[1]80Ｍハードル'!C76","v":"惜　陰"},{"$f":"'[1]80Ｍハードル'!D76","v":3},{"$f":"'[1]80Ｍハードル'!E76","v":"山内一稀"},{"$f":"'[1]80Ｍハードル'!F76","v":"鯖江東"},{"$f":"'[1]80Ｍハードル'!G76","v":1},{"$f":"'[1]80Ｍハードル'!H76","v":"山森藍暁"},{"$f":"'[1]80Ｍハードル'!I76","v":"惜　陰"}]
[32,null,null,{"$f":"'[1]80Ｍハードル'!A77","v":6},{"$f":"'[1]80Ｍハードル'!B77","v":"竹嶋樹生"},{"$f":"'[1]80Ｍハードル'!C77","v":"中　河"},{"$f":"'[1]80Ｍハードル'!D77","v":2},{"$f":"'[1]80Ｍハードル'!E77","v":"前田　達輝"},{"$f":"'[1]80Ｍハードル'!F77","v":"進　徳"},{"$f":"'[1]80Ｍハードル'!G77","v":5},{"$f":"'[1]80Ｍハードル'!H77","v":"斎藤楽也"},{"$f":"'[1]80Ｍハードル'!I77","v":"鳥　羽"}]
[1,"持久走","５年女子",{"$f":"[1]持久走!A50","v":8},{"$f":"[1]持久走!B50","v":"木下璃想愛"},{"$f":"[1]持久走!C50","v":"立　待"},{"$f":"[1]持久走!D50","v":12},{"$f":"[1]持久走!E50","v":"澤田 笑唯奈"},{"$f":"[1]持久走!F50","v":"河和田"}]
[2,null,null,null,{"$f":"[1]持久走!B51","v":"吉田真由"},null,null,{"$f":"[1]持久走!E51","v":"清水凜"}]
[3,null,null,{"$f":"[1]持久走!A52","v":5},{"$f":"[1]持久走!B52","v":"大谷万優理"},{"$f":"[1]持久走!C52","v":"鳥　羽"},{"$f":"[1]持久走!D52","v":2},{"$f":"[1]持久走!E52","v":"細川　彩夏"},{"$f":"[1]持久走!F52","v":"進　徳"}]
[4,null,null,null,{"$f":"[1]持久走!B53","v":"嶋崎想子"},null,null,{"$f":"[1]持久走!E53","v":"高棹はなの"}]
[5,null,null,{"$f":"[1]持久走!A54","v":6},{"$f":"[1]持久走!B54","v":"大塚凜"},{"$f":"[1]持久走!C54","v":"中　河"},{"$f":"[1]持久走!D54","v":10},{"$f":"[1]持久走!E54","v":"鈴木美寿"},{"$f":"[1]持久走!F54","v":" 豊 "}]
[6,null,null,null,{"$f":"[1]持久走!B55","v":"中村桜"},null,null,{"$f":"[1]持久走!E55","v":"小倉咲月"}]
[7,null,null,{"$f":"[1]持久走!A56","v":11},{"$f":"[1]持久走!B56","v":"中川芽映"},{"$f":"[1]持久走!C56","v":"北中山"},{"$f":"[1]持久走!D56","v":4},{"$f":"[1]持久走!E56","v":"小嶋陽茉里"},{"$f":"[1]持久走!F56","v":"神　明"}]
[8,null,null,null,{"$f":"[1]持久走!B57","v":"西川伶奈"},null,null,{"$f":"[1]持久走!E57","v":"五百﨑楓"}]
[9,null,null,{"$f":"[1]持久走!A58","v":1},{"$f":"[1]持久走!B58","v":"田中唯茉"},{"$f":"[1]持久走!C58","v":"惜　陰"},{"$f":"[1]持久走!D58","v":9},{"$f":"[1]持久走!E58","v":"鈴木 花奏"},{"$f":"[1]持久走!F58","v":"吉　川"}]
[10,null,null,null,{"$f":"[1]持久走!B59","v":"大久保綾子"},null,null,{"$f":"[1]持久走!E59","v":"大西 栞来"}]
[11,null,null,{"$f":"[1]持久走!A60","v":3},{"$f":"[1]持久走!B60","v":"堀結葉"},{"$f":"[1]持久走!C60","v":"鯖江東"},{"$f":"[1]持久走!D60","v":7},{"$f":"[1]持久走!E60","v":"杉原歩佳"},{"$f":"[1]持久走!F60","v":"片　上"}]
[12,null,null,null,{"$f":"[1]持久走!B61","v":"堀瑠海"},null,null,{"$f":"[1]持久走!E61","v":"田村寧々"}]
[13,null,"５年男子",{"$f":"[1]持久走!A70","v":10},{"$f":"[1]持久走!B70","v":"手賀柊太朗"},{"$f":"[1]持久走!C70","v":" 豊 "},{"$f":"[1]持久走!D70","v":12},{"$f":"[1]持久走!E70","v":"淵上一地"},{"$f":"[1]持久走!F70","v":"河和田"}]
[14,null,null,null,{"$f":"[1]持久走!B71","v":"栁田莉夢"},null,null,{"$f":"[1]持久走!E71","v":"蓑輪達灯"}]
[15,null,null,{"$f":"[1]持久走!A72","v":9},{"$f":"[1]持久走!B72","v":"竹内 寛武"},{"$f":"[1]持久走!C72","v":"吉　川"},{"$f":"[1]持久走!D72","v":8},{"$f":"[1]持久走!E72","v":"吉村光平"},{"$f":"[1]持久走!F72","v":"立　待"}]
[16,null,null,null,{"$f":"[1]持久走!B73","v":"河合 隼人"},null,null,{"$f":"[1]持久走!E73","v":"佐飛慎太郎"}]
[17,null,null,{"$f":"[1]持久走!A74","v":6},{"$f":"[1]持久走!B74","v":"増永大志郎"},{"$f":"[1]持久走!C74","v":"中　河"},{"$f":"[1]持久走!D74","v":7},{"$f":"[1]持久走!E74","v":"山﨑佑人"},{"$f":"[1]持久走!F74","v":"片　上"}]
[18,null,null,null,{"$f":"[1]持久走!B75","v":"湯口和季"},null,null,{"$f":"[1]持久走!E75","v":"笠島竜位"}]
[19,null,null,{"$f":"[1]持久走!A76","v":5},{"$f":"[1]持久走!B76","v":"清水丈一郎"},{"$f":"[1]持久走!C76","v":"鳥　羽"},{"$f":"[1]持久走!D76","v":1},{"$f":"[1]持久走!E76","v":"小林宗揮"},{"$f":"[1]持久走!F76","v":"惜　陰"}]
[20,null,null,null,{"$f":"[1]持久走!B77","v":"前田透海"},null,null,{"$f":"[1]持久走!E77","v":"井上開斗"}]
[21,null,null,{"$f":"[1]持久走!A78","v":11},{"$f":"[1]持久走!B78","v":"西野脩叶"},{"$f":"[1]持久走!C78","v":"北中山"},{"$f":"[1]持久走!D78","v":4},{"$f":"[1]持久走!E78","v":"宮川太志"},{"$f":"[1]持久走!F78","v":"神　明"}]
[22,null,null,null,{"$f":"[1]持久走!B79","v":"水野雄揮"},null,null,{"$f":"[1]持久走!E79","v":"中山晋"}]
[23,null,null,{"$f":"[1]持久走!A80","v":2},{"$f":"[1]持久走!B80","v":"津野　大悟"},{"$f":"[1]持久走!C80","v":"進　徳"},{"$f":"[1]持久走!D80","v":3},{"$f":"[1]持久走!E80","v":"吉村司"},{"$f":"[1]持久走!F80","v":"鯖江東"}]
[24,null,null,null,{"$f":"[1]持久走!B81","v":"石田　脩真"},null,null,{"$f":"[1]持久走!E81","v":"大友啓太朗"}]
[25,null,"６年女子",{"$f":"[1]持久走!A90","v":6},{"$f":"[1]持久走!B90","v":"飯田瑞紀"},{"$f":"[1]持久走!C90","v":"中　河"},{"$f":"[1]持久走!D90","v":10},{"$f":"[1]持久走!E90","v":"福岡　凜"},{"$f":"[1]持久走!F90","v":" 豊 "}]
[26,null,null,null,{"$f":"[1]持久走!B91","v":"吉田美優"},null,null,{"$f":"[1]持久走!E91","v":"加藤綸菜"}]
[27,null,null,{"$f":"[1]持久走!A92","v":7},{"$f":"[1]持久走!B92","v":"清水葵生"},{"$f":"[1]持久走!C92","v":"片　上"},{"$f":"[1]持久走!D92","v":8},{"$f":"[1]持久走!E92","v":"加藤ほのか"},{"$f":"[1]持久走!F92","v":"立　待"}]
[28,null,null,null,{"$f":"[1]持久走!B93","v":"宮本唯衣"},null,null,{"$f":"[1]持久走!E93","v":"西崎光稀"}]
[29,null,null,{"$f":"[1]持久走!A94","v":4},{"$f":"[1]持久走!B94","v":"佐々木希歩"},{"$f":"[1]持久走!C94","v":"神　明"},{"$f":"[1]持久走!D94","v":1},{"$f":"[1]持久走!E94","v":"佐々木愛乃"},{"$f":"[1]持久走!F94","v":"惜　陰"}]
[30,null,null,null,{"$f":"[1]持久走!B95","v":"揚原里彩"},null,null,{"$f":"[1]持久走!E95","v":"佐藤晴瑠菜"}]
[31,null,null,{"$f":"[1]持久走!A96","v":12},{"$f":"[1]持久走!B96","v":"内田杏実"},{"$f":"[1]持久走!C96","v":"河和田"},{"$f":"[1]持久走!D96","v":3},{"$f":"[1]持久走!E96","v":"岡本夢花"},{"$f":"[1]持久走!F96","v":"鯖江東"}]
[32,null,null,null,{"$f":"[1]持久走!B97","v":"小辺愛理"},null,null,{"$f":"[1]持久走!E97","v":"佐々木由良"}]
[33,null,null,{"$f":"[1]持久走!A98","v":5},{"$f":"[1]持久走!B98","v":"城山心那"},{"$f":"[1]持久走!C98","v":"鳥　羽"},{"$f":"[1]持久走!D98","v":11},{"$f":"[1]持久走!E98","v":"黒田紅葉"},{"$f":"[1]持久走!F98","v":"北中山"}]
[34,null,null,null,{"$f":"[1]持久走!B99","v":"高野仁愛"},null,null,{"$f":"[1]持久走!E99","v":"酒井心希"}]
[35,null,null,{"$f":"[1]持久走!A100","v":9},{"$f":"[1]持久走!B100","v":"清水　瑠愛"},{"$f":"[1]持久走!C100","v":"吉　川"},{"$f":"[1]持久走!D100","v":2},{"$f":"[1]持久走!E100","v":"長谷川鈴夏"},{"$f":"[1]持久走!F100","v":"進　徳"}]
[36,null,null,null,{"$f":"[1]持久走!B101","v":"川岸　ここ菜"},null,null,{"$f":"[1]持久走!E101","v":"加藤　陽菜"}]
[37,null,"６年男子",{"$f":"[1]持久走!A110","v":9},{"$f":"[1]持久走!B110","v":"飯田　圭祐"},{"$f":"[1]持久走!C110","v":"吉　川"},{"$f":"[1]持久走!D110","v":8},{"$f":"[1]持久走!E110","v":"清水涼"},{"$f":"[1]持久走!F110","v":"立　待"}]
[38,null,null,null,{"$f":"[1]持久走!B111","v":"加藤　周"},null,null,{"$f":"[1]持久走!E111","v":"加藤颯斗"}]
[39,null,null,{"$f":"[1]持久走!A112","v":3},{"$f":"[1]持久走!B112","v":"堀啓太"},{"$f":"[1]持久走!C112","v":"鯖江東"},{"$f":"[1]持久走!D112","v":4},{"$f":"[1]持久走!E112","v":"和多田亮太"},{"$f":"[1]持久走!F112","v":"神　明"}]
[40,null,null,null,{"$f":"[1]持久走!B113","v":"伊藤大翔"},null,null,{"$f":"[1]持久走!E113","v":"前田桜輝"}]
[41,null,null,{"$f":"[1]持久走!A114","v":1},{"$f":"[1]持久走!B114","v":"齋藤浩樹"},{"$f":"[1]持久走!C114","v":"惜　陰"},{"$f":"[1]持久走!D114","v":10},{"$f":"[1]持久走!E114","v":"山本志音"},{"$f":"[1]持久走!F114","v":" 豊 "}]
[42,null,null,null,{"$f":"[1]持久走!B115","v":"井上朝日"},null,null,{"$f":"[1]持久走!E115","v":"山内幸紀"}]
[43,null,null,{"$f":"[1]持久走!A116","v":11},{"$f":"[1]持久走!B116","v":"田代健太郎"},{"$f":"[1]持久走!C116","v":"北中山"},{"$f":"[1]持久走!D116","v":6},{"$f":"[1]持久走!E116","v":"山田圭悟"},{"$f":"[1]持久走!F116","v":"中　河"}]
[44,null,null,null,{"$f":"[1]持久走!B117","v":"水野雅人"},null,null,{"$f":"[1]持久走!E117","v":"品川涼"}]
[45,null,null,{"$f":"[1]持久走!A118","v":5},{"$f":"[1]持久走!B118","v":"廣瀨彰栄"},{"$f":"[1]持久走!C118","v":"鳥　羽"},{"$f":"[1]持久走!D118","v":2},{"$f":"[1]持久走!E118","v":"河合　陽一"},{"$f":"[1]持久走!F118","v":"進　徳"}]
[46,null,null,null,{"$f":"[1]持久走!B119","v":"土井大翔"},null,null,{"$f":"[1]持久走!E119","v":"前田恭吾"}]
[47,null,null,{"$f":"[1]持久走!A120","v":7},{"$f":"[1]持久走!B120","v":"笠島優太"},{"$f":"[1]持久走!C120","v":"片　上"},{"$f":"[1]持久走!D120","v":12},{"$f":"[1]持久走!E120","v":"吉田圭悟"},{"$f":"[1]持久走!F120","v":"河和田"}]
[48,null,null,null,{"$f":"[1]持久走!B121","v":"宮下知也"},null,null,{"$f":"[1]持久走!E121","v":"安田圭汰"}]
[1,"走幅跳","５年女子",{"$f":"[1]走幅跳!A40","v":5},{"$f":"[1]走幅跳!B40","v":"山田稚乃"},{"$f":"[1]走幅跳!C40","v":"鳥　羽"},{"$f":"[1]走幅跳!D40","v":5},{"$f":"[1]走幅跳!E40","v":"西村萠花"},{"$f":"[1]走幅跳!F40","v":"鳥　羽"}]
[2,null,null,{"$f":"[1]走幅跳!A41","v":1},{"$f":"[1]走幅跳!B41","v":"窪田乃々佳"},{"$f":"[1]走幅跳!C41","v":"惜　陰"},{"$f":"[1]走幅跳!D41","v":1},{"$f":"[1]走幅跳!E41","v":"浅野真矢"},{"$f":"[1]走幅跳!F41","v":"惜　陰"}]
[3,null,null,{"$f":"[1]走幅跳!A42","v":2},{"$f":"[1]走幅跳!B42","v":"清水真菜実"},{"$f":"[1]走幅跳!C42","v":"進　徳"},{"$f":"[1]走幅跳!D42","v":2},{"$f":"[1]走幅跳!E42","v":"山本　芽依"},{"$f":"[1]走幅跳!F42","v":"進　徳"}]
[4,null,null,{"$f":"[1]走幅跳!A43","v":8},{"$f":"[1]走幅跳!B43","v":"柑本浩奈"},{"$f":"[1]走幅跳!C43","v":"立　待"},{"$f":"[1]走幅跳!D43","v":8},{"$f":"[1]走幅跳!E43","v":"高居美那"},{"$f":"[1]走幅跳!F43","v":"立　待"}]
[5,null,null,{"$f":"[1]走幅跳!A44","v":4},{"$f":"[1]走幅跳!B44","v":"大田夢彩"},{"$f":"[1]走幅跳!C44","v":"神　明"},{"$f":"[1]走幅跳!D44","v":4},{"$f":"[1]走幅跳!E44","v":"杉本有莉亜"},{"$f":"[1]走幅跳!F44","v":"神　明"}]
[6,null,null,{"$f":"[1]走幅跳!A45","v":11},{"$f":"[1]走幅跳!B45","v":"玉村喜音"},{"$f":"[1]走幅跳!C45","v":"北中山"},{"$f":"[1]走幅跳!D45","v":11},{"$f":"[1]走幅跳!E45","v":"田代愛莉"},{"$f":"[1]走幅跳!F45","v":"北中山"}]
[7,null,null,{"$f":"[1]走幅跳!A46","v":6},{"$f":"[1]走幅跳!B46","v":"小野夏紀"},{"$f":"[1]走幅跳!C46","v":"中　河"},{"$f":"[1]走幅跳!D46","v":6},{"$f":"[1]走幅跳!E46","v":"中村桜"},{"$f":"[1]走幅跳!F46","v":"中　河"}]
[8,null,null,{"$f":"[1]走幅跳!A47","v":10},{"$f":"[1]走幅跳!B47","v":"米沢日那"},{"$f":"[1]走幅跳!C47","v":" 豊 "},{"$f":"[1]走幅跳!D47","v":10},{"$f":"[1]走幅跳!E47","v":"永坂まひる"},{"$f":"[1]走幅跳!F47","v":" 豊 "}]
[9,null,null,{"$f":"[1]走幅跳!A48","v":7},{"$f":"[1]走幅跳!B48","v":"西川梓央里"},{"$f":"[1]走幅跳!C48","v":"片　上"},{"$f":"[1]走幅跳!D48","v":7},{"$f":"[1]走幅跳!E48","v":0},{"$f":"[1]走幅跳!F48","v":"片　上"}]
[10,null,null,{"$f":"[1]走幅跳!A49","v":3},{"$f":"[1]走幅跳!B49","v":"堀結葉"},{"$f":"[1]走幅跳!C49","v":"鯖江東"},{"$f":"[1]走幅跳!D49","v":3},{"$f":"[1]走幅跳!E49","v":"吉田名瑠"},{"$f":"[1]走幅跳!F49","v":"鯖江東"}]
[11,null,null,{"$f":"[1]走幅跳!A50","v":9},{"$f":"[1]走幅跳!B50","v":"石田 花凜"},{"$f":"[1]走幅跳!C50","v":"吉　川"},{"$f":"[1]走幅跳!D50","v":9},{"$f":"[1]走幅跳!E50","v":"前谷 莉里"},{"$f":"[1]走幅跳!F50","v":"吉　川"}]
[12,null,null,{"$f":"[1]走幅跳!A51","v":12},{"$f":"[1]走幅跳!B51","v":"山田陽菜"},{"$f":"[1]走幅跳!C51","v":"河和田"},{"$f":"[1]走幅跳!D51","v":12},{"$f":"[1]走幅跳!E51","v":"井上祐佳"},{"$f":"[1]走幅跳!F51","v":"河和田"}]
[13,null,"５年男子",{"$f":"[1]走幅跳!A60","v":9},{"$f":"[1]走幅跳!B60","v":"手鹿 蓮斗"},{"$f":"[1]走幅跳!C60","v":"吉　川"},{"$f":"[1]走幅跳!D60","v":9},{"$f":"[1]走幅跳!E60","v":"熊野 隆一"},{"$f":"[1]走幅跳!F60","v":"吉　川"}]
[14,null,null,{"$f":"[1]走幅跳!A61","v":8},{"$f":"[1]走幅跳!B61","v":"岩原更柊"},{"$f":"[1]走幅跳!C61","v":"立　待"},{"$f":"[1]走幅跳!D61","v":8},{"$f":"[1]走幅跳!E61","v":"藤井大暉"},{"$f":"[1]走幅跳!F61","v":"立　待"}]
[15,null,null,{"$f":"[1]走幅跳!A62","v":7},{"$f":"[1]走幅跳!B62","v":"齋藤晴一"},{"$f":"[1]走幅跳!C62","v":"片　上"},{"$f":"[1]走幅跳!D62","v":7},{"$f":"[1]走幅跳!E62","v":"山﨑佑人"},{"$f":"[1]走幅跳!F62","v":"片　上"}]
[16,null,null,{"$f":"[1]走幅跳!A63","v":6},{"$f":"[1]走幅跳!B63","v":"大平莉久"},{"$f":"[1]走幅跳!C63","v":"中　河"},{"$f":"[1]走幅跳!D63","v":6},{"$f":"[1]走幅跳!E63","v":"上大門良樹"},{"$f":"[1]走幅跳!F63","v":"中　河"}]
[17,null,null,{"$f":"[1]走幅跳!A64","v":11},{"$f":"[1]走幅跳!B64","v":"酒井夢雅"},{"$f":"[1]走幅跳!C64","v":"北中山"},{"$f":"[1]走幅跳!D64","v":11},{"$f":"[1]走幅跳!E64","v":"山本敦広"},{"$f":"[1]走幅跳!F64","v":"北中山"}]
[18,null,null,{"$f":"[1]走幅跳!A65","v":1},{"$f":"[1]走幅跳!B65","v":"長谷川翔大"},{"$f":"[1]走幅跳!C65","v":"惜　陰"},{"$f":"[1]走幅跳!D65","v":1},{"$f":"[1]走幅跳!E65","v":"冨本龍我"},{"$f":"[1]走幅跳!F65","v":"惜　陰"}]
[19,null,null,{"$f":"[1]走幅跳!A66","v":2},{"$f":"[1]走幅跳!B66","v":"関野　祐輔"},{"$f":"[1]走幅跳!C66","v":"進　徳"},{"$f":"[1]走幅跳!D66","v":2},{"$f":"[1]走幅跳!E66","v":"細川　和暉"},{"$f":"[1]走幅跳!F66","v":"進　徳"}]
[20,null,null,{"$f":"[1]走幅跳!A67","v":3},{"$f":"[1]走幅跳!B67","v":"吉村司"},{"$f":"[1]走幅跳!C67","v":"鯖江東"},{"$f":"[1]走幅跳!D67","v":3},{"$f":"[1]走幅跳!E67","v":"細田遼"},{"$f":"[1]走幅跳!F67","v":"鯖江東"}]
[21,null,null,{"$f":"[1]走幅跳!A68","v":10},{"$f":"[1]走幅跳!B68","v":"寺﨑凌雅"},{"$f":"[1]走幅跳!C68","v":" 豊 "},{"$f":"[1]走幅跳!D68","v":10},{"$f":"[1]走幅跳!E68","v":"橋本琉平"},{"$f":"[1]走幅跳!F68","v":" 豊 "}]
[22,null,null,{"$f":"[1]走幅跳!A69","v":12},{"$f":"[1]走幅跳!B69","v":"多田大志"},{"$f":"[1]走幅跳!C69","v":"河和田"},{"$f":"[1]走幅跳!D69","v":12},{"$f":"[1]走幅跳!E69","v":"山㟁 泰楽"},{"$f":"[1]走幅跳!F69","v":"河和田"}]
[23,null,null,{"$f":"[1]走幅跳!A70","v":4},{"$f":"[1]走幅跳!B70","v":"加藤証"},{"$f":"[1]走幅跳!C70","v":"神　明"},{"$f":"[1]走幅跳!D70","v":4},{"$f":"[1]走幅跳!E70","v":"吉川広大"},{"$f":"[1]走幅跳!F70","v":"神　明"}]
[24,null,null,{"$f":"[1]走幅跳!A71","v":5},{"$f":"[1]走幅跳!B71","v":"中川大聖"},{"$f":"[1]走幅跳!C71","v":"鳥　羽"},{"$f":"[1]走幅跳!D71","v":5},{"$f":"[1]走幅跳!E71","v":"笠原彰紘"},{"$f":"[1]走幅跳!F71","v":"鳥　羽"}]
[25,null,"６年女子",{"$f":"[1]走幅跳!A80","v":3},{"$f":"[1]走幅跳!B80","v":"山岸愛子"},{"$f":"[1]走幅跳!C80","v":"鯖江東"},{"$f":"[1]走幅跳!D80","v":3},{"$f":"[1]走幅跳!E80","v":"笠原夕楽"},{"$f":"[1]走幅跳!F80","v":"鯖江東"}]
[26,null,null,{"$f":"[1]走幅跳!A81","v":12},{"$f":"[1]走幅跳!B81","v":"増永安莉"},{"$f":"[1]走幅跳!C81","v":"河和田"},{"$f":"[1]走幅跳!D81","v":12},{"$f":"[1]走幅跳!E81","v":"笹木美羽"},{"$f":"[1]走幅跳!F81","v":"河和田"}]
[27,null,null,{"$f":"[1]走幅跳!A82","v":10},{"$f":"[1]走幅跳!B82","v":"髙間海友"},{"$f":"[1]走幅跳!C82","v":" 豊 "},{"$f":"[1]走幅跳!D82","v":10},{"$f":"[1]走幅跳!E82","v":"五十嵐美緒"},{"$f":"[1]走幅跳!F82","v":" 豊 "}]
[28,null,null,{"$f":"[1]走幅跳!A83","v":9},{"$f":"[1]走幅跳!B83","v":"田中　里璃"},{"$f":"[1]走幅跳!C83","v":"吉　川"},{"$f":"[1]走幅跳!D83","v":9},{"$f":"[1]走幅跳!E83","v":"白崎　望愛"},{"$f":"[1]走幅跳!F83","v":"吉　川"}]
[29,null,null,{"$f":"[1]走幅跳!A84","v":2},{"$f":"[1]走幅跳!B84","v":"瀧波　奈々"},{"$f":"[1]走幅跳!C84","v":"進　徳"},{"$f":"[1]走幅跳!D84","v":2},{"$f":"[1]走幅跳!E84","v":"岩尾　春花"},{"$f":"[1]走幅跳!F84","v":"進　徳"}]
[30,null,null,{"$f":"[1]走幅跳!A85","v":8},{"$f":"[1]走幅跳!B85","v":"和泉英紗"},{"$f":"[1]走幅跳!C85","v":"立　待"},{"$f":"[1]走幅跳!D85","v":8},{"$f":"[1]走幅跳!E85","v":"林舞夢"},{"$f":"[1]走幅跳!F85","v":"立　待"}]
[31,null,null,{"$f":"[1]走幅跳!A86","v":11},{"$f":"[1]走幅跳!B86","v":"酒井心希"},{"$f":"[1]走幅跳!C86","v":"北中山"},{"$f":"[1]走幅跳!D86","v":11},{"$f":"[1]走幅跳!E86","v":"髙崎結羽"},{"$f":"[1]走幅跳!F86","v":"北中山"}]
[32,null,null,{"$f":"[1]走幅跳!A87","v":1},{"$f":"[1]走幅跳!B87","v":"谷田理鳳"},{"$f":"[1]走幅跳!C87","v":"惜　陰"},{"$f":"[1]走幅跳!D87","v":1},{"$f":"[1]走幅跳!E87","v":"旭颯季"},{"$f":"[1]走幅跳!F87","v":"惜　陰"}]
[33,null,null,{"$f":"[1]走幅跳!A88","v":4},{"$f":"[1]走幅跳!B88","v":"和田絢柚子"},{"$f":"[1]走幅跳!C88","v":"神　明"},{"$f":"[1]走幅跳!D88","v":4},{"$f":"[1]走幅跳!E88","v":"貝本莉乃愛"},{"$f":"[1]走幅跳!F88","v":"神　明"}]
[34,null,null,{"$f":"[1]走幅跳!A89","v":7},{"$f":"[1]走幅跳!B89","v":"宮本唯衣"},{"$f":"[1]走幅跳!C89","v":"片　上"},{"$f":"[1]走幅跳!D89","v":7},{"$f":"[1]走幅跳!E89","v":"島田和佳"},{"$f":"[1]走幅跳!F89","v":"片　上"}]
[35,null,null,{"$f":"[1]走幅跳!A90","v":5},{"$f":"[1]走幅跳!B90","v":"山本晏"},{"$f":"[1]走幅跳!C90","v":"鳥　羽"},{"$f":"[1]走幅跳!D90","v":5},{"$f":"[1]走幅跳!E90","v":"山本陽愛"},{"$f":"[1]走幅跳!F90","v":"鳥　羽"}]
[36,null,null,{"$f":"[1]走幅跳!A91","v":6},{"$f":"[1]走幅跳!B91","v":"齋藤智子"},{"$f":"[1]走幅跳!C91","v":"中　河"},{"$f":"[1]走幅跳!D91","v":6},{"$f":"[1]走幅跳!E91","v":"田中瑞姫"},{"$f":"[1]走幅跳!F91","v":"中　河"}]
[37,null,"６年男子",{"$f":"[1]走幅跳!A100","v":5},{"$f":"[1]走幅跳!B100","v":"川江凜太郎"},{"$f":"[1]走幅跳!C100","v":"鳥　羽"},{"$f":"[1]走幅跳!D100","v":5},{"$f":"[1]走幅跳!E100","v":"土井大翔"},{"$f":"[1]走幅跳!F100","v":"鳥　羽"}]
[38,null,null,{"$f":"[1]走幅跳!A101","v":3},{"$f":"[1]走幅跳!B101","v":"岩壁優汰"},{"$f":"[1]走幅跳!C101","v":"鯖江東"},{"$f":"[1]走幅跳!D101","v":3},{"$f":"[1]走幅跳!E101","v":"森田結翔"},{"$f":"[1]走幅跳!F101","v":"鯖江東"}]
[39,null,null,{"$f":"[1]走幅跳!A102","v":8},{"$f":"[1]走幅跳!B102","v":"北道巧真"},{"$f":"[1]走幅跳!C102","v":"立　待"},{"$f":"[1]走幅跳!D102","v":8},{"$f":"[1]走幅跳!E102","v":"富山輝空"},{"$f":"[1]走幅跳!F102","v":"立　待"}]
[40,null,null,{"$f":"[1]走幅跳!A103","v":10},{"$f":"[1]走幅跳!B103","v":"真柄　央"},{"$f":"[1]走幅跳!C103","v":" 豊 "},{"$f":"[1]走幅跳!D103","v":10},{"$f":"[1]走幅跳!E103","v":"榊原尚希"},{"$f":"[1]走幅跳!F103","v":" 豊 "}]
[41,null,null,{"$f":"[1]走幅跳!A104","v":6},{"$f":"[1]走幅跳!B104","v":"佐々木謙太郎"},{"$f":"[1]走幅跳!C104","v":"中　河"},{"$f":"[1]走幅跳!D104","v":6},{"$f":"[1]走幅跳!E104","v":"牧真史"},{"$f":"[1]走幅跳!F104","v":"中　河"}]
[42,null,null,{"$f":"[1]走幅跳!A105","v":7},{"$f":"[1]走幅跳!B105","v":"山口了生"},{"$f":"[1]走幅跳!C105","v":"片　上"},{"$f":"[1]走幅跳!D105","v":7},{"$f":"[1]走幅跳!E105","v":"為永優希"},{"$f":"[1]走幅跳!F105","v":"片　上"}]
[43,null,null,{"$f":"[1]走幅跳!A106","v":9},{"$f":"[1]走幅跳!B106","v":"牧野　康太"},{"$f":"[1]走幅跳!C106","v":"吉　川"},{"$f":"[1]走幅跳!D106","v":9},{"$f":"[1]走幅跳!E106","v":"上杉　翼"},{"$f":"[1]走幅跳!F106","v":"吉　川"}]
[44,null,null,{"$f":"[1]走幅跳!A107","v":2},{"$f":"[1]走幅跳!B107","v":"齋藤　大晟"},{"$f":"[1]走幅跳!C107","v":"進　徳"},{"$f":"[1]走幅跳!D107","v":2},{"$f":"[1]走幅跳!E107","v":"前田　達輝"},{"$f":"[1]走幅跳!F107","v":"進　徳"}]
[45,null,null,{"$f":"[1]走幅跳!A108","v":1},{"$f":"[1]走幅跳!B108","v":"秋元椋"},{"$f":"[1]走幅跳!C108","v":"惜　陰"},{"$f":"[1]走幅跳!D108","v":1},{"$f":"[1]走幅跳!E108","v":"中村榛"},{"$f":"[1]走幅跳!F108","v":"惜　陰"}]
[46,null,null,{"$f":"[1]走幅跳!A109","v":4},{"$f":"[1]走幅跳!B109","v":"瀧波和大"},{"$f":"[1]走幅跳!C109","v":"神　明"},{"$f":"[1]走幅跳!D109","v":4},{"$f":"[1]走幅跳!E109","v":"杉本叶"},{"$f":"[1]走幅跳!F109","v":"神　明"}]
[47,null,null,{"$f":"[1]走幅跳!A110","v":11},{"$f":"[1]走幅跳!B110","v":"木村泰千"},{"$f":"[1]走幅跳!C110","v":"北中山"},{"$f":"[1]走幅跳!D110","v":11},{"$f":"[1]走幅跳!E110","v":"堀実琉"},{"$f":"[1]走幅跳!F110","v":"北中山"}]
[48,null,null,{"$f":"[1]走幅跳!A111","v":12},{"$f":"[1]走幅跳!B111","v":"佐々木学道"},{"$f":"[1]走幅跳!C111","v":"河和田"},{"$f":"[1]走幅跳!D111","v":12},{"$f":"[1]走幅跳!E111","v":"冨田大翔"},{"$f":"[1]走幅跳!F111","v":"河和田"}]
[1,"走高跳","５年女子",{"$f":"[1]走高跳!A40","v":7},{"$f":"[1]走高跳!B40","v":"西川梓央里"},{"$f":"[1]走高跳!C40","v":"片　上"},{"$f":"[1]走高跳!D40","v":7},{"$f":"[1]走高跳!E40","v":0},{"$f":"[1]走高跳!F40","v":"片　上"}]
[2,null,null,{"$f":"[1]走高跳!A41","v":11},{"$f":"[1]走高跳!B41","v":"大森眞子"},{"$f":"[1]走高跳!C41","v":"北中山"},{"$f":"[1]走高跳!D41","v":11},{"$f":"[1]走高跳!E41","v":"西川伶奈"},{"$f":"[1]走高跳!F41","v":"北中山"}]
[3,null,null,{"$f":"[1]走高跳!A42","v":12},{"$f":"[1]走高跳!B42","v":"澤田 笑唯奈"},{"$f":"[1]走高跳!C42","v":"河和田"},{"$f":"[1]走高跳!D42","v":12},{"$f":"[1]走高跳!E42","v":"山田陽菜"},{"$f":"[1]走高跳!F42","v":"河和田"}]
[4,null,null,{"$f":"[1]走高跳!A43","v":9},{"$f":"[1]走高跳!B43","v":"山口 可暖"},{"$f":"[1]走高跳!C43","v":"吉　川"},{"$f":"[1]走高跳!D43","v":9},{"$f":"[1]走高跳!E43","v":"柴田 実侑"},{"$f":"[1]走高跳!F43","v":"吉　川"}]
[5,null,null,{"$f":"[1]走高跳!A44","v":10},{"$f":"[1]走高跳!B44","v":"黒木莉央"},{"$f":"[1]走高跳!C44","v":" 豊 "},{"$f":"[1]走高跳!D44","v":10},{"$f":"[1]走高跳!E44","v":"中村夏菜"},{"$f":"[1]走高跳!F44","v":" 豊 "}]
[6,null,null,{"$f":"[1]走高跳!A45","v":5},{"$f":"[1]走高跳!B45","v":"竹内心和"},{"$f":"[1]走高跳!C45","v":"鳥　羽"},{"$f":"[1]走高跳!D45","v":5},{"$f":"[1]走高跳!E45","v":"吉田帆麻里"},{"$f":"[1]走高跳!F45","v":"鳥　羽"}]
[7,null,null,{"$f":"[1]走高跳!A46","v":6},{"$f":"[1]走高跳!B46","v":"堀由羅"},{"$f":"[1]走高跳!C46","v":"中　河"},{"$f":"[1]走高跳!D46","v":6},{"$f":"[1]走高跳!E46","v":"山田望結"},{"$f":"[1]走高跳!F46","v":"中　河"}]
[8,null,null,{"$f":"[1]走高跳!A47","v":1},{"$f":"[1]走高跳!B47","v":"飯田美樹"},{"$f":"[1]走高跳!C47","v":"惜　陰"},{"$f":"[1]走高跳!D47","v":1},{"$f":"[1]走高跳!E47","v":"鈴木胡音"},{"$f":"[1]走高跳!F47","v":"惜　陰"}]
[9,null,null,{"$f":"[1]走高跳!A48","v":4},{"$f":"[1]走高跳!B48","v":"権藤あずみ"},{"$f":"[1]走高跳!C48","v":"神　明"},{"$f":"[1]走高跳!D48","v":4},{"$f":"[1]走高跳!E48","v":"瓜生彩華"},{"$f":"[1]走高跳!F48","v":"神　明"}]
[10,null,null,{"$f":"[1]走高跳!A49","v":3},{"$f":"[1]走高跳!B49","v":"嶋田真観"},{"$f":"[1]走高跳!C49","v":"鯖江東"},{"$f":"[1]走高跳!D49","v":3},{"$f":"[1]走高跳!E49","v":"宮田七奈"},{"$f":"[1]走高跳!F49","v":"鯖江東"}]
[11,null,null,{"$f":"[1]走高跳!A50","v":2},{"$f":"[1]走高跳!B50","v":"大川美空"},{"$f":"[1]走高跳!C50","v":"進　徳"},{"$f":"[1]走高跳!D50","v":2},{"$f":"[1]走高跳!E50","v":"佐野こころ"},{"$f":"[1]走高跳!F50","v":"進　徳"}]
[12,null,null,{"$f":"[1]走高跳!A51","v":8},{"$f":"[1]走高跳!B51","v":"五十嵐愛莉"},{"$f":"[1]走高跳!C51","v":"立　待"},{"$f":"[1]走高跳!D51","v":8},{"$f":"[1]走高跳!E51","v":"川﨑野々香"},{"$f":"[1]走高跳!F51","v":"立　待"}]
[13,null,"５年男子",{"$f":"[1]走高跳!A60","v":9},{"$f":"[1]走高跳!B60","v":"杉山 聖"},{"$f":"[1]走高跳!C60","v":"吉　川"},{"$f":"[1]走高跳!D60","v":9},{"$f":"[1]走高跳!E60","v":"石川 景慈郎"},{"$f":"[1]走高跳!F60","v":"吉　川"}]
[14,null,null,{"$f":"[1]走高跳!A61","v":12},{"$f":"[1]走高跳!B61","v":"市橋大和"},{"$f":"[1]走高跳!C61","v":"河和田"},{"$f":"[1]走高跳!D61","v":12},{"$f":"[1]走高跳!E61","v":"相馬直哉"},{"$f":"[1]走高跳!F61","v":"河和田"}]
[15,null,null,{"$f":"[1]走高跳!A62","v":5},{"$f":"[1]走高跳!B62","v":"髙橋飛翔"},{"$f":"[1]走高跳!C62","v":"鳥　羽"},{"$f":"[1]走高跳!D62","v":5},{"$f":"[1]走高跳!E62","v":"蓑輪翼"},{"$f":"[1]走高跳!F62","v":"鳥　羽"}]
[16,null,null,{"$f":"[1]走高跳!A63","v":4},{"$f":"[1]走高跳!B63","v":"野尻晃矢"},{"$f":"[1]走高跳!C63","v":"神　明"},{"$f":"[1]走高跳!D63","v":4},{"$f":"[1]走高跳!E63","v":"加藤証"},{"$f":"[1]走高跳!F63","v":"神　明"}]
[17,null,null,{"$f":"[1]走高跳!A64","v":7},{"$f":"[1]走高跳!B64","v":"為国龍矢"},{"$f":"[1]走高跳!C64","v":"片　上"},{"$f":"[1]走高跳!D64","v":7},{"$f":"[1]走高跳!E64","v":"小山虎流"},{"$f":"[1]走高跳!F64","v":"片　上"}]
[18,null,null,{"$f":"[1]走高跳!A65","v":6},{"$f":"[1]走高跳!B65","v":"木林凱飛"},{"$f":"[1]走高跳!C65","v":"中　河"},{"$f":"[1]走高跳!D65","v":6},{"$f":"[1]走高跳!E65","v":"大門千速"},{"$f":"[1]走高跳!F65","v":"中　河"}]
[19,null,null,{"$f":"[1]走高跳!A66","v":10},{"$f":"[1]走高跳!B66","v":"橋本直樹"},{"$f":"[1]走高跳!C66","v":" 豊 "},{"$f":"[1]走高跳!D66","v":10},{"$f":"[1]走高跳!E66","v":"山本　駈"},{"$f":"[1]走高跳!F66","v":" 豊 "}]
[20,null,null,{"$f":"[1]走高跳!A67","v":2},{"$f":"[1]走高跳!B67","v":"松田啓太郎"},{"$f":"[1]走高跳!C67","v":"進　徳"},{"$f":"[1]走高跳!D67","v":2},{"$f":"[1]走高跳!E67","v":"竹内　孝介"},{"$f":"[1]走高跳!F67","v":"進　徳"}]
[21,null,null,{"$f":"[1]走高跳!A68","v":8},{"$f":"[1]走高跳!B68","v":"増永龍之介"},{"$f":"[1]走高跳!C68","v":"立　待"},{"$f":"[1]走高跳!D68","v":8},{"$f":"[1]走高跳!E68","v":"小原空"},{"$f":"[1]走高跳!F68","v":"立　待"}]
[22,null,null,{"$f":"[1]走高跳!A69","v":3},{"$f":"[1]走高跳!B69","v":"岩壁篤史"},{"$f":"[1]走高跳!C69","v":"鯖江東"},{"$f":"[1]走高跳!D69","v":3},{"$f":"[1]走高跳!E69","v":"内田琢也"},{"$f":"[1]走高跳!F69","v":"鯖江東"}]
[23,null,null,{"$f":"[1]走高跳!A70","v":11},{"$f":"[1]走高跳!B70","v":"黒田啓介"},{"$f":"[1]走高跳!C70","v":"北中山"},{"$f":"[1]走高跳!D70","v":11},{"$f":"[1]走高跳!E70","v":"山内脩誠"},{"$f":"[1]走高跳!F70","v":"北中山"}]
[24,null,null,{"$f":"[1]走高跳!A71","v":1},{"$f":"[1]走高跳!B71","v":"滝純志郎"},{"$f":"[1]走高跳!C71","v":"惜　陰"},{"$f":"[1]走高跳!D71","v":1},{"$f":"[1]走高跳!E71","v":"齋藤正義"},{"$f":"[1]走高跳!F71","v":"惜　陰"}]
[25,null,"６年女子",{"$f":"[1]走高跳!A80","v":9},{"$f":"[1]走高跳!B80","v":"渡辺　鈴藍"},{"$f":"[1]走高跳!C80","v":"吉　川"},{"$f":"[1]走高跳!D80","v":9},{"$f":"[1]走高跳!E80","v":"刀祢　梨加　"},{"$f":"[1]走高跳!F80","v":"吉　川"}]
[26,null,null,{"$f":"[1]走高跳!A81","v":5},{"$f":"[1]走高跳!B81","v":"山田樹希"},{"$f":"[1]走高跳!C81","v":"鳥　羽"},{"$f":"[1]走高跳!D81","v":5},{"$f":"[1]走高跳!E81","v":"小林みゅう"},{"$f":"[1]走高跳!F81","v":"鳥　羽"}]
[27,null,null,{"$f":"[1]走高跳!A82","v":3},{"$f":"[1]走高跳!B82","v":"齋藤楓花"},{"$f":"[1]走高跳!C82","v":"鯖江東"},{"$f":"[1]走高跳!D82","v":3},{"$f":"[1]走高跳!E82","v":"佐々木由良"},{"$f":"[1]走高跳!F82","v":"鯖江東"}]
[28,null,null,{"$f":"[1]走高跳!A83","v":10},{"$f":"[1]走高跳!B83","v":"戸谷有菜"},{"$f":"[1]走高跳!C83","v":" 豊 "},{"$f":"[1]走高跳!D83","v":10},{"$f":"[1]走高跳!E83","v":"中島琉星"},{"$f":"[1]走高跳!F83","v":" 豊 "}]
[29,null,null,{"$f":"[1]走高跳!A84","v":2},{"$f":"[1]走高跳!B84","v":"蓑輪　紗里"},{"$f":"[1]走高跳!C84","v":"進　徳"},{"$f":"[1]走高跳!D84","v":2},{"$f":"[1]走高跳!E84","v":"牧野　楓香"},{"$f":"[1]走高跳!F84","v":"進　徳"}]
[30,null,null,{"$f":"[1]走高跳!A85","v":1},{"$f":"[1]走高跳!B85","v":"大土呂碧"},{"$f":"[1]走高跳!C85","v":"惜　陰"},{"$f":"[1]走高跳!D85","v":1},{"$f":"[1]走高跳!E85","v":"岩壁十和"},{"$f":"[1]走高跳!F85","v":"惜　陰"}]
[31,null,null,{"$f":"[1]走高跳!A86","v":12},{"$f":"[1]走高跳!B86","v":"渡辺みなと"},{"$f":"[1]走高跳!C86","v":"河和田"},{"$f":"[1]走高跳!D86","v":12},{"$f":"[1]走高跳!E86","v":"道屋愛菜"},{"$f":"[1]走高跳!F86","v":"河和田"}]
[32,null,null,{"$f":"[1]走高跳!A87","v":8},{"$f":"[1]走高跳!B87","v":"紫阿南"},{"$f":"[1]走高跳!C87","v":"立　待"},{"$f":"[1]走高跳!D87","v":8},{"$f":"[1]走高跳!E87","v":"林舞夢"},{"$f":"[1]走高跳!F87","v":"立　待"}]
[33,null,null,{"$f":"[1]走高跳!A88","v":6},{"$f":"[1]走高跳!B88","v":"田中晴乃"},{"$f":"[1]走高跳!C88","v":"中　河"},{"$f":"[1]走高跳!D88","v":6},{"$f":"[1]走高跳!E88","v":"中村晴"},{"$f":"[1]走高跳!F88","v":"中　河"}]
[34,null,null,{"$f":"[1]走高跳!A89","v":4},{"$f":"[1]走高跳!B89","v":"松本茉央"},{"$f":"[1]走高跳!C89","v":"神　明"},{"$f":"[1]走高跳!D89","v":4},{"$f":"[1]走高跳!E89","v":"德本茉侑"},{"$f":"[1]走高跳!F89","v":"神　明"}]
[35,null,null,{"$f":"[1]走高跳!A90","v":7},{"$f":"[1]走高跳!B90","v":"安田奈央"},{"$f":"[1]走高跳!C90","v":"片　上"},{"$f":"[1]走高跳!D90","v":7},{"$f":"[1]走高跳!E90","v":"前田芙羽"},{"$f":"[1]走高跳!F90","v":"片　上"}]
[36,null,null,{"$f":"[1]走高跳!A91","v":11},{"$f":"[1]走高跳!B91","v":"酒井優良"},{"$f":"[1]走高跳!C91","v":"北中山"},{"$f":"[1]走高跳!D91","v":11},{"$f":"[1]走高跳!E91","v":"今小路瑞華子"},{"$f":"[1]走高跳!F91","v":"北中山"}]
[37,null,"６年男子",{"$f":"[1]走高跳!A100","v":2},{"$f":"[1]走高跳!B100","v":"近藤大空"},{"$f":"[1]走高跳!C100","v":"進　徳"},{"$f":"[1]走高跳!D100","v":2},{"$f":"[1]走高跳!E100","v":"水野　俊"},{"$f":"[1]走高跳!F100","v":"進　徳"}]
[38,null,null,{"$f":"[1]走高跳!A101","v":3},{"$f":"[1]走高跳!B101","v":"上木龍二"},{"$f":"[1]走高跳!C101","v":"鯖江東"},{"$f":"[1]走高跳!D101","v":3},{"$f":"[1]走高跳!E101","v":"三田村悠大"},{"$f":"[1]走高跳!F101","v":"鯖江東"}]
[39,null,null,{"$f":"[1]走高跳!A102","v":9},{"$f":"[1]走高跳!B102","v":"志村　碧"},{"$f":"[1]走高跳!C102","v":"吉　川"},{"$f":"[1]走高跳!D102","v":9},{"$f":"[1]走高跳!E102","v":"針原　歩"},{"$f":"[1]走高跳!F102","v":"吉　川"}]
[40,null,null,{"$f":"[1]走高跳!A103","v":10},{"$f":"[1]走高跳!B103","v":"橋本眞那士"},{"$f":"[1]走高跳!C103","v":" 豊 "},{"$f":"[1]走高跳!D103","v":10},{"$f":"[1]走高跳!E103","v":"宝泉雄飛"},{"$f":"[1]走高跳!F103","v":" 豊 "}]
[41,null,null,{"$f":"[1]走高跳!A104","v":4},{"$f":"[1]走高跳!B104","v":"田中翔"},{"$f":"[1]走高跳!C104","v":"神　明"},{"$f":"[1]走高跳!D104","v":4},{"$f":"[1]走高跳!E104","v":"木本凌輔"},{"$f":"[1]走高跳!F104","v":"神　明"}]
[42,null,null,{"$f":"[1]走高跳!A105","v":7},{"$f":"[1]走高跳!B105","v":"中出颯空"},{"$f":"[1]走高跳!C105","v":"片　上"},{"$f":"[1]走高跳!D105","v":7},{"$f":"[1]走高跳!E105","v":"為永優希"},{"$f":"[1]走高跳!F105","v":"片　上"}]
[43,null,null,{"$f":"[1]走高跳!A106","v":6},{"$f":"[1]走高跳!B106","v":"吉村乙輝"},{"$f":"[1]走高跳!C106","v":"中　河"},{"$f":"[1]走高跳!D106","v":6},{"$f":"[1]走高跳!E106","v":"西澤龍星"},{"$f":"[1]走高跳!F106","v":"中　河"}]
[44,null,null,{"$f":"[1]走高跳!A107","v":1},{"$f":"[1]走高跳!B107","v":"田辺豊城"},{"$f":"[1]走高跳!C107","v":"惜　陰"},{"$f":"[1]走高跳!D107","v":1},{"$f":"[1]走高跳!E107","v":"堀江遼大"},{"$f":"[1]走高跳!F107","v":"惜　陰"}]
[45,null,null,{"$f":"[1]走高跳!A108","v":5},{"$f":"[1]走高跳!B108","v":"廣瀨彰栄"},{"$f":"[1]走高跳!C108","v":"鳥　羽"},{"$f":"[1]走高跳!D108","v":5},{"$f":"[1]走高跳!E108","v":"寺崎颯汰"},{"$f":"[1]走高跳!F108","v":"鳥　羽"}]
[46,null,null,{"$f":"[1]走高跳!A109","v":8},{"$f":"[1]走高跳!B109","v":"田口友翔"},{"$f":"[1]走高跳!C109","v":"立　待"},{"$f":"[1]走高跳!D109","v":8},{"$f":"[1]走高跳!E109","v":"伊藤優羽太"},{"$f":"[1]走高跳!F109","v":"立　待"}]
[47,null,null,{"$f":"[1]走高跳!A110","v":12},{"$f":"[1]走高跳!B110","v":"髙野桜河"},{"$f":"[1]走高跳!C110","v":"河和田"},{"$f":"[1]走高跳!D110","v":12},{"$f":"[1]走高跳!E110","v":"武田海佑"},{"$f":"[1]走高跳!F110","v":"河和田"}]
[48,null,null,{"$f":"[1]走高跳!A111","v":11},{"$f":"[1]走高跳!B111","v":"五十子琳望"},{"$f":"[1]走高跳!C111","v":"北中山"},{"$f":"[1]走高跳!D111","v":11},{"$f":"[1]走高跳!E111","v":"金粕武尊"},{"$f":"[1]走高跳!F111","v":"北中山"}]
[1,"ボール投げ","５年女子",{"$f":"[1]ボール投げ!A40","v":7},{"$f":"[1]ボール投げ!B40","v":"出水彩花"},{"$f":"[1]ボール投げ!C40","v":"片　上"},{"$f":"[1]ボール投げ!D40","v":7},{"$f":"[1]ボール投げ!E40","v":0},{"$f":"[1]ボール投げ!F40","v":"片　上"}]
[2,null,null,{"$f":"[1]ボール投げ!A41","v":3},{"$f":"[1]ボール投げ!B41","v":"山下桜空"},{"$f":"[1]ボール投げ!C41","v":"鯖江東"},{"$f":"[1]ボール投げ!D41","v":3},{"$f":"[1]ボール投げ!E41","v":"石田愛翔"},{"$f":"[1]ボール投げ!F41","v":"鯖江東"}]
[3,null,null,{"$f":"[1]ボール投げ!A42","v":10},{"$f":"[1]ボール投げ!B42","v":"鈴木美寿"},{"$f":"[1]ボール投げ!C42","v":" 豊 "},{"$f":"[1]ボール投げ!D42","v":10},{"$f":"[1]ボール投げ!E42","v":"嶋川風花"},{"$f":"[1]ボール投げ!F42","v":" 豊 "}]
[4,null,null,{"$f":"[1]ボール投げ!A43","v":2},{"$f":"[1]ボール投げ!B43","v":"末本　響"},{"$f":"[1]ボール投げ!C43","v":"進　徳"},{"$f":"[1]ボール投げ!D43","v":2},{"$f":"[1]ボール投げ!E43","v":"森橋　美穂"},{"$f":"[1]ボール投げ!F43","v":"進　徳"}]
[5,null,null,{"$f":"[1]ボール投げ!A44","v":4},{"$f":"[1]ボール投げ!B44","v":"橋本ちはる"},{"$f":"[1]ボール投げ!C44","v":"神　明"},{"$f":"[1]ボール投げ!D44","v":4},{"$f":"[1]ボール投げ!E44","v":"上杉桜礼"},{"$f":"[1]ボール投げ!F44","v":"神　明"}]
[6,null,null,{"$f":"[1]ボール投げ!A45","v":11},{"$f":"[1]ボール投げ!B45","v":"石塚咲季"},{"$f":"[1]ボール投げ!C45","v":"北中山"},{"$f":"[1]ボール投げ!D45","v":11},{"$f":"[1]ボール投げ!E45","v":"中川芽映"},{"$f":"[1]ボール投げ!F45","v":"北中山"}]
[7,null,null,{"$f":"[1]ボール投げ!A46","v":12},{"$f":"[1]ボール投げ!B46","v":"中川詩央里"},{"$f":"[1]ボール投げ!C46","v":"河和田"},{"$f":"[1]ボール投げ!D46","v":12},{"$f":"[1]ボール投げ!E46","v":"漆崎優香"},{"$f":"[1]ボール投げ!F46","v":"河和田"}]
[8,null,null,{"$f":"[1]ボール投げ!A47","v":8},{"$f":"[1]ボール投げ!B47","v":"三上埜乃花"},{"$f":"[1]ボール投げ!C47","v":"立　待"},{"$f":"[1]ボール投げ!D47","v":8},{"$f":"[1]ボール投げ!E47","v":"渡辺実里"},{"$f":"[1]ボール投げ!F47","v":"立　待"}]
[9,null,null,{"$f":"[1]ボール投げ!A48","v":5},{"$f":"[1]ボール投げ!B48","v":"簑輪七海"},{"$f":"[1]ボール投げ!C48","v":"鳥　羽"},{"$f":"[1]ボール投げ!D48","v":5},{"$f":"[1]ボール投げ!E48","v":"森本真央"},{"$f":"[1]ボール投げ!F48","v":"鳥　羽"}]
[10,null,null,{"$f":"[1]ボール投げ!A49","v":6},{"$f":"[1]ボール投げ!B49","v":"福嶋詩乃"},{"$f":"[1]ボール投げ!C49","v":"中　河"},{"$f":"[1]ボール投げ!D49","v":6},{"$f":"[1]ボール投げ!E49","v":"武田衣咲"},{"$f":"[1]ボール投げ!F49","v":"中　河"}]
[11,null,null,{"$f":"[1]ボール投げ!A50","v":9},{"$f":"[1]ボール投げ!B50","v":"加藤 歩音"},{"$f":"[1]ボール投げ!C50","v":"吉　川"},{"$f":"[1]ボール投げ!D50","v":9},{"$f":"[1]ボール投げ!E50","v":"松宮 由奈"},{"$f":"[1]ボール投げ!F50","v":"吉　川"}]
[12,null,null,{"$f":"[1]ボール投げ!A51","v":1},{"$f":"[1]ボール投げ!B51","v":"田村春菜"},{"$f":"[1]ボール投げ!C51","v":"惜　陰"},{"$f":"[1]ボール投げ!D51","v":1},{"$f":"[1]ボール投げ!E51","v":"吉田桜子"},{"$f":"[1]ボール投げ!F51","v":"惜　陰"}]
[13,null,"５年男子",{"$f":"[1]ボール投げ!A60","v":6},{"$f":"[1]ボール投げ!B60","v":"増永大志郎"},{"$f":"[1]ボール投げ!C60","v":"中　河"},{"$f":"[1]ボール投げ!D60","v":6},{"$f":"[1]ボール投げ!E60","v":"笠嶋想太"},{"$f":"[1]ボール投げ!F60","v":"中　河"}]
[14,null,null,{"$f":"[1]ボール投げ!A61","v":3},{"$f":"[1]ボール投げ!B61","v":"山根慎之介"},{"$f":"[1]ボール投げ!C61","v":"鯖江東"},{"$f":"[1]ボール投げ!D61","v":3},{"$f":"[1]ボール投げ!E61","v":"木下仁志"},{"$f":"[1]ボール投げ!F61","v":"鯖江東"}]
[15,null,null,{"$f":"[1]ボール投げ!A62","v":10},{"$f":"[1]ボール投げ!B62","v":"井上颯太"},{"$f":"[1]ボール投げ!C62","v":" 豊 "},{"$f":"[1]ボール投げ!D62","v":10},{"$f":"[1]ボール投げ!E62","v":"吾田咲人"},{"$f":"[1]ボール投げ!F62","v":" 豊 "}]
[16,null,null,{"$f":"[1]ボール投げ!A63","v":12},{"$f":"[1]ボール投げ!B63","v":"淵上一地"},{"$f":"[1]ボール投げ!C63","v":"河和田"},{"$f":"[1]ボール投げ!D63","v":12},{"$f":"[1]ボール投げ!E63","v":"能村和志"},{"$f":"[1]ボール投げ!F63","v":"河和田"}]
[17,null,null,{"$f":"[1]ボール投げ!A64","v":5},{"$f":"[1]ボール投げ!B64","v":"前田海翔"},{"$f":"[1]ボール投げ!C64","v":"鳥　羽"},{"$f":"[1]ボール投げ!D64","v":5},{"$f":"[1]ボール投げ!E64","v":"清水丈一郎"},{"$f":"[1]ボール投げ!F64","v":"鳥　羽"}]
[18,null,null,{"$f":"[1]ボール投げ!A65","v":11},{"$f":"[1]ボール投げ!B65","v":"福岡匠海"},{"$f":"[1]ボール投げ!C65","v":"北中山"},{"$f":"[1]ボール投げ!D65","v":11},{"$f":"[1]ボール投げ!E65","v":"山本敦広"},{"$f":"[1]ボール投げ!F65","v":"北中山"}]
[19,null,null,{"$f":"[1]ボール投げ!A66","v":2},{"$f":"[1]ボール投げ!B66","v":"平田　海智"},{"$f":"[1]ボール投げ!C66","v":"進　徳"},{"$f":"[1]ボール投げ!D66","v":2},{"$f":"[1]ボール投げ!E66","v":"関野　祐輔"},{"$f":"[1]ボール投げ!F66","v":"進　徳"}]
[20,null,null,{"$f":"[1]ボール投げ!A67","v":9},{"$f":"[1]ボール投げ!B67","v":"木津 慎之介"},{"$f":"[1]ボール投げ!C67","v":"吉　川"},{"$f":"[1]ボール投げ!D67","v":9},{"$f":"[1]ボール投げ!E67","v":"竹嶋 健杜"},{"$f":"[1]ボール投げ!F67","v":"吉　川"}]
[21,null,null,{"$f":"[1]ボール投げ!A68","v":4},{"$f":"[1]ボール投げ!B68","v":"惣宇利翔太"},{"$f":"[1]ボール投げ!C68","v":"神　明"},{"$f":"[1]ボール投げ!D68","v":4},{"$f":"[1]ボール投げ!E68","v":"友田泰成"},{"$f":"[1]ボール投げ!F68","v":"神　明"}]
[22,null,null,{"$f":"[1]ボール投げ!A69","v":1},{"$f":"[1]ボール投げ!B69","v":"中村勝"},{"$f":"[1]ボール投げ!C69","v":"惜　陰"},{"$f":"[1]ボール投げ!D69","v":1},{"$f":"[1]ボール投げ!E69","v":"濵野孝教"},{"$f":"[1]ボール投げ!F69","v":"惜　陰"}]
[23,null,null,{"$f":"[1]ボール投げ!A70","v":8},{"$f":"[1]ボール投げ!B70","v":"渡邉駿介"},{"$f":"[1]ボール投げ!C70","v":"立　待"},{"$f":"[1]ボール投げ!D70","v":8},{"$f":"[1]ボール投げ!E70","v":"古庄陽心"},{"$f":"[1]ボール投げ!F70","v":"立　待"}]
[24,null,null,{"$f":"[1]ボール投げ!A71","v":7},{"$f":"[1]ボール投げ!B71","v":"川上輝人"},{"$f":"[1]ボール投げ!C71","v":"片　上"},{"$f":"[1]ボール投げ!D71","v":7},{"$f":"[1]ボール投げ!E71","v":"笠島竜位"},{"$f":"[1]ボール投げ!F71","v":"片　上"}]
[25,null,"６年女子",{"$f":"[1]ボール投げ!A80","v":8},{"$f":"[1]ボール投げ!B80","v":"鈴木麻央"},{"$f":"[1]ボール投げ!C80","v":"立　待"},{"$f":"[1]ボール投げ!D80","v":8},{"$f":"[1]ボール投げ!E80","v":"藪瑚々那"},{"$f":"[1]ボール投げ!F80","v":"立　待"}]
[26,null,null,{"$f":"[1]ボール投げ!A81","v":9},{"$f":"[1]ボール投げ!B81","v":"川崎　百恵"},{"$f":"[1]ボール投げ!C81","v":"吉　川"},{"$f":"[1]ボール投げ!D81","v":9},{"$f":"[1]ボール投げ!E81","v":"水嶋　美咲"},{"$f":"[1]ボール投げ!F81","v":"吉　川"}]
[27,null,null,{"$f":"[1]ボール投げ!A82","v":11},{"$f":"[1]ボール投げ!B82","v":"玉村莉瑚"},{"$f":"[1]ボール投げ!C82","v":"北中山"},{"$f":"[1]ボール投げ!D82","v":11},{"$f":"[1]ボール投げ!E82","v":"森井綾菜"},{"$f":"[1]ボール投げ!F82","v":"北中山"}]
[28,null,null,{"$f":"[1]ボール投げ!A83","v":6},{"$f":"[1]ボール投げ!B83","v":"山本結香"},{"$f":"[1]ボール投げ!C83","v":"中　河"},{"$f":"[1]ボール投げ!D83","v":6},{"$f":"[1]ボール投げ!E83","v":"関心葉"},{"$f":"[1]ボール投げ!F83","v":"中　河"}]
[29,null,null,{"$f":"[1]ボール投げ!A84","v":7},{"$f":"[1]ボール投げ!B84","v":"島田和佳"},{"$f":"[1]ボール投げ!C84","v":"片　上"},{"$f":"[1]ボール投げ!D84","v":7},{"$f":"[1]ボール投げ!E84","v":"前田芙羽"},{"$f":"[1]ボール投げ!F84","v":"片　上"}]
[30,null,null,{"$f":"[1]ボール投げ!A85","v":12},{"$f":"[1]ボール投げ!B85","v":"渡辺みなと"},{"$f":"[1]ボール投げ!C85","v":"河和田"},{"$f":"[1]ボール投げ!D85","v":12},{"$f":"[1]ボール投げ!E85","v":"丸山夏歩"},{"$f":"[1]ボール投げ!F85","v":"河和田"}]
[31,null,null,{"$f":"[1]ボール投げ!A86","v":3},{"$f":"[1]ボール投げ!B86","v":"岡本夢花"},{"$f":"[1]ボール投げ!C86","v":"鯖江東"},{"$f":"[1]ボール投げ!D86","v":3},{"$f":"[1]ボール投げ!E86","v":"三田村優里"},{"$f":"[1]ボール投げ!F86","v":"鯖江東"}]
[32,null,null,{"$f":"[1]ボール投げ!A87","v":10},{"$f":"[1]ボール投げ!B87","v":"吉田咲空"},{"$f":"[1]ボール投げ!C87","v":" 豊 "},{"$f":"[1]ボール投げ!D87","v":10},{"$f":"[1]ボール投げ!E87","v":"永田未唯"},{"$f":"[1]ボール投げ!F87","v":" 豊 "}]
[33,null,null,{"$f":"[1]ボール投げ!A88","v":1},{"$f":"[1]ボール投げ!B88","v":"山本茉瑚"},{"$f":"[1]ボール投げ!C88","v":"惜　陰"},{"$f":"[1]ボール投げ!D88","v":1},{"$f":"[1]ボール投げ!E88","v":"大柳美心"},{"$f":"[1]ボール投げ!F88","v":"惜　陰"}]
[34,null,null,{"$f":"[1]ボール投げ!A89","v":2},{"$f":"[1]ボール投げ!B89","v":"河野　桜子"},{"$f":"[1]ボール投げ!C89","v":"進　徳"},{"$f":"[1]ボール投げ!D89","v":2},{"$f":"[1]ボール投げ!E89","v":"牧野　楓香"},{"$f":"[1]ボール投げ!F89","v":"進　徳"}]
[35,null,null,{"$f":"[1]ボール投げ!A90","v":4},{"$f":"[1]ボール投げ!B90","v":"坂川結咲"},{"$f":"[1]ボール投げ!C90","v":"神　明"},{"$f":"[1]ボール投げ!D90","v":4},{"$f":"[1]ボール投げ!E90","v":"吉村緋那"},{"$f":"[1]ボール投げ!F90","v":"神　明"}]
[36,null,null,{"$f":"[1]ボール投げ!A91","v":5},{"$f":"[1]ボール投げ!B91","v":"小林みゅう"},{"$f":"[1]ボール投げ!C91","v":"鳥　羽"},{"$f":"[1]ボール投げ!D91","v":5},{"$f":"[1]ボール投げ!E91","v":"太田ゆき"},{"$f":"[1]ボール投げ!F91","v":"鳥　羽"}]
[37,null,"６年男子",{"$f":"[1]ボール投げ!A100","v":8},{"$f":"[1]ボール投げ!B100","v":"板倉聖"},{"$f":"[1]ボール投げ!C100","v":"立　待"},{"$f":"[1]ボール投げ!D100","v":8},{"$f":"[1]ボール投げ!E100","v":"南研磨"},{"$f":"[1]ボール投げ!F100","v":"立　待"}]
[38,null,null,{"$f":"[1]ボール投げ!A101","v":6},{"$f":"[1]ボール投げ!B101","v":"大北陸"},{"$f":"[1]ボール投げ!C101","v":"中　河"},{"$f":"[1]ボール投げ!D101","v":6},{"$f":"[1]ボール投げ!E101","v":"熊野恵汰"},{"$f":"[1]ボール投げ!F101","v":"中　河"}]
[39,null,null,{"$f":"[1]ボール投げ!A102","v":11},{"$f":"[1]ボール投げ!B102","v":"山田広明"},{"$f":"[1]ボール投げ!C102","v":"北中山"},{"$f":"[1]ボール投げ!D102","v":11},{"$f":"[1]ボール投げ!E102","v":"石塚隼"},{"$f":"[1]ボール投げ!F102","v":"北中山"}]
[40,null,null,{"$f":"[1]ボール投げ!A103","v":3},{"$f":"[1]ボール投げ!B103","v":"山内一稀"},{"$f":"[1]ボール投げ!C103","v":"鯖江東"},{"$f":"[1]ボール投げ!D103","v":3},{"$f":"[1]ボール投げ!E103","v":"橋本快斗"},{"$f":"[1]ボール投げ!F103","v":"鯖江東"}]
[41,null,null,{"$f":"[1]ボール投げ!A104","v":4},{"$f":"[1]ボール投げ!B104","v":"山口陽暉"},{"$f":"[1]ボール投げ!C104","v":"神　明"},{"$f":"[1]ボール投げ!D104","v":4},{"$f":"[1]ボール投げ!E104","v":"菊野晴輝"},{"$f":"[1]ボール投げ!F104","v":"神　明"}]
[42,null,null,{"$f":"[1]ボール投げ!A105","v":2},{"$f":"[1]ボール投げ!B105","v":"近藤　大空"},{"$f":"[1]ボール投げ!C105","v":"進　徳"},{"$f":"[1]ボール投げ!D105","v":2},{"$f":"[1]ボール投げ!E105","v":"前田　恭吾"},{"$f":"[1]ボール投げ!F105","v":"進　徳"}]
[43,null,null,{"$f":"[1]ボール投げ!A106","v":7},{"$f":"[1]ボール投げ!B106","v":"前川翔英"},{"$f":"[1]ボール投げ!C106","v":"片　上"},{"$f":"[1]ボール投げ!D106","v":7},{"$f":"[1]ボール投げ!E106","v":"笠島優太"},{"$f":"[1]ボール投げ!F106","v":"片　上"}]
[44,null,null,{"$f":"[1]ボール投げ!A107","v":1},{"$f":"[1]ボール投げ!B107","v":"山田悠斗"},{"$f":"[1]ボール投げ!C107","v":"惜　陰"},{"$f":"[1]ボール投げ!D107","v":1},{"$f":"[1]ボール投げ!E107","v":"山森藍暁"},{"$f":"[1]ボール投げ!F107","v":"惜　陰"}]
[45,null,null,{"$f":"[1]ボール投げ!A108","v":9},{"$f":"[1]ボール投げ!B108","v":"島津　翔吾"},{"$f":"[1]ボール投げ!C108","v":"吉　川"},{"$f":"[1]ボール投げ!D108","v":9},{"$f":"[1]ボール投げ!E108","v":"堀内　拳士郎"},{"$f":"[1]ボール投げ!F108","v":"吉　川"}]
[46,null,null,{"$f":"[1]ボール投げ!A109","v":5},{"$f":"[1]ボール投げ!B109","v":"吉田樹利"},{"$f":"[1]ボール投げ!C109","v":"鳥　羽"},{"$f":"[1]ボール投げ!D109","v":5},{"$f":"[1]ボール投げ!E109","v":"田畑祈志"},{"$f":"[1]ボール投げ!F109","v":"鳥　羽"}]
[47,null,null,{"$f":"[1]ボール投げ!A110","v":12},{"$f":"[1]ボール投げ!B110","v":"武田海佑"},{"$f":"[1]ボール投げ!C110","v":"河和田"},{"$f":"[1]ボール投げ!D110","v":12},{"$f":"[1]ボール投げ!E110","v":"谷口康介"},{"$f":"[1]ボール投げ!F110","v":"河和田"}]
[48,null,null,{"$f":"[1]ボール投げ!A111","v":10},{"$f":"[1]ボール投げ!B111","v":"村上慎之介"},{"$f":"[1]ボール投げ!C111","v":" 豊 "},{"$f":"[1]ボール投げ!D111","v":10},{"$f":"[1]ボール投げ!E111","v":"坂井翔太郎"},{"$f":"[1]ボール投げ!F111","v":" 豊 "}]
[1,"リレー","５年女子",{"$f":"[1]リレー!A40","v":8},{"$f":"[1]リレー!B40","v":"林愛莉"},{"$f":"[1]リレー!D40","v":"立　待"},{"$f":"[1]リレー!E40","v":3},{"$f":"[1]リレー!F40","v":"吉田名瑠"},{"$f":"[1]リレー!H40","v":"鯖江東"}]
[2,null,null,null,{"$f":"[1]リレー!C40","v":"川﨑野々香"},null,null,{"$f":"[1]リレー!G40","v":"堀結葉"}]
[3,null,null,null,{"$f":"[1]リレー!B41","v":"木下璃想愛"},null,null,{"$f":"[1]リレー!F41","v":"石田愛翔"}]
[4,null,null,null,{"$f":"[1]リレー!C41","v":"尾武華蓮"},null,null,{"$f":"[1]リレー!G41","v":"山岸あかり"}]
[5,null,null,{"$f":"[1]リレー!A42","v":9},{"$f":"[1]リレー!B42","v":"牧野 綺羅"},{"$f":"[1]リレー!D42","v":"吉　川"},{"$f":"[1]リレー!E42","v":7},{"$f":"[1]リレー!F42","v":"田村寧々"},{"$f":"[1]リレー!H42","v":"片　上"}]
[6,null,null,null,{"$f":"[1]リレー!C42","v":"元井 深友"},null,null,{"$f":"[1]リレー!G42","v":"杉原歩佳"}]
[7,null,null,null,{"$f":"[1]リレー!B43","v":"加藤 みわ"},null,null,{"$f":"[1]リレー!F43","v":"出水彩花"}]
[8,null,null,null,{"$f":"[1]リレー!C43","v":"柴田 実侑"},null,null,{"$f":"[1]リレー!G43","v":"西川梓央里"}]
[9,null,null,{"$f":"[1]リレー!A44","v":2},{"$f":"[1]リレー!B44","v":"清水真菜実"},{"$f":"[1]リレー!D44","v":"進　徳"},{"$f":"[1]リレー!E44","v":1},{"$f":"[1]リレー!F44","v":"飯田美樹"},{"$f":"[1]リレー!H44","v":"惜　陰"}]
[10,null,null,null,{"$f":"[1]リレー!C44","v":"田辺　雪乃"},null,null,{"$f":"[1]リレー!G44","v":"冨樫陽菜"}]
[11,null,null,null,{"$f":"[1]リレー!B45","v":"揚原　桃花"},null,null,{"$f":"[1]リレー!F45","v":"田中唯茉"}]
[12,null,null,null,{"$f":"[1]リレー!C45","v":"細川　彩夏"},null,null,{"$f":"[1]リレー!G45","v":"髙橋優香"}]
[13,null,null,{"$f":"[1]リレー!A46","v":12},{"$f":"[1]リレー!B46","v":"中川詩央里"},{"$f":"[1]リレー!D46","v":"河和田"},{"$f":"[1]リレー!E46","v":5},{"$f":"[1]リレー!F46","v":"嶋崎想子"},{"$f":"[1]リレー!H46","v":"鳥　羽"}]
[14,null,null,null,{"$f":"[1]リレー!C46","v":"澤田笑唯奈"},null,null,{"$f":"[1]リレー!G46","v":"吉田帆麻里"}]
[15,null,null,null,{"$f":"[1]リレー!B47","v":"内田莉子"},null,null,{"$f":"[1]リレー!F47","v":"宇野由莉香"}]
[16,null,null,null,{"$f":"[1]リレー!C47","v":"井上祐佳"},null,null,{"$f":"[1]リレー!G47","v":"齋藤可恋"}]
[17,null,null,{"$f":"[1]リレー!A48","v":4},{"$f":"[1]リレー!B48","v":"古谷果音"},{"$f":"[1]リレー!D48","v":"神　明"},{"$f":"[1]リレー!E48","v":11},{"$f":"[1]リレー!F48","v":"石塚咲季"},{"$f":"[1]リレー!H48","v":"北中山"}]
[18,null,null,null,{"$f":"[1]リレー!C48","v":"黒田美優"},null,null,{"$f":"[1]リレー!G48","v":"田代愛莉"}]
[19,null,null,null,{"$f":"[1]リレー!B49","v":"德本仁菜"},null,null,{"$f":"[1]リレー!F49","v":"西川伶奈"}]
[20,null,null,null,{"$f":"[1]リレー!C49","v":"上杉桜礼"},null,null,{"$f":"[1]リレー!G49","v":"村岡佑霞"}]
[21,null,null,{"$f":"[1]リレー!A50","v":10},{"$f":"[1]リレー!B50","v":"永坂まひる"},{"$f":"[1]リレー!D50","v":" 豊 "},{"$f":"[1]リレー!E50","v":6},{"$f":"[1]リレー!F50","v":"小野夏紀"},{"$f":"[1]リレー!H50","v":"中　河"}]
[22,null,null,null,{"$f":"[1]リレー!C50","v":"手鹿ティナ"},null,null,{"$f":"[1]リレー!G50","v":"大塚凜"}]
[23,null,null,null,{"$f":"[1]リレー!B51","v":"小倉咲月"},null,null,{"$f":"[1]リレー!F51","v":"林ことな"}]
[24,null,null,null,{"$f":"[1]リレー!C51","v":"片岡志菜"},null,null,{"$f":"[1]リレー!G51","v":"中村桜"}]
[25,null,"５年男子",{"$f":"[1]リレー!A60","v":7},{"$f":"[1]リレー!B60","v":"笠島竜位"},{"$f":"[1]リレー!D60","v":"片　上"},{"$f":"[1]リレー!E60","v":2},{"$f":"[1]リレー!F60","v":"飯島　大翔"},{"$f":"[1]リレー!H60","v":"進　徳"}]
[26,null,null,null,{"$f":"[1]リレー!C60","v":"山﨑佑人"},null,null,{"$f":"[1]リレー!G60","v":"津野　大悟"}]
[27,null,null,null,{"$f":"[1]リレー!B61","v":"齋藤晴一"},null,null,{"$f":"[1]リレー!F61","v":"熊野　陽仁"}]
[28,null,null,null,{"$f":"[1]リレー!C61","v":"福島悠太　"},null,null,{"$f":"[1]リレー!G61","v":"平田　海智"}]
[29,null,null,{"$f":"[1]リレー!A62","v":1},{"$f":"[1]リレー!B62","v":"齋藤正義"},{"$f":"[1]リレー!D62","v":"惜　陰"},{"$f":"[1]リレー!E62","v":12},{"$f":"[1]リレー!F62","v":"山㟁 泰楽"},{"$f":"[1]リレー!H62","v":"河和田"}]
[30,null,null,null,{"$f":"[1]リレー!C62","v":"濵野孝教"},null,null,{"$f":"[1]リレー!G62","v":"土田淳士"}]
[31,null,null,null,{"$f":"[1]リレー!B63","v":"井上開斗"},null,null,{"$f":"[1]リレー!F63","v":"蓑輪達灯"}]
[32,null,null,null,{"$f":"[1]リレー!C63","v":"田中優斗"},null,null,{"$f":"[1]リレー!G63","v":"多田大志"}]
[33,null,null,{"$f":"[1]リレー!A64","v":10},{"$f":"[1]リレー!B64","v":"村岡飛翔"},{"$f":"[1]リレー!D64","v":" 豊 "},{"$f":"[1]リレー!E64","v":3},{"$f":"[1]リレー!F64","v":"中川貴空"},{"$f":"[1]リレー!H64","v":"鯖江東"}]
[34,null,null,null,{"$f":"[1]リレー!C64","v":"樫原丈太郎"},null,null,{"$f":"[1]リレー!G64","v":"吉村司"}]
[35,null,null,null,{"$f":"[1]リレー!B65","v":"栁田莉夢"},null,null,{"$f":"[1]リレー!F65","v":"岩壁篤史"}]
[36,null,null,null,{"$f":"[1]リレー!C65","v":"山下悠磨"},null,null,{"$f":"[1]リレー!G65","v":"齋藤修成"}]
[37,null,null,{"$f":"[1]リレー!A66","v":9},{"$f":"[1]リレー!B66","v":"澤野 凌駕"},{"$f":"[1]リレー!D66","v":"吉　川"},{"$f":"[1]リレー!E66","v":8},{"$f":"[1]リレー!F66","v":"笠島隼矢"},{"$f":"[1]リレー!H66","v":"立　待"}]
[38,null,null,null,{"$f":"[1]リレー!C66","v":"山崎 敏輝"},null,null,{"$f":"[1]リレー!G66","v":"垣本愛斗"}]
[39,null,null,null,{"$f":"[1]リレー!B67","v":"山口 羽琉"},null,null,{"$f":"[1]リレー!F67","v":"中村嘉宏"}]
[40,null,null,null,{"$f":"[1]リレー!C67","v":"山口 隼叶"},null,null,{"$f":"[1]リレー!G67","v":"有馬魁兜"}]
[41,null,null,{"$f":"[1]リレー!A68","v":6},{"$f":"[1]リレー!B68","v":"品川次郎"},{"$f":"[1]リレー!D68","v":"中　河"},{"$f":"[1]リレー!E68","v":4},{"$f":"[1]リレー!F68","v":"落井優稀"},{"$f":"[1]リレー!H68","v":"神　明"}]
[42,null,null,null,{"$f":"[1]リレー!C68","v":"上大門良樹"},null,null,{"$f":"[1]リレー!G68","v":"橋本泰平"}]
[43,null,null,null,{"$f":"[1]リレー!B69","v":"大門千速"},null,null,{"$f":"[1]リレー!F69","v":"宮川太志"}]
[44,null,null,null,{"$f":"[1]リレー!C69","v":"増永大志郎"},null,null,{"$f":"[1]リレー!G69","v":"加藤証"}]
[45,null,null,{"$f":"[1]リレー!A70","v":5},{"$f":"[1]リレー!B70","v":"横村晴"},{"$f":"[1]リレー!D70","v":"鳥　羽"},{"$f":"[1]リレー!E70","v":11},{"$f":"[1]リレー!F70","v":"酒井夢雅"},{"$f":"[1]リレー!H70","v":"北中山"}]
[46,null,null,null,{"$f":"[1]リレー!C70","v":"建石大和"},null,null,{"$f":"[1]リレー!G70","v":"山本敦広"}]
[47,null,null,null,{"$f":"[1]リレー!B71","v":"前田海翔"},null,null,{"$f":"[1]リレー!F71","v":"山内脩誠"}]
[48,null,null,null,{"$f":"[1]リレー!C71","v":"清水丈一郎"},null,null,{"$f":"[1]リレー!G71","v":"福岡匠海"}]
[49,null,"６年女子",{"$f":"[1]リレー!A80","v":3},{"$f":"[1]リレー!B80","v":"辻真愛咲"},{"$f":"[1]リレー!D80","v":"鯖江東"},{"$f":"[1]リレー!E80","v":8},{"$f":"[1]リレー!F80","v":"西村緋那理"},{"$f":"[1]リレー!H80","v":"立　待"}]
[50,null,null,null,{"$f":"[1]リレー!C80","v":"丸田琴音"},null,null,{"$f":"[1]リレー!G80","v":"和泉英紗"}]
[51,null,null,null,{"$f":"[1]リレー!B81","v":"山岸愛子"},null,null,{"$f":"[1]リレー!F81","v":"西村栞"}]
[52,null,null,null,{"$f":"[1]リレー!C81","v":"齋藤楓花"},null,null,{"$f":"[1]リレー!G81","v":"紫阿南"}]
[53,null,null,{"$f":"[1]リレー!A82","v":2},{"$f":"[1]リレー!B82","v":"原　日鶴"},{"$f":"[1]リレー!D82","v":"進　徳"},{"$f":"[1]リレー!E82","v":12},{"$f":"[1]リレー!F82","v":"増永安莉"},{"$f":"[1]リレー!H82","v":"河和田"}]
[54,null,null,null,{"$f":"[1]リレー!C82","v":"岩尾　春花"},null,null,{"$f":"[1]リレー!G82","v":"内田杏実"}]
[55,null,null,null,{"$f":"[1]リレー!B83","v":"丸田　菜摘"},null,null,{"$f":"[1]リレー!F83","v":"安達美悠"}]
[56,null,null,null,{"$f":"[1]リレー!C83","v":"瀧波　奈々"},null,null,{"$f":"[1]リレー!G83","v":"道屋愛菜"}]
[57,null,null,{"$f":"[1]リレー!A84","v":5},{"$f":"[1]リレー!B84","v":"高野仁愛"},{"$f":"[1]リレー!D84","v":"鳥　羽"},{"$f":"[1]リレー!E84","v":1},{"$f":"[1]リレー!F84","v":"助田夕夏"},{"$f":"[1]リレー!H84","v":"惜　陰"}]
[58,null,null,null,{"$f":"[1]リレー!C84","v":"山本晏"},null,null,{"$f":"[1]リレー!G84","v":"岩壁十和"}]
[59,null,null,null,{"$f":"[1]リレー!B85","v":"田村祐佳"},null,null,{"$f":"[1]リレー!F85","v":"谷田理鳳"}]
[60,null,null,null,{"$f":"[1]リレー!C85","v":"城山心那"},null,null,{"$f":"[1]リレー!G85","v":"佐藤晴瑠菜"}]
[61,null,null,{"$f":"[1]リレー!A86","v":10},{"$f":"[1]リレー!B86","v":"田辺　栞"},{"$f":"[1]リレー!D86","v":" 豊 "},{"$f":"[1]リレー!E86","v":6},{"$f":"[1]リレー!F86","v":"飯田瑞紀"},{"$f":"[1]リレー!H86","v":"中　河"}]
[62,null,null,null,{"$f":"[1]リレー!C86","v":"徳橋美咲"},null,null,{"$f":"[1]リレー!G86","v":"齋藤鈴夏"}]
[63,null,null,null,{"$f":"[1]リレー!B87","v":"中島琉星"},null,null,{"$f":"[1]リレー!F87","v":"齋藤智子"}]
[64,null,null,null,{"$f":"[1]リレー!C87","v":"池上亜季"},null,null,{"$f":"[1]リレー!G87","v":"橋本一夏"}]
[65,null,null,{"$f":"[1]リレー!A88","v":11},{"$f":"[1]リレー!B88","v":"佐々木香菜実"},{"$f":"[1]リレー!D88","v":"北中山"},{"$f":"[1]リレー!E88","v":7},{"$f":"[1]リレー!F88","v":"福田来羽"},{"$f":"[1]リレー!H88","v":"片　上"}]
[66,null,null,null,{"$f":"[1]リレー!C88","v":"高橋こころ"},null,null,{"$f":"[1]リレー!G88","v":"島田和佳"}]
[67,null,null,null,{"$f":"[1]リレー!B89","v":"玉村莉瑚"},null,null,{"$f":"[1]リレー!F89","v":"安田奈央"}]
[68,null,null,null,{"$f":"[1]リレー!C89","v":"黒田紅葉"},null,null,{"$f":"[1]リレー!G89","v":"清水葵生"}]
[69,null,null,{"$f":"[1]リレー!A90","v":4},{"$f":"[1]リレー!B90","v":"佐々木　希歩"},{"$f":"[1]リレー!D90","v":"神　明"},{"$f":"[1]リレー!E90","v":9},{"$f":"[1]リレー!F90","v":"清水　舞優"},{"$f":"[1]リレー!H90","v":"吉　川"}]
[70,null,null,null,{"$f":"[1]リレー!C90","v":"和田絢柚子"},null,null,{"$f":"[1]リレー!G90","v":"加藤　愛結"}]
[71,null,null,null,{"$f":"[1]リレー!B91","v":"德本茉侑"},null,null,{"$f":"[1]リレー!F91","v":"西川　汐音"}]
[72,null,null,null,{"$f":"[1]リレー!C91","v":"田中奈菜"},null,null,{"$f":"[1]リレー!G91","v":"川岸　ここ菜"}]
[73,null,"６年男子",{"$f":"[1]リレー!A100","v":1},{"$f":"[1]リレー!B100","v":"高野真采"},{"$f":"[1]リレー!D100","v":"惜　陰"},{"$f":"[1]リレー!E100","v":2},{"$f":"[1]リレー!F100","v":"熊野　月音"},{"$f":"[1]リレー!H100","v":"進　徳"}]
[74,null,null,null,{"$f":"[1]リレー!C100","v":"田中康晴"},null,null,{"$f":"[1]リレー!G100","v":"河合　陽一"}]
[75,null,null,null,{"$f":"[1]リレー!B101","v":"山森藍暁"},null,null,{"$f":"[1]リレー!F101","v":"齋藤　大晟"}]
[76,null,null,null,{"$f":"[1]リレー!C101","v":"井上朝日"},null,null,{"$f":"[1]リレー!G101","v":"水野　俊"}]
[77,null,null,{"$f":"[1]リレー!A102","v":9},{"$f":"[1]リレー!B102","v":"久島　陽"},{"$f":"[1]リレー!D102","v":"吉　川"},{"$f":"[1]リレー!E102","v":7},{"$f":"[1]リレー!F102","v":"中出颯空"},{"$f":"[1]リレー!H102","v":"片　上"}]
[78,null,null,null,{"$f":"[1]リレー!C102","v":"向　航生"},null,null,{"$f":"[1]リレー!G102","v":"山口了生"}]
[79,null,null,null,{"$f":"[1]リレー!B103","v":"志村　碧"},null,null,{"$f":"[1]リレー!F103","v":"笠島優太"}]
[80,null,null,null,{"$f":"[1]リレー!C103","v":"針原　歩"},null,null,{"$f":"[1]リレー!G103","v":"為永優希"}]
[81,null,null,{"$f":"[1]リレー!A104","v":3},{"$f":"[1]リレー!B104","v":"岩壁優汰"},{"$f":"[1]リレー!D104","v":"鯖江東"},{"$f":"[1]リレー!E104","v":10},{"$f":"[1]リレー!F104","v":"真柄　央"},{"$f":"[1]リレー!H104","v":" 豊 "}]
[82,null,null,null,{"$f":"[1]リレー!C104","v":"山内一稀"},null,null,{"$f":"[1]リレー!G104","v":"榊原尚希"}]
[83,null,null,null,{"$f":"[1]リレー!B105","v":"上木龍二"},null,null,{"$f":"[1]リレー!F105","v":"坂井翔太郎"}]
[84,null,null,null,{"$f":"[1]リレー!C105","v":"森田結翔"},null,null,{"$f":"[1]リレー!G105","v":"川上空大"}]
[85,null,null,{"$f":"[1]リレー!A106","v":4},{"$f":"[1]リレー!B106","v":"瀧波和大"},{"$f":"[1]リレー!D106","v":"神　明"},{"$f":"[1]リレー!E106","v":6},{"$f":"[1]リレー!F106","v":"大北陸"},{"$f":"[1]リレー!H106","v":"中　河"}]
[86,null,null,null,{"$f":"[1]リレー!C106","v":"山本虎輝"},null,null,{"$f":"[1]リレー!G106","v":"竹嶋樹生"}]
[87,null,null,null,{"$f":"[1]リレー!B107","v":"和多田亮太"},null,null,{"$f":"[1]リレー!F107","v":"佐々木謙太郎"}]
[88,null,null,null,{"$f":"[1]リレー!C107","v":"村島恭矢"},null,null,{"$f":"[1]リレー!G107","v":"山田圭悟"}]
[89,null,null,{"$f":"[1]リレー!A108","v":8},{"$f":"[1]リレー!B108","v":"横瀨颯太"},{"$f":"[1]リレー!D108","v":"立　待"},{"$f":"[1]リレー!E108","v":5},{"$f":"[1]リレー!F108","v":"吉田樹利"},{"$f":"[1]リレー!H108","v":"鳥　羽"}]
[90,null,null,null,{"$f":"[1]リレー!C108","v":"北道巧真"},null,null,{"$f":"[1]リレー!G108","v":"片岡勇登"}]
[91,null,null,null,{"$f":"[1]リレー!B109","v":"富山輝空 "},null,null,{"$f":"[1]リレー!F109","v":"斎藤楽也"}]
[92,null,null,null,{"$f":"[1]リレー!C109","v":"齋藤周汰"},null,null,{"$f":"[1]リレー!G109","v":"川江凜太郎"}]
[93,null,null,{"$f":"[1]リレー!A110","v":11},{"$f":"[1]リレー!B110","v":"堀雅晴"},{"$f":"[1]リレー!D110","v":"北中山"},{"$f":"[1]リレー!E110","v":12},{"$f":"[1]リレー!F110","v":"高野桜河"},{"$f":"[1]リレー!H110","v":"河和田"}]
[94,null,null,null,{"$f":"[1]リレー!C110","v":"山田広明"},null,null,{"$f":"[1]リレー!G110","v":"谷口康介"}]
[95,null,null,null,{"$f":"[1]リレー!B111","v":"堀実琉"},null,null,{"$f":"[1]リレー!F111","v":"冨田大翔"}]
[96,null,null,null,{"$f":"[1]リレー!C111","v":"金粕武尊"},null,null,{"$f":"[1]リレー!G111","v":"佐々木学道"}]